{"text_format":"1","workbook":"xlsx","n_sheets":4,"sheets":["selite","KEHIKKO","pohjatiedot","väestöennuste"],"not_rendered":{"charts":2,"images":0,"macros":0,"external_links":1,"defined_names":3,"comments":0,"pivot_tables":0},"unopened":[],"bounds":{"document_bytes":16777216,"sheet_cells":100000,"rows_first":2000,"rows_last":500,"rows_between":2000,"halvings":0,"cell_chars":16384,"cell_head_chars":4096},"cells_cut":0,"cells_raw":0,"read":"whole","date_system":"1900"}

{"sheet":"selite","index":0,"n_rows":69,"n_cols":8,"rows_kept":69,"cut":false,"hidden":false,"merged":[]}
["VALTIOVARAINMINISTERIÖ/Kunta- ja aluehallinto-osasto/vjl",null,null,null,null,null,null,"2017-10-30"]
[]
["KUNTAKONSERNIN TALOUDEN SUUNNITTELUKEHIKKO"]
[]
["Kehikon käyttötarkoitus:"]
["Vuorovaikutteinen kuntakonsernin talouden suunnittelun apuväline. Kehikon avulla voidaan suunnitella konsernin talouden"]
["kehitystä pidemmällä aikavälillä. Tarkastelun kohteena ovat konsernin tuloslaskelma, rahoituslaskelmasta rahavarat, antolainat ja"]
["investoinnit sekä taseesta lainat ja kertynyt yli-/alijäämä. Pohjatietoina kehikossa ovat 2 viimeksi "]
["valmistunutta tilinpäätöstä. "]
["Tulevan kehityksen osalta tuloslaskelman erien kasvuolettamukset pohjautuvat lähtökohtaisesti"]
["uusimman valtion kuntatalousohjelman (elokuu 2017) mukaisiin makroarviolukuihin - ei kuntakohtaisiin ennusteisiin. "]
["Käyttäjä voi kuitenkin itse muokata em. kasvuolettamuksia sekä yleensä tuloslaskelman muita eriä."]
["Myös tuloveroprosenttia, investointeja ja antolainasaamisten määrää voidaan muuttaa."]
["Rahoituslaskelman ja taseen erät pohjautuvat jäljempänä selostettuihin olettamuksiin"]
["(pl. taseen kertynyt yli-/alijäämä = ed. tilikausien yli-/alijäämä + tilikauden yli-/alijäämä)."]
[]
["Käyttäjä voi muokata vaaleansinisellä pohjalla olevia kohtia (soluja)."]
[]
["Kehikon laskentapohja:"]
["Asukasluku:"]
["Kunnan asukaslukuina käytetään lähtökohtaisesti viimeisintä väestötietoa (tässä 31.12.2016). Tulevien vuosien"]
["osalta asukaslukutiedot perustuvat tilastokeskuksen viimeisimpään väestöennusteeseen (TK, 2015)."]
["Tuloveroprosentti:"]
["Tuloveroprosentti perustuu viimeksi vahvistettuun tietoon (tässä vuoden 2017 veroprosentti). Tulevien vuosien osalta"]
["tuloveroprosentti on lähtökohtaisesti sama kuin edellisvuonna, mutta sitä voidaan muuttaa kehikossa. Kehikko"]
["laskee automaattisesti veroprosentin muutoksen vaikutuksen kunnallisveron tuottoon (edellisvuoden "]
["veroprosenttiyksikön tuoton perusteella)."]
["Tuloslaskelma:"]
["Tuloslaskelman pohjana ovat kuntien tilinpäätökset kahdelta viimeiseltä vuodelta. Tässä tapauksessa vuodet "]
["2015 ja 2016. Tuloslaskelman keskeisten erien tulevien vuosien kasvuprosentit perustuvat lähtökohtaisesti"]
["kuntatalousohjelman (KTO 2018, VM, elokuu 2017) mukaisiin makroennusteisiin eli kasvuprosentit "]
["ovat näin kaikilla kunnilla samat. Em. keskeiset tuloslaskelman erät ovat seuraavat:"]
[null,"1) toimintatuotot,"]
[null,"2) toimintamenot,"]
[null,"3) kunnallisverot (pl. veroprosentin noston vaikutus),"]
[null,"4) yhteisöverot,"]
[null,"5) kiinteistöverot ja"]
[null,"6) valtionosuudet. "]
["Käyttäjä voi muokata em. erien kasvuolettamuksia haluamikseen kirjoittamalla taulukkoon uudet kasvuprosentit."]
[]
["Verotuloissa on käytetty kunnan verotuloja, koska Tilastokeskus ei kerää konsernitasolla eri veromuotoja."]
["TK:sta ilmoitettu yhteenlaskettu konsernitason verotulot saattaa poiketa perunkunnan yhteenlasketusta"]
[]
["Korkokulujen kehitys perustuu edellisvuoden lainamäärään ja valittuun korkokantaan. Korkoprosentti (keskim.) "]
["voidaan siis valita halutun mukaiseksi. Korkoprosentti ei vaikuta korkotuottoihin, vaan sen perustuu ed. vuoden määrään."]
[]
["Muiden tuloslaskelman erien on oletettu edellisvuoden mukaisesti, mutta käyttäjä voi muokata niitä haluamikseen."]
["Rahoituslaskelma ja tase:"]
["Kehikossa tuloslaskelma \"päätyy\" taseen kertyneeseen yli-/alijäämään, jolloin voidaan tarkastella esim. milloin kunnan mahdollinen "]
["taseen alijäämä tulisi katetuksi valituilla tuloslaskelman kasvuoletuksilla (vrt. kuntalaki ja alijäämän kattamisvelvollisuus)."]
[]
["Investoinnit ja niihin liittyvät rahoitusosuudet sekä pysyvien vastaavien luovutustulot ovat lähtökohtaisesti viimeksi toteutuneen "]
["tilinpäätöksen mukaiset, mutta ne ovat myös muutettavissa."]
[]
["Kehikossa ns. bruttorahoitustarve katetaan joko lainanlisäyksellä tai/ja rahavarojen purulla. Käyttäjä voi valita prosenttiosuuden,"]
["jolla rahavaroja käytetään bruttorahoitustarpeen kattamiseen. Mikäli rahavaroja ei ole, tarve katetaan kaikkiaan lainanlisäyksellä."]
["Bruttorahoitustarve voi olla myös positiivinen, jolloin \"ylijäämä\" lisää rahavaroja."]
[]
["Bruttorahoitustarve muodostuu seuraavista eristä = Vuosikate + tulorahoituksen korjauserät + satunnaiset erät, netto + investoinnit,"]
["netto + antolainasaamisten muutokset, netto + lainanlyhennykset. Bruttorahoitustarve voi olla myös positiivinen, jolloin \"ylijäämä\""]
[]
["Lainamäärää lyhennetään valitun keskimääräisen lyhennysajan (kuoletusaika) mukaan eli jos keskimääräinen lainanmaksuaika"]
["on esimerkiksi 8 vuotta, niin vuosittainen lainanlyhennys on 1/8 (12,5 %) edellisvuoden lainamäärästä. Lainanlyhennys"]
["tehdään aina, vaikka bruttorahoitustarve olisi negatiivinen. "]
[]
[]
[]
[]
["Lisätietoja: Neuvotteleva virkamies Vesa Lappalainen, puh. 02955  30389, etunimi.sukunimi@vm.fi"]

{"sheet":"KEHIKKO","index":1,"n_rows":118,"n_cols":16,"rows_kept":118,"cut":false,"hidden":false,"merged":[]}
["Valtiovarainministeriö/Kunta- ja aluehallinto-osasto/vjl",null,null,null,null,null,null,"VALITSE KUNTA:",null,null,null,"2017-10-31"]
["KUNTAKONSERNIN TALOUDEN SUUNNITTELUKEHIKKO",null,null,null,null,null,null,null,null,"Kunnat vuoden 2017 kuntajaolla"]
["Muokkaa vaaleansinisellä olevia kohtia."]
[{"$f":"INDEX(pohjatiedot!$B$3:$B$298,KEHIKKO!$A$5)","v":"KOKO MAA (Manner-Suomi)"}]
[96,"TP 2015","TP 2016",2017,2018,2019,2020,2021,2022,2023,2024,2025,2026]
["TULOSLASKELMA",null,null,null,null,null,null,null,null,null,"sama kuin ed.vuonna"]
["Asukasluku 31.12.",{"$f":"VLOOKUP($A$4,pohjatiedot!$B$3:$CD$298,2)","v":5458325},{"$f":"VLOOKUP($A$4,pohjatiedot!$B$3:$CD$298,40)","v":5474083},{"$f":"VLOOKUP($A$4,väestöennuste!$A$8:$K$305,4)","v":5482281},{"$f":"VLOOKUP($A$4,väestöennuste!$A$8:$K$305,5)","v":5503261},{"$f":"VLOOKUP($A$4,väestöennuste!$A$8:$K$305,6)","v":5524063},{"$f":"VLOOKUP($A$4,väestöennuste!$A$8:$K$305,7)","v":5544619},{"$f":"VLOOKUP($A$4,väestöennuste!$A$8:$K$305,8)","v":5564874},{"$f":"VLOOKUP($A$4,väestöennuste!$A$8:$K$305,9)","v":5584791},{"$f":"VLOOKUP($A$4,väestöennuste!$A$8:$K$305,10)","v":5604290},{"$f":"VLOOKUP($A$4,väestöennuste!$A$8:$K$305,11)","v":5623257},{"$f":"K7","v":5623257},{"$f":"L7","v":5623257},"Väestöennuste TK 2015"]
["Veroprosentti",{"$f":"VLOOKUP($A$4,pohjatiedot!$B$3:$CD$298,3)","v":19.850000000000001},{"$f":"VLOOKUP($A$4,pohjatiedot!$B$3:$CD$298,41)","v":19.89},{"$f":"VLOOKUP($A$4,pohjatiedot!$B$3:$CG$298,81)","v":19.920000000000002},{"$f":"D8","v":19.920000000000002},{"$f":"E8","v":19.920000000000002},{"$f":"VLOOKUP($A$4,pohjatiedot!$B$3:$CG$298,81)","v":19.920000000000002},19.920000000000002,19.920000000000002,19.920000000000002,19.920000000000002,19.920000000000002,19.920000000000002,null,"Vuoden 2020 veroprosentti on saatu vähentämällä kunnilta 12,47 %-yksikköä"]
["vero-% yksikön tuotto",{"$f":"B15/B8","v":929129.42065491178},945567.82302664651,{"$f":"D15/D8","v":941785.55173453991},{"$f":"E15/E8","v":962504.83387269976},992342.48372275336,458462.22747991217,444249.89842803485,430478.15157676581,417133.32887788606,404202.19568267156,391671.92761650874,379530.09786039696]
[" → noston vaikutus",null,null,{"$f":"(D8-C8)*C9","v":28367.034690800469},{"$f":"(E8-D8)*D9","v":0},0,0,0,0,0,0,0,0]
["Toimintatuotot (sis. valm. okäytt.)",{"$f":"VLOOKUP($A$4,pohjatiedot!$B$3:$CD$298,6)","v":23476833},{"$f":"VLOOKUP($A$4,pohjatiedot!$B$3:$CD$298,44)","v":23891978},{"$f":"C11*(1+D70/100)","v":22960190.857999999},{"$f":"D11*(1+E70/100)","v":23143872.384863999},{"$f":"E11*(1+F70/100)","v":23537318.215406686},{"$f":"F11*(1+G70/100)","v":18782779.935894538},{"$f":"G11*(1+H70/100)","v":19271132.214227796},19772181.651797719,20286258.37474446,20813701.092487816,21354857.320892498,21910083.611235704,null,"Näiden erin muutos-"]
["Toimintakulut",{"$f":"VLOOKUP($A$4,pohjatiedot!$B$3:$CD$298,7)","v":49847855},{"$f":"VLOOKUP($A$4,pohjatiedot!$B$3:$CD$298,45)","v":50389944},{"$f":"C12*(1+D71/100)","v":49130195.399999999},49670627.549399994,50713710.727937393,24596149.703049634,25235649.595328923,25891776.484807476,26564962.673412472,27255651.702921197,27964298.64719715,28691370.412024274,null,"prosentit syötetään"]
["Osuus osakk.yht. voitoista/tappioista",{"$f":"VLOOKUP($A$4,pohjatiedot!$B$3:$CD$298,8)","v":59655},{"$f":"VLOOKUP($A$4,pohjatiedot!$B$3:$CD$298,46)","v":68081},{"$f":"C13","v":68081},{"$f":"D13","v":68081},{"$f":"E13","v":68081},68081,68081,68081,68081,68081,68081,68081,null,"alla olevaan taulukkoon"]
["Toimintakate",{"$f":"B11-B12+B13","v":-26311367},{"$f":"C11-C12+C13","v":-26429885},{"$f":"D11-D12+D13","v":-26101923.541999999},{"$f":"E11-E12+E13","v":-26458674.164535996},-27108311.512530707,-5745288.7671550959,-5896436.3811011277,-6051513.8330097571,-6210623.298668012,-6373869.6104333811,-6541360.3263046518,-6713205.8007885702]
["Kunnallisverot",{"$f":"VLOOKUP($A$4,pohjatiedot!$B$3:$CD$298,9)","v":18443219},{"$f":"VLOOKUP($A$4,pohjatiedot!$B$3:$CD$298,47)","v":18807344},{"$f":"(C15+D10)*(1+D72/100)","v":18760368.190552037},{"$f":"(D15+E10)*(1+E72/100)","v":19173096.290744182},{"$f":"(E15+F10)*(1+F72/100)","v":19767462.275757249},{"$f":"F15*(1+G72/100)","v":9132567.5713998508},{"$f":"(G15+H10)*(1+H72/100)","v":8849457.9766864553},{"$f":"(H15+I10)*(1+I72/100)","v":8575124.7794091757},8309295.9112474909,8051707.737998818,7802104.7981208544,7560239.5493791075]
["Yhteisöverot  ",{"$f":"VLOOKUP($A$4,pohjatiedot!$B$3:$CD$298,10)","v":1638497},{"$f":"VLOOKUP($A$4,pohjatiedot!$B$3:$CD$298,48)","v":1539341},{"$f":"C16*(1+D73/100)","v":1898007.4530000002},{"$f":"D16*(1+E73/100)","v":1930273.5797010001},1984321.2399326281,1623174.77426489,1485204.9184523744,1358962.5003839226,1243450.6878512893,1137757.3793839298,1041048.0021362958,952558.92195471062]
["Kiinteistöverot",{"$f":"VLOOKUP($A$4,pohjatiedot!$B$3:$CD$298,11)","v":1581155},{"$f":"VLOOKUP($A$4,pohjatiedot!$B$3:$CD$298,49)","v":1640918},{"$f":"C17*(1+D74/100)","v":1721322.9819999998},1779847.9633879999,1836803.0982164158,1860681.5384932291,1881149.0354166543,1901841.6748062372,1922761.9332291055,1943912.3144946254,1965295.3499540661,1986913.5988035607]
["Verotulot",{"$f":"VLOOKUP($A$4,pohjatiedot!$B$3:$CD$298,12)","v":21662871},{"$f":"VLOOKUP($A$4,pohjatiedot!$B$3:$CD$298,50)","v":21987603},{"$f":"SUM(D15:D17)","v":22379698.62555204},22883217.83383318,23588586.61390629,12616423.884157971,12215811.930555485,11835928.954599336,11475508.532327885,11133377.431877373,10808448.150211217,10499712.07013738]
["Valtionosuudet",{"$f":"VLOOKUP($A$4,pohjatiedot!$B$3:$CD$298,13)","v":9442539},{"$f":"VLOOKUP($A$4,pohjatiedot!$B$3:$CD$298,51)","v":10050212},{"$f":"C19*(1+D75/100)","v":9979860.5160000008},{"$f":"D19*(1+E75/100)","v":9730364.0031000003},{"$f":"E19*(1+F75/100)","v":9350879.8069790993},{"$f":"F19*(1+G75/100)","v":2739807.7834448754},{"$f":"G19*(1+H75/100)","v":2824741.8247316661},2912308.8212983473,3002590.3947585956,3095670.6969961119,3191636.4886029912,3290577.2197496835]
[null,null,null,"Kuntatalousohjelma-->"]
["Korkotuotot",{"$f":"VLOOKUP($A$4,pohjatiedot!$B$3:$CD$298,14)","v":89280},{"$f":"VLOOKUP($A$4,pohjatiedot!$B$3:$CD$298,52)","v":77076},{"$f":"C21","v":77076},{"$f":"D21","v":77076},77076,77076,77076,77076,77076,77076,77076,77076]
["Korkokulut",{"$f":"VLOOKUP($A$4,pohjatiedot!$B$3:$CD$298,15)","v":524605},{"$f":"VLOOKUP($A$4,pohjatiedot!$B$3:$CD$298,53)","v":461683},{"$f":"($H$78/100)*C61","v":674185.22},{"$f":"($H$78/100)*D61","v":668481.26191806328},664595.03475546336,666514.98309623403,600409.30729520379,542342.90974997904,492010.22878162126,449127.18772838771,413429.63792897196,384671.92731240927]
["Muut rahoitustuotot",{"$f":"VLOOKUP($A$4,pohjatiedot!$B$3:$CD$298,16)","v":235166},{"$f":"VLOOKUP($A$4,pohjatiedot!$B$3:$CD$298,54)","v":186106},{"$f":"C23","v":186106},{"$f":"D23","v":186106},186106,186106,186106,186106,186106,186106,186106,186106]
["Muut rahoituskulut",{"$f":"VLOOKUP($A$4,pohjatiedot!$B$3:$CD$298,17)","v":98989},{"$f":"VLOOKUP($A$4,pohjatiedot!$B$3:$CD$298,55)","v":69647},{"$f":"C24","v":69647},{"$f":"D24","v":69647},69647,69647,69647,69647,69647,69647,69647,69647]
["VUOSIKATE",{"$f":"VLOOKUP($A$4,pohjatiedot!$B$3:$CD$298,18)","v":4449264},{"$f":"VLOOKUP($A$4,pohjatiedot!$B$3:$CD$298,56)","v":5294232},{"$f":"D14+D18+D19+D21-D22+D23-D24","v":5776985.3795520412},{"$f":"E14+E18+E19+E21-E22+E23-E24","v":5679961.4104791218},5360094.8735992191,9137962.917351516,8737243.0668908209,8347916.0331379473,7969000.399636847,7599586.3307117159,7238829.6745805843,6885946.5617860835]
[" €/asukas",{"$f":"1000*B25/B7","v":815.13358035661122},{"$f":"1000*C25/C7","v":967.14499944556928},{"$f":"1000*D25/D7","v":1053.7557960914519},{"$f":"1000*E25/E7","v":1032.1083100509175},970.31747711769754,1648.0776979178402,1570.0702418223345,1494.7588966423179,1421.9464730834497,1351.4563411758907,1287.3019452215299,1224.5477241723227]
["Poistot ja arvonalent.",{"$f":"VLOOKUP($A$4,pohjatiedot!$B$3:$CD$298,20)","v":3816180},{"$f":"VLOOKUP($A$4,pohjatiedot!$B$3:$CD$298,58)","v":3936135},{"$f":"C27*$O$27","v":4059860.5773902177},{"$f":"D27*$O$27","v":4187475.253731702},4319101.2761052242,4454864.7342165299,4594895.6811825912,4739328.2581145652,4888300.8226167988,5041956.0813249834,5200441.22661041,5363908.0775812902,null,{"$f":"C27/B27","v":1.0314332657264595},"kasvuoletus 06/16"]
["Satunnaiset erät",{"$f":"VLOOKUP($A$4,pohjatiedot!$B$3:$CD$298,21)","v":128426},{"$f":"VLOOKUP($A$4,pohjatiedot!$B$3:$CD$298,59)","v":322374},{"$f":"C28","v":322374},{"$f":"D28","v":322374},322374,322374,322374,322374,322374,322374,322374,322374]
[]
["Tilikauden tulos",{"$f":"VLOOKUP($A$4,pohjatiedot!$B$3:$CD$298,23)","v":761510},{"$f":"VLOOKUP($A$4,pohjatiedot!$B$3:$CD$298,61)","v":1680471},{"$f":"D25-D27+D28-D29","v":2039498.8021618235},{"$f":"E25-E27+E28-E29","v":1814860.1567474199},1363367.597493995,5005472.1831349861,4464721.3857082296,3930961.7750233822,3403073.5770200482,2880004.2493867325,2360762.4479701743,1844412.4842047933]
["Tilinpäätössiirrot",{"$f":"VLOOKUP($A$4,pohjatiedot!$B$3:$CD$298,24)","v":-66137},{"$f":"VLOOKUP($A$4,pohjatiedot!$B$3:$CD$298,62)","v":-15533},{"$f":"C31","v":-15533},-15533,-15533,-15533,-15533,-15533,-15533,-15533,-15533,-15533]
["Tilikauden verot",null,{"$f":"VLOOKUP($A$4,pohjatiedot!$B$3:$CD$298,63)","v":68562},{"$f":"C32","v":68562},68562,68562,68562,68562,68562,68562,68562,68562,68562]
["Laskenalliset verot",null,{"$f":"VLOOKUP($A$4,pohjatiedot!$B$3:$CD$298,64)","v":-43947},-43947,-43947,-43947,-43947,-43947,-43947,-43947,-43947,-43947,-43947]
["Vähemmistöosuudet",{"$f":"VLOOKUP($A$4,pohjatiedot!$B$3:$CD$298,25)","v":-26951},{"$f":"VLOOKUP($A$4,pohjatiedot!$B$3:$CD$298,65)","v":-32889},-32889,-32889,-32889,-32889,-32889,-32889,-32889,-32889,-32889,-32889]
["Tilikauden yli-/alijäämä",{"$f":"VLOOKUP($A$4,pohjatiedot!$B$3:$CD$298,27)","v":668422},{"$f":"VLOOKUP($A$4,pohjatiedot!$B$3:$CD$298,66)","v":1519540},{"$f":"D30+D31+D32+D33","v":2048580.8021618235},{"$f":"E30+E31+E32+E33","v":1823942.1567474199},1372449.597493995,5014554.1831349861,4473803.3857082296,3940043.7750233822,3412155.5770200482,2889086.2493867325,2369844.4479701743,1853494.4842047933]
["TASEESTA"]
["Kertynyt yli-/alijäämä",{"$f":"VLOOKUP($A$4,pohjatiedot!$B$3:$CD$298,29)","v":9192259},{"$f":"VLOOKUP($A$4,pohjatiedot!$B$3:$CD$298,68)","v":10805452},{"$f":"C37+D35","v":12854032.802161824},14677974.958909243,16050424.556403238,21064978.739538223,25538782.12524645,29478825.900269832,32890981.477289882,35780067.726676613,38149912.174646787,40003406.658851579]
["€/asukas",{"$f":"1000*B37/B7","v":1684.0805558481768},{"$f":"1000*C37/C7","v":1973.9291494118741},2344.6504843808302,2667.1413474500378,2905.5469780853764,3799.1751533402426,4589.2830862381516,5278.4116541281192,5868.8935578440596,6362.8725713010472,6784.3088399919816,7113.9211063715529]
[]
["RAHOITUSLASKELMAN JA TASEEN TIETOJA (sisältäen rahoitusjäämän ja sen vajeen kattamisoletukset)"]
["Vuosikate",{"$f":"B25","v":4449264},{"$f":"C25","v":5294232},{"$f":"D25","v":5776985.3795520412},{"$f":"E25","v":5679961.4104791218},5360094.8735992191,9137962.917351516,8737243.0668908209,8347916.0331379473,7969000.399636847,7599586.3307117159,7238829.6745805843,6885946.5617860835]
["Tulorahoituksen korjauserät",null,{"$f":"VLOOKUP($A$4,pohjatiedot!$B$3:$CU$298,96)","v":-635925},{"$f":"C42","v":-635925},{"$f":"D42","v":-635925},{"$f":"E42","v":-635925},-635925,-635925,-635925,-635925,-635925,-635925,-635925]
["Satunnaiset erät, netto",{"$f":"B28-B29","v":128426},{"$f":"C28-C29","v":322374},{"$f":"D28-D29","v":322374},{"$f":"E28-E29","v":322374},322374,322374,322374,322374,322374,322374,322374,322374]
[" = 1. Tulorahoitus, netto",null,{"$f":"SUM(C41:C43)","v":4980681},{"$f":"SUM(D41:D43)","v":5463434.3795520412},5366410.4104791218,5046543.8735992191,8824411.917351516,8423692.0668908209,8034365.0331379473,7655449.399636847,7286035.3307117159,6925278.6745805843,6572395.5617860835]
["Investointimenot",null,{"$f":"VLOOKUP($A$4,pohjatiedot!$B$3:$CV$298,97)","v":-7001117},{"$f":"C45","v":-7001117},{"$f":"D45","v":-7001117},-7001117,-7001117,-7001117,-7001117,-7001117,-7001117,-7001117,-7001117]
["Rahoitusosuudet investointeihin",null,{"$f":"VLOOKUP($A$4,pohjatiedot!$B$3:$CV$298,98)","v":173789},{"$f":"C46","v":173789},{"$f":"D46","v":173789},173789,173789,173789,173789,173789,173789,173789,173789]
["Inv.hyödykkeiden luovutustulot",null,{"$f":"VLOOKUP($A$4,pohjatiedot!$B$3:$CV$298,99)","v":1186717},{"$f":"C47","v":1186717},{"$f":"D47","v":1186717},1186717,1186717,1186717,1186717,1186717,1186717,1186717,1186717]
[" = 2. Nettoinvestoinnit",{"$f":"VLOOKUP($A$4,pohjatiedot!$B$3:$CD$298,32)","v":-5369920},{"$f":"C47+C46+C45","v":-5640611},{"$f":"D47+D46+D45","v":-5640611},{"$f":"E47+E46+E45","v":-5640611},-5640611,-5640611,-5640611,-5640611,-5640611,-5640611,-5640611,-5640611]
["€/asukas",{"$f":"1000*B48/B7","v":-983.80363939486926},-1030.4211682577702,-1028.880314598978,-1024.9579294894427,-1021.0982387420274,-1017.3126413194486,-1013.6098319566624,-1009.9950024987506,-1006.4809280033688,-1003.0861118387439,-1003.0861118387439,-1003.0861118387439]
["Vuosikate-nettoinv.",{"$f":"B25+B48","v":-920656},-346379,136374.37955204118,39350.410479121841,-280516.12640078086,3497351.917351516,3096632.0668908209,2707305.0331379473,2328389.399636847,1958975.3307117159,1598218.6745805843,1245335.5617860835]
["€/asukas",{"$f":"1000*B50/B7","v":-168.67005903825807},-63.276168812201057,24.875481492473877,7.1503805614747042,-50.780761624329926,630.76505659839131,556.46040986567186,484.76389414356726,415.46554508008097,348.37022933714678,284.21583338278589,221.46161233357881]
[" = 3. Rahoitusjäämä"]
[" (1. Tulorahoitus+ 2.Nettoinv.)",null,{"$f":"C44+C48","v":-659930},{"$f":"D44+D48","v":-177176.62044795882},{"$f":"E44+E48","v":-274200.58952087816},-594067.12640078086,3183800.917351516,2783081.0668908209,2393754.0331379473,2014838.399636847,1645424.3307117159,1284667.6745805843,931784.5617860835]
["4. Bruttorahoitustarve"]
["(= Rahoitusjäämä + antolainasaam."]
["muutokset + lainanlyh.)",null,null,{"$f":"D53-D59-D57","v":-4364955.2454479588},{"$f":"E53-E59-E57","v":-4426329.4765087739},-4721907.0936224265,-956038.72699994687,-943598.10370420292,-970010.15279942146,-1034346.5302482857,-1135741.5925907074,-1273388.5624754904,-1446535.9839164745]
["Antolainauksen muutokset",null,{"$f":"VLOOKUP($A$4,pohjatiedot!$B$3:$CW$298,100)","v":-25879},{"$f":"C57","v":-25879},{"$f":"D57","v":-25879},-25879,-25879,-25879,-25879,-25879,-25879,-25879,-25879,"Positiivinen arvo=nettolisäys."]
["Lainamäärän muutos;",null,{"$f":"C61-B61","v":1019769},{"$f":"D60-D59","v":-285197.90409683716},{"$f":"E60-E59","v":-194311.35812999913},95997.417038538493,-3305283.7900515106,-2903319.877261241,-2516634.0484178895,-2144152.052661676,-1784877.4899707865,-1437885.5308281332,-1102317.160177731]
["Lainanlyhennykset",null,null,{"$f":"IF(C61>0,(C61*(1/$H$77)),IF(C61=0,0))","v":4213657.625},{"$f":"IF(D61>0,(D61*(1/$H$77)),IF(D61=0,0))","v":4178007.8869878952},4153718.9672216456,4165718.6443514628,3752558.1705950238,3389643.1859373688,3075063.9298851327,2807044.9233024232,2583935.2370560747,2404199.545702558]
["Lainanlisäystarve",null,null,{"$f":"-(D56+(C63-D63))","v":3928459.7209031628},3983696.5288578961,4249716.3842601841,860434.85429995228,849238.29333378281,873009.13751947926,930911.87722345674,1022167.4333316367,1146049.7062279414,1301882.3855248271]
["Lainakanta ",{"$f":"VLOOKUP($A$4,pohjatiedot!$B$3:$CD$298,37)","v":32689492},{"$f":"VLOOKUP($A$4,pohjatiedot!$B$3:$CD$298,76)","v":33709261},{"$f":"C61-D59+D60","v":33424063.095903162},{"$f":"D61-E59+E60","v":33229751.737773165},33325749.154811703,30020465.36476019,27117145.48749895,24600511.439081062,22456359.386419386,20671481.896448597,19233596.365620464,18131279.205442734]
["€/asukas",{"$f":"1000*B61/B7","v":5988.9237082804702},6157.9740387568108,{"$f":"1000*D61/D7","v":6096.7438728338002},6038.1929437424769,6032.8329265636003,5414.3423316841408,4872.9127537297254,4404.9117395943849,4006.9945321208188,3676.0692062355674,3420.3658779281232,3224.3376401688083]
["Rahavarat",{"$f":"VLOOKUP($A$4,pohjatiedot!$B$3:$CD$298,35)","v":6589264},{"$f":"VLOOKUP($A$4,pohjatiedot!$B$3:$CD$298,74)","v":6826757},{"$f":"IF(D56>0,(C63+D56),IF(C63+(D56*$H$79)<0,0,IF(C63+(D56*$H$79)>0,C63+(D56*$H$79))))","v":6390261.475455204},5947628.5278043263,5475437.8184420839,5379833.9457420893,5285474.1353716692,5188473.120091727,5085038.467066898,4971464.3078078274,4844125.4515602784,4699471.853168631]
["€/asukas",{"$f":"1000*B63/B7","v":1207.1952476263323},1247.1051315809425,1165.6209295829974,1080.7462207960564,991.19756933295014,970.28018439898017,949.79223884883447,929.03621999314339,907.34749041660916,884.08982691131257,861.44479108109033,835.72062474979009]
["Nettovelka (rahat-lainat)",{"$f":"B63-B61","v":-26100228},{"$f":"C63-C61","v":-26882504},-27033801.620447956,-27282123.209968839,-27850311.336369619,-24640631.419018101,-21831671.35212728,-19412038.318989336,-17371320.919352487,-15700017.58864077,-14389470.914060187,-13431807.352274103]
["€/asukas",{"$f":"1000*B65/B7","v":-4781.728460654138},-4910.8689071758681,-4931.1229432508035,-4957.4467229464199,-5041.6353572306498,-4444.0621472851608,-3923.1205148808908,-3475.8755196012416,-3099.6470417042096,-2791.9793793242548,-2558.9210868470332,-2388.6170154190186]
[]
["TULOSLASKELMAN ERIEN KASVUPROSENTIT:"]
["Muutos ed. vuodesta, %:",null," 11/12","SYÖTÄ HALUAMASI KASVUPROSENTIT!",null,null,null,null,null,"oletuksena samat arvot kuin v. 2021 >",null,null,null,null,"Syötä muutos-"]
["Toimintatuotot",null,{"$f":"((C11/B11)-1)*100","v":1.768317728375024},-3.9,0.8,1.7,-20.2,2.6,{"$f":"H70","v":2.6},{"$f":"I70","v":2.6},2.6,2.6,2.6,null,"prosentit"]
["Toimintakulut",null,{"$f":"((C12/B12)-1)*100","v":1.0874871145408305},-2.5,1.1000000000000001,2.1,-51.5,2.6,2.6,2.6,2.6,2.6,2.6,null,"Vuosien 2017 - 2021"]
["Kunnallisverot",null,{"$f":"((C15/B15)-1)*100","v":1.9743028589531919},-0.4,2.2000000000000002,3.1,-53.8,-3.1,-3.1,-3.1,-3.1,-3.1,-3.1,null,"pohjana KTO:n huhti/2017"]
["Yhteisöverot  ",null,{"$f":"((C16/B16)-1)*100","v":-6.0516436709984855},23.3,1.7,2.8,-18.2,-8.5,-8.5,-8.5,-8.5,-8.5,-8.5,null,"arvioluvut koko maan "]
["Kiinteistöverot",null,{"$f":"((C17/B17)-1)*100","v":3.7797053419810211},4.9000000000000004,3.4,3.2,1.3,1.1000000000000001,1.1000000000000001,1.1000000000000001,1.1000000000000001,1.1000000000000001,1.1000000000000001,null,"kehityksestä"]
["Valtionosuudet (pl. hark.var.)",null,{"$f":"((C19/B19)-1)*100","v":6.4354830835223531},-0.7,-2.5,-3.9,-70.7,3.1,3.1,3.1,3.1,3.1,3.1,null,"V. 2017 lopulliset vossit."]
["TAUSTAMUUTTUJAT:"]
["VALITSE KESKIMÄÄR. LAINANLYHENNYSAIKA (VUODET):",null,null,null,null,null,null,8,"Esim. lainanlyhennysaika 8 vuotta, jolloin vuosilyhennys = 1/8 eli 12,5 % * lainamäärä"]
["VALITSE KESKIMÄÄR. KORKOKANTA (KORKOPROSENTTI):",null,null,null,null,null,null,2,"Vaikutus korkomenoihin, ei korkotuloihin"]
["MONTAKO % RAHAVAROISTA KÄYTETÄÄN (4.) BRUTTORAHOITUSTARPEEN KATTAMISEEN ? ",null,null,null,null,null,null,0.1,"Syötä prosenttiosuus, joka käytetään rahavaroista."]
[]
[]
[]
[]
[]
[null,{"$f":"B5","v":"TP 2015"},{"$f":"C5","v":"TP 2016"},2017,2018,2019,2020,2021,2022,2023,2024,2025,2026]
["Vuosikate",{"$f":"B26","v":815.13358035661122},{"$f":"C26","v":967.14499944556928},1053.7557960914519,1032.1083100509175,970.31747711769754,1648.0776979178402,1570.0702418223345,1494.7588966423179,1421.9464730834497,1351.4563411758907,1287.3019452215299,1224.5477241723227]
["Poistot ja arvonalent.",{"$f":"1000*B27/B7","v":699.14854831839443},{"$f":"1000*C27/C7","v":719.0491996559058},740.5422263817228,760.90798777882821,781.87038708740738,803.45732217426121,825.69626575239465,848.61336048467433,872.24266100019781,896.62558217150377,924.80945235304193,953.87923361519677]
["Nettoinvestoinnit",{"$f":"-1000*B48/B7","v":983.80363939486926},1030.4211682577702,1028.880314598978,1024.9579294894427,1021.0982387420274,1017.3126413194486,1013.6098319566624,1009.9950024987506,1006.4809280033688,1003.0861118387439,1003.0861118387439,1003.0861118387439]
[]
[]
[]
[]
[]
[]
[]
[]
[]
[]
[]
[]
[]
[]
[]
[]
[]
[]
[]
[]
[]
[]
[]
[]
[]
[]
[null,{"$f":"B5","v":"TP 2015"},{"$f":"C5","v":"TP 2016"},2017,2018,2019,2020,2021,2022,2023,2024,2025,2026]
["Rahavarat",{"$f":"B64","v":1207.1952476263323},1247.1051315809425,1165.6209295829974,1080.7462207960564,991.19756933295014,970.28018439898017,949.79223884883447,929.03621999314339,907.34749041660916,884.08982691131257,861.44479108109033,835.72062474979009]
["Lainakanta",{"$f":"B62","v":5988.9237082804702},{"$f":"C62","v":6157.9740387568108},6096.7438728338002,6038.1929437424769,6032.8329265636003,5414.3423316841408,4872.9127537297254,4404.9117395943849,4006.9945321208188,3676.0692062355674,3420.3658779281232,3224.3376401688083]
["Nettovelka",{"$f":"B117-B116","v":4781.728460654138},{"$f":"C117-C116","v":4910.8689071758681},4931.1229432508026,4957.4467229464208,5041.6353572306498,4444.0621472851608,3923.1205148808908,3475.8755196012416,3099.6470417042096,2791.9793793242548,2558.9210868470327,2388.6170154190181]

{"sheet":"pohjatiedot","index":2,"n_rows":298,"n_cols":101,"rows_kept":298,"cut":false,"hidden":false,"merged":[]}
[null,null,2015,41,42,43,44,45,46,47,48,49,50,51,52,53,54,55,56,57,58,59,60,61,62,63,64,65,66,67,68,69,70,71,72,73,74,75,76,77,2016,41,42,43,44,45,46,47,48,49,50,51,52,53,54,55,56,57,58,59,60,61,62,63,64,65,65,66,68,68,69,70,71,72,73,74,76,null,77,78,"vero-%","vero-%",12.47,null,null,2016,2016,2010,85,2017,2018,89,90,91,92,2013,"2016, rivi 96",2016,90,91,2015]
["Kunta nro.","Kunta","Asukasluku ","Veroprosentti","vero-% yksikön tuotto"," -> noston vaikutus","Toimintatuotot","Toimintakulut","Osuus osakkuusyhteisöjen voitoista/tappioista","Kunnallisverot","Yhteisöverot","Kiinteistöverot","Verotulot","Valtionavut","Korkotuotot","Korkokulut","Muut rahoitustuotot","Muut rahoituskulut","VUOSIKATE"," €/as","Poistot ja arvonalent.","Satunnaiset erät",null,"Tlikauden tulos","Tilinpäätössiirrot","Vähemmintösiirrot",null,"Tlikauden yli-/alijäämä","€/as","Kertynyt yli-/alijäämä","€/as",null,"Nettoinv.","Vuosikate-nettoinv.","€/as","Rahavarat (ent. kassavarat)","€/as","Lainakanta ","€/as","Saamiset","Asukasluku","Veroprosentti","vero-% yksikön tuotto"," -> noston vaikutus","Toimintatuotot","Toimintakulut","Osuus osakkuusyhteisöjen voitoista/tappioista","Kunnallisverot","Yhteisöverot","Kiinteistöverot","Verotulot","Valtionavut","Korkotuotot","Korkokulut","Muut rahoitustuotot","Muut rahoituskulut","VUOSIKATE"," €/as","Poistot ja arvonalent.","Satunnaiset erät",null,"Tlikauden tulos","Tilinpäätössiirrot","Tilikauden verot","Lask. verot","Vähemmistöosuudet","Tlikauden yli-/alijäämä","€/as","Kertynyt yli-/alijäämä","€/as",null,"Nettoinv.","Vuosikate-nettoinv.","€/as","Rahavarat ","€/as","Lainakanta ","€/as","Saamiset",null,null,2017,2020,null,null,"vos-hava","hava","vos-hava","Harkvar10","Valtionosuudet","Valtionosuudet",null,null,null,"vos-hava 2015","Kotikuntakorv+elatustuen palautus, netto","Tulorah.korjauserät","Investointimenot","Rahoitusos. inv.menoihin","Inv.hyödyk. luovutustulot","antolainauksen muutokset"]
[20,"Akaa",17043,21.25,null,null,57367,144558,0,54123,1775,3194,59092,32589,385,814,287,387,3961,null,6334,0,null,-2373,-24,-30,null,-2427,null,-8757,null,null,-10059,null,null,5118,null,70056,null,null,16923,21.25,null,null,57740,143891,22,55165,1606,3377,60148,34067,374,691,287,155,7901,null,7116,98,null,883,9,73,-46,-84,689,null,-7699,null,null,null,null,null,9534,null,70428,null,null,null,null,21.25,{"$f":"CD3-$CE$1","v":8.7799999999999994},null,null,null,null,27814,0,30572.896963830583,29351.912102991082,null,{"$f":"CM3-CN3","v":29351.912102991082},null,{"$f":"N3-CP3","v":32589},-322.96222939400002,-165,-6421,394,473,-63]
[5,"Alajärvi",10006,21.5,null,null,66627,124182,91,24150,2048,2256,28454,36816,27,527,157,43,7420,null,4849,-38,null,2533,-94,-130,null,2309,null,-783,null,null,-3719,null,null,10662,null,41488,null,null,9899,22,null,null,66345,123039,77,25084,2039,2313,29436,39395,21,498,185,128,11794,null,4798,0,null,6996,83,68,-9,-65,6937,null,5760,null,null,null,null,null,9170,null,38620,null,null,null,null,21.75,{"$f":"CD4-$CE$1","v":9.2799999999999994},null,null,null,null,30121,0,35696.984931790576,34318.375302499961,null,{"$f":"CM4-CN4","v":34318.375302499961},null,{"$f":"N4-CP4","v":36816},4798.4155228000009,-145,-11502,134,2039,22]
[9,"Alavieska",2687,21.5,null,null,16292,31617,3,7099,285,408,7792,9346,1,78,24,15,1746,null,1149,0,null,597,0,0,null,597,null,-508,null,null,-931,null,null,478,null,13050,null,null,2639,21.5,null,null,16234,32053,0,6892,271,522,7685,9849,1,51,24,18,1669,null,1054,681,null,1296,0,-1,-1,-1,1295,null,329,null,null,null,null,null,1978,null,10838,null,null,null,null,21.5,9.0299999999999994,null,null,null,null,7636,0,8918.4021211721301,8666.7788811986575,null,8666.7788811986575,null,{"$f":"N5-CP5","v":9346},-54.915172200000015,3,-815,9,281,16]
[10,"Alavus",12044,20.75,null,null,51581,118452,30,29182,2245,2588,34015,37398,100,711,863,-57,4880,null,6038,0,null,-1158,-26,-29,null,-1213,null,9493,null,null,-13067,null,null,15434,null,60717,null,null,11907,21.25,null,null,64883,130531,541,29668,2203,2611,34482,38870,20,469,939,-10,8639,null,6022,0,null,2617,-12,6,-50,-34,2515,null,12545,null,null,null,null,null,15871,null,69825,null,null,null,null,21.25,8.7799999999999994,null,null,null,null,24410,0,38667.828399451791,37624.463588470207,null,37624.463588470207,null,37398,-117.78744078000003,-262,-12793,546,1981,-418]
[16,"Asikkala",8287,20.75,null,null,30917,71353,-14,25339,1538,2501,29378,16868,8,314,48,187,5351,null,3865,-30,null,1456,-22,0,null,1434,null,4148,null,null,-3657,null,null,4094,null,31761,null,null,8323,20.75,null,null,31656,71447,4,25836,1430,2659,29925,17906,8,184,238,409,7698,null,4014,-6,null,3678,-1,0,-81,0,3596,null,7509,null,null,null,null,null,3141,null,28449,null,null,null,null,20.75,8.2799999999999994,null,null,null,null,15106,0,17874.508686845202,17540.251548889391,null,17540.251548889391,null,16868,405.30136615999982,-97,-4015,231,392,-85]
[18,"Askola",5104,20.25,null,null,14479,38746,-1,16391,987,1052,18430,6844,3,202,297,50,1054,null,1780,0,null,-726,89,0,null,-637,null,-2084,null,null,-3010,null,null,2033,null,21513,null,null,5046,20.25,null,null,14258,39091,0,17262,868,1044,19174,7136,0,192,265,49,1501,null,1892,0,null,-391,93,0,0,0,-298,null,-2045,null,null,null,null,null,1720,null,21697,null,null,null,null,20.75,8.2799999999999994,null,null,null,null,5973,0,7397.7858976601101,7458.1080757415002,null,7458.1080757415002,null,6844,582.89778020000017,-153,-2567,2,281,0]
[19,"Aura",3986,21,null,null,12423,30335,1,12633,506,736,13875,5377,3,127,25,9,1233,null,1289,0,null,-56,0,-35,null,-91,null,-1894,null,null,-1788,null,null,1215,null,21599,null,null,3984,21.75,null,null,12522,30312,0,13272,758,410,14440,6032,2,68,15,3,2628,null,1259,0,null,1369,0,0,0,-49,1320,null,-543,null,null,null,null,null,1194,null,16296,null,null,null,null,21.75,9.2799999999999994,null,null,null,null,4924,0,5986.1344989335448,5584.2465923015225,null,5584.2465923015225,null,5377,-121.37373774000001,-7,-958,3,48,0]
[46,"Enonkoski",1473,21,null,null,9643,18560,0,3801,606,418,4825,5096,11,34,229,6,1204,null,802,-65,null,337,0,0,null,337,null,5610,null,null,-535,null,null,3223,null,1471,null,null,1453,21,null,null,9399,17959,0,3570,550,424,4544,5227,11,24,214,2,1410,null,780,-65,null,565,-79,0,9,0,495,null,6061,null,null,null,null,null,3334,null,1164,null,null,null,null,21,8.5299999999999994,null,null,null,null,4469,0,5272.4930687586148,5110.4539175955097,null,5110.4539175955097,null,5096,128.25992600000001,-1,-787,73,68,82]
[47,"Enontekiö",1861,20.75,null,null,3569,17395,6,4863,338,822,6023,8833,13,217,655,226,1261,null,1198,5,null,68,-74,-4,null,-10,null,-107,null,null,-2116,null,null,3417,null,12005,null,null,1872,21.25,null,null,2936,16836,-4,5003,326,822,6151,8935,104,186,545,279,1366,null,1108,0,null,258,0,0,2,-1,259,null,576,null,null,null,null,null,2879,null,11675,null,null,null,null,21.25,8.7799999999999994,null,null,null,null,7672,0,8847.6778030030855,8708.0230920612867,null,8708.0230920612867,null,8833,-10.086460199999998,0,-3331,1021,80,0]
[49,"Espoo",269802,18,null,null,954496,2193314,692,1161281,136157,96364,1393802,84376,12923,40269,49200,15679,246227,null,220614,0,null,25613,39148,-42,null,64719,null,558885,null,null,-691927,null,null,893963,null,2698010,null,null,274583,18,null,null,982749,2234818,-2334,1226153,120589,99740,1446482,116040,12945,43692,25100,4973,297500,null,237379,13541,null,73662,60,1649,10,29,72112,null,629653,null,null,null,null,null,1033578,null,3186678,null,null,null,null,18,5.5299999999999994,null,null,null,null,24390,0,35423.51400928435,29148.660299252388,null,29148.660299252388,null,84376,-12421.988776004002,-37572,-726495,30414,63963,1491]
[50,"Eura",12128,20.5,null,null,36066,102621,-44,40489,2540,2262,45291,26854,3,787,1227,24,5965,null,5645,0,null,320,-102,-125,null,93,null,3737,null,null,-8996,null,null,5908,null,53290,null,null,12004,20.5,null,null,35238,100185,0,38341,2183,3129,43653,27037,7,710,1222,14,6248,null,5435,0,null,813,0,1,-127,-43,642,null,4004,null,null,null,null,null,5971,null,54035,null,null,null,null,20.5,8.0299999999999994,null,null,null,null,22268,0,23934.034289951676,22959.415180906744,null,22959.415180906744,null,26854,68.71245356,-149,-6501,87,-13,315]
[51,"Eurajoki",5938,18,null,null,23606,58773,-2,16365,2179,16002,34546,8207,189,65,2789,1707,8786,null,3763,-2,null,5021,0,-2,null,5019,null,68463,null,null,-10730,null,null,22655,null,5640,null,null,9418,18,null,null,21029,59307,-6,18489,1426,18126,38041,8609,110,39,1129,398,9163,null,4275,3,null,4891,0,1,-6,2,4886,null,73485,null,null,null,null,null,24633,null,3694,null,null,null,null,18,5.5299999999999994,null,null,null,null,5750,0,13206.549841220543,11167.549277070151,null,11167.549277070151,null,8207,-34.227966854000002,-29,-8307,16,273,16]
[52,"Evijärvi",2576,21.5,null,null,7223,23615,7,7048,1099,730,8877,8406,60,47,48,11,948,null,798,0,null,150,-32,-6,null,112,null,3263,null,null,-925,null,null,6910,null,5899,null,null,2535,21.5,null,null,7088,23575,4,6961,933,721,8615,8566,197,26,58,23,904,null,834,0,null,70,-30,6,-2,-7,25,null,3286,null,null,null,null,null,6655,null,6210,null,null,null,null,21.5,9.0299999999999994,null,null,null,null,7542,0,8103.2899261589409,8180.3979916942644,null,8180.3979916942644,null,8406,57.281132000000014,0,-1216,9,10,15]
[61,"Forssa",17422,20,null,null,73086,166775,117,51849,3453,4376,59678,45264,92,921,133,14,10660,null,9067,0,null,1593,-119,66,null,1540,null,20111,null,null,-10741,null,null,17881,null,64164,null,null,17332,20,null,null,73748,166829,56,51886,3143,5379,60408,47018,51,673,199,45,13933,null,8501,0,null,5432,171,7,-47,94,5643,null,24755,null,null,null,null,null,19683,null,60008,null,null,null,null,20.5,8.0299999999999994,null,null,null,null,30500,0,40176.394675010488,39480.900657952698,null,39480.900657952698,null,45264,221.44138486000003,-1668,-16789,51,159,31]
[69,"Haapajärvi",7438,22,null,null,44549,86667,15,20055,1353,1843,23251,23465,26,607,2104,166,5870,null,3524,0,null,2346,29,-167,null,2208,null,5800,null,null,-3465,null,null,20715,null,38778,null,null,7332,22,null,null,40616,87803,19,19865,1382,1889,23136,27083,15,516,1264,186,3529,null,3603,-259,null,-333,-2,89,19,-53,-458,null,4756,null,null,null,null,null,20007,null,42099,null,null,null,null,22,9.5299999999999994,null,null,null,null,21546,0,23664.460169336282,23000.310845673146,null,23000.310845673146,null,23465,66.495922799999974,119,-6533,489,86,67]
[71,"Haapavesi",7167,21.25,null,null,51216,91724,12,18583,1218,1399,21200,22107,68,433,687,124,3009,null,4062,-19,null,-1072,-4,2,null,-1074,null,320,null,null,-4743,null,null,11503,null,45288,null,null,7098,22,null,null,52007,93366,1,18139,1146,1521,20806,22953,57,327,374,194,2310,null,3844,0,null,-1534,-4,0,-40,-1,-1579,null,-1575,null,null,null,null,null,11738,null,48554,null,null,null,null,22,9.5299999999999994,null,null,null,null,19865,0,24033.385262004795,23689.694250044173,null,23689.694250044173,null,22107,12.203371600000013,92,-6169,1991,41,-10]
[72,"Hailuoto",993,20,null,null,4724,11068,3,3048,94,291,3433,3703,4,13,60,4,841,null,686,0,null,155,2,0,null,157,null,6657,null,null,-606,null,null,3407,null,2827,null,null,994,20,null,null,4977,11338,0,2916,93,326,3335,3647,14,23,3,1,615,null,685,0,null,-70,-1,0,-1,-1,-73,null,6621,null,null,null,null,null,2661,null,3392,null,null,null,null,20,7.5299999999999994,null,null,null,null,3147,0,3476.3868461876737,3281.9833900359199,null,3281.9833900359199,null,3703,0,-30,-1437,250,68,-1]
[74,"Halsua",1225,21.5,null,null,5561,13200,18,3114,428,295,3837,4417,22,190,23,0,489,null,613,-14,null,-138,-94,0,null,-232,null,2237,null,null,-6638,null,null,1743,null,13630,null,null,1219,21.5,null,null,5581,13051,34,2891,315,443,3649,4633,10,153,25,1,727,null,774,-4,null,-51,1,3,2,-3,-54,null,2337,null,null,null,null,null,1426,null,13613,null,null,null,null,22,9.5299999999999994,null,null,null,null,3768,0,4156.0472573350735,4173.2283887804433,null,4173.2283887804433,null,4417,22.414356000000002,-28,-590,0,41,-10]
[75,"Hamina",20851,21,null,null,87899,193973,-76,72430,4856,5768,83054,42103,45,2705,1185,91,17198,null,16241,275,null,1232,83,22,null,1337,null,6473,null,null,-11692,null,null,14137,null,152096,null,null,20636,21,null,null,89621,196366,1083,71144,4307,6752,82203,44992,54,2397,1284,70,20141,null,16440,0,null,3701,0,0,-206,53,3548,null,10712,null,null,null,null,null,18695,null,148165,null,null,null,null,21,8.5299999999999994,null,null,null,null,29389,0,37429.589006258968,36034.994431525112,null,36034.994431525112,null,42103,-76.507668480000021,-83,-15716,72,3850,-257]
[77,"Hankasalmi",5240,22,null,null,18510,50287,6,13209,790,1330,15329,19985,52,185,152,55,3445,null,2490,0,null,955,-82,-10,null,863,null,-2394,null,null,-3863,null,null,1611,null,14775,null,null,5159,22,null,null,17234,49802,0,13534,1333,708,15575,21318,48,135,93,56,4214,null,2483,0,null,1731,191,0,-64,-5,1853,null,-691,null,null,null,null,null,4669,null,17283,null,null,null,null,22,9.5299999999999994,null,null,null,null,15657,0,19126.638057986042,18504.837967754414,null,18504.837967754414,null,19985,113.74040428000002,-21,-4476,120,75,-81]
[78,"Hanko",8864,21.75,null,null,49155,92254,-3,34508,2842,2720,40070,12103,15,1205,152,110,7923,null,7713,326,null,536,-1,1,null,536,null,-12607,null,null,-3511,null,null,10249,null,74741,null,null,8663,21.75,null,null,50050,91181,-1,33908,2163,2721,38792,12897,33,1261,166,105,9390,null,5414,0,null,3976,1,504,-15,-1,3457,null,-7948,null,null,null,null,null,9012,null,74732,null,null,null,null,21.75,9.2799999999999994,null,null,null,null,10458,1100,12659.050692025727,12008.542273734585,null,12008.542273734585,null,12103,-55.600055300000015,-453,-7859,5,896,-309]
[79,"Harjavalta",7296,19.75,null,null,26709,69358,-73,23439,5237,1801,30477,14840,2,249,44,23,2368,null,3147,14,null,-765,-37,-23,null,-825,null,9953,null,null,-6431,null,null,2999,null,20566,null,null,7240,19.75,null,null,26885,70411,-1,23502,5099,1803,30404,14193,6,227,38,13,875,null,3220,0,null,-2345,0,8,-33,7,-2379,null,7575,null,null,null,null,null,4618,null,23367,null,null,null,null,20.75,8.2799999999999994,null,null,null,null,9343,0,11773.939456249687,10945.567631716316,null,10945.567631716316,null,14840,-85.15836465400001,-222,-2643,20,331,-1]
[81,"Hartola",2982,21.5,null,null,14037,30125,0,7596,1285,1338,10219,8789,13,395,36,11,2563,null,1634,0,null,929,-5,-37,null,887,null,147,null,null,-3362,null,null,2912,null,32378,null,null,2924,21.5,null,null,14141,29815,0,7157,1232,1352,9741,9062,14,353,28,6,2812,null,1738,-566,null,508,34,0,0,-36,506,null,1178,null,null,null,null,null,1805,null,32865,null,null,null,null,21.5,9.0299999999999994,null,null,null,null,8065,450,9145.5599934900365,8808.9398762792553,null,8808.9398762792553,null,8789,65.997826000000003,-84,-3834,961,209,191]
[82,"Hattula",9747,20,null,null,22081,66540,18,33308,1326,2134,36768,12493,221,333,41,137,4578,null,2705,0,null,1873,-60,-3,null,1810,null,7593,null,null,-9469,null,null,1202,null,38701,null,null,9682,20,null,null,22703,68725,0,33290,1127,2192,36609,12812,212,260,53,116,3256,null,2770,-271,null,215,2,0,-82,0,135,null,7728,null,null,null,null,null,1014,null,45167,null,null,null,null,20.5,8.0299999999999994,null,null,null,null,10610,0,9663.2135995953886,8887.2977045752978,null,8887.2977045752978,null,12493,35.402230060000001,-49,-10679,265,-115,5]
[86,"Hausjärvi",8729,21,null,null,21888,62021,62,29259,1250,1670,32179,12542,13,562,39,4,4136,null,2848,0,null,1288,-17,2,null,1273,null,3677,null,null,-544,null,null,7168,null,32144,null,null,8641,21.5,null,null,22652,63212,2,29738,1121,1575,32434,13476,11,431,38,6,4963,null,2781,0,null,2182,26,6,0,-6,2196,null,5692,null,null,null,null,null,4507,null,26959,null,null,null,null,21.5,9.0299999999999994,null,null,null,null,12784,0,13534.974939546019,12708.39548385618,null,12708.39548385618,null,12542,-637.19033139999999,-717,-2120,118,241,17]
[111,"Heinola",19575,20.5,null,null,71155,175485,-1,61577,3517,5960,71054,37385,74,1164,5163,1892,6289,null,8402,1123,null,-990,-27,10,null,-1007,null,22998,null,null,-9195,null,null,79383,null,63600,null,null,19350,20.5,null,null,73429,178811,0,62084,2993,6249,71326,41022,35,810,4279,1259,9211,null,10104,-14,null,-907,-2,0,54,-1,-856,null,22036,null,null,null,null,null,84347,null,76029,null,null,null,null,20.5,8.0299999999999994,null,null,null,null,29427,0,42032.741397073478,41240.477898051649,null,41240.477898051649,null,37385,-182.96340705999995,34,-16223,2102,735,33]
[90,"Heinävesi",3574,20.75,null,null,13712,37361,1,8630,2182,1227,12039,13492,129,125,290,1,2176,null,2146,0,null,30,136,-3,null,163,null,757,null,null,-1691,null,null,4712,null,21051,null,null,3514,20.75,null,null,10299,34474,0,8640,2003,1249,11892,13922,146,82,303,3,2003,null,2526,0,null,-523,267,0,-1,0,-257,null,600,null,null,null,null,null,4952,null,21181,null,null,null,null,20.75,8.2799999999999994,null,null,null,null,11652,0,13969.256383205025,13356.058399815212,null,13356.058399815212,null,13492,51.117184099999996,-29,-1903,342,29,-212]
[91,"Helsinki",628208,18.5,null,null,3114365,5559544,7794,2480765,372493,214657,3067915,273172,19519,90085,16692,11985,837843,null,645659,115565,null,307749,-26674,1370,null,282445,null,3559243,null,null,-870069,null,null,1498063,null,5011275,null,null,635181,18.5,null,null,3156032,5604281,9883,2586063,397315,222227,3205605,316330,16755,73753,14314,8902,1031983,null,676631,272830,null,628182,-12546,10906,-8052,1754,598432,null,4153306,null,null,null,null,null,1257711,null,4940025,null,null,null,null,18.5,6.0299999999999994,null,null,null,null,250053,0,218305.8621660402,168536.34080910057,null,168536.34080910057,null,273172,-67329.566245045993,-251476,-1505347,20003,446372,-544]
[97,"Hirvensalmi",2290,19.5,null,null,9858,22360,0,5421,872,1146,7439,7056,4,134,183,1,2033,null,1338,1,null,696,0,-3,null,693,null,2765,null,null,-1334,null,null,6828,null,7968,null,null,2274,19.5,null,null,10076,22968,0,5417,817,1154,7388,7135,2,113,119,1,1627,null,1289,1,null,339,-6,0,-1,-4,328,null,3014,null,null,null,null,null,7090,null,7682,null,null,null,null,20,7.5299999999999994,null,null,null,null,6724,0,7290.9641678288745,6906.1124109884449,null,6906.1124109884449,null,7056,13.386351500000004,-23,-1420,12,55,-24]
[98,"Hollola",23915,21,null,null,143877,245405,0,75686,3209,4880,83775,27213,11,816,1184,363,9476,null,12745,-67,null,-3336,66,-41,null,-3311,null,11524,null,null,-16671,null,null,28891,null,70576,null,null,23791,21,null,null,140184,250012,31,82861,2753,5376,90990,35755,11,944,546,301,16260,null,10542,-14,null,5704,-1,0,-56,-34,5613,null,18195,null,null,null,null,null,31965,null,79879,null,null,null,null,21,8.5299999999999994,null,null,null,null,24606,0,36740.508683457432,35524.827323638019,null,35524.827323638019,null,27213,1389.0163960779989,-407,-12995,247,755,-36]
[99,"Honkajoki",1793,21.5,null,null,15002,25026,0,4560,951,497,6008,4717,0,82,11,6,618,null,533,0,null,85,0,0,null,85,null,-1522,null,null,-286,null,null,720,null,5021,null,null,1759,21.5,null,null,14315,24618,0,4835,821,497,6153,4730,1,60,15,5,525,null,534,0,null,-9,0,0,0,1,-8,null,-1525,null,null,null,null,null,742,null,4681,null,null,null,null,22,9.5299999999999994,null,null,null,null,4832,280,4371.4749250388895,4448.9978613039566,null,4448.9978613039566,null,4717,34.866776000000009,3,-295,18,28,-1]
[102,"Huittinen",10473,20.25,null,null,28751,84994,-216,29159,1789,2049,32997,29462,13,270,67,33,5777,null,4447,0,null,1330,-62,-20,null,1248,null,10546,null,null,-9138,null,null,6549,null,26580,null,null,10403,20.5,null,null,25240,82750,-217,28813,1696,2078,32587,30323,10,262,66,31,4966,null,4789,-1,null,176,-34,0,0,-18,124,null,10636,null,null,null,null,null,7645,null,26616,null,null,null,null,20.75,8.2799999999999994,null,null,null,null,23195,0,25889.597293082512,25479.76000546334,null,25479.76000546334,null,29462,302.71833020000008,-321,-3489,108,717,0]
[103,"Humppila",2388,21.5,null,null,8648,21699,1,6755,402,402,7559,6877,19,109,14,21,1289,null,834,0,null,455,-14,1,null,442,null,-642,null,null,-495,null,null,627,null,6897,null,null,2345,21.5,null,null,8777,22399,0,6543,388,511,7442,6918,11,92,11,22,646,null,834,0,null,-188,-25,0,0,0,-213,null,-842,null,null,null,null,null,581,null,6810,null,null,null,null,22,9.5299999999999994,null,null,null,null,5455,350,6054.0738110764569,5549.3024767249844,null,5549.3024767249844,null,6877,14.942904000000002,11,-899,34,150,3]
[105,"Hyrynsalmi",2422,21.75,null,null,16752,33831,0,6711,763,804,8278,10302,2,105,19,11,1344,null,1291,36,null,89,0,0,null,89,null,-2541,null,null,-770,null,null,1827,null,10458,null,null,2406,21.75,null,null,16928,33353,0,6069,703,827,7599,10106,3,72,17,89,1077,null,1249,10,null,-162,-14,0,0,0,-176,null,-2717,null,null,null,null,null,1323,null,9172,null,null,null,null,21.75,9.2799999999999994,null,null,null,null,9997,0,11169.255734342454,11119.873677456193,null,11119.873677456193,null,10302,-3.7357260000000023,-25,-820,134,66,-14]
[106,"Hyvinkää",46463,19.75,null,null,168924,377890,771,168042,14262,13149,195453,46981,128,4207,711,573,29756,null,29614,-589,null,-447,115,94,null,-238,null,42031,null,null,-34628,null,null,32879,null,201010,null,null,46596,19.75,null,null,169167,377443,142,173918,11167,13417,198502,53470,52,3742,690,546,39720,null,30728,0,null,8992,-257,176,-559,-51,7949,null,49475,null,null,null,null,null,50015,null,225234,null,null,null,null,19.75,7.2799999999999994,null,null,null,null,45178,0,51698.332286532066,50209.983130367415,null,50209.983130367415,null,46981,53.931431019999671,-3860,-46118,2308,4595,-2]
[108,"Hämeenkyrö",10667,21,null,null,33531,85569,1,32309,1208,2250,35767,21185,184,561,355,283,4548,null,5056,0,null,-508,-77,-10,null,-595,null,7437,null,null,-21125,null,null,10558,null,50327,null,null,10681,21,null,null,34877,87294,17,32559,1264,2302,36125,22307,92,473,320,282,5626,null,7669,52,null,-1991,5,55,-40,-81,-2162,null,5223,null,null,null,null,null,12035,null,58524,null,null,null,null,22,9.5299999999999994,null,null,null,null,18952,0,21730.680295561458,20021.97877932652,null,20021.97877932652,null,21185,230.31996032000001,-13,-13776,531,228,26]
[109,"Hämeenlinna",68011,20.5,null,null,211673,558299,2381,238409,15526,24183,278118,113572,7359,12070,7372,1534,46215,null,40010,0,null,6205,-618,-250,null,5337,null,10748,null,null,-31642,null,null,105383,null,384746,null,null,67850,20.5,null,null,218006,571540,603,237193,13444,24219,274856,117077,530,9566,6127,3,33680,null,40104,0,null,-6424,-18,2,-37,136,-6345,null,5228,null,null,null,null,null,116164,null,428009,null,null,null,null,20.75,8.2799999999999994,null,null,null,null,87257,0,90811.0340195553,88943.071343426491,null,88943.071343426491,null,113572,312.8546000799999,-7715,-71492,566,11908,58]
[139,"Ii",9663,21.25,null,null,59803,110640,19,27149,1429,3055,31633,26315,24,869,101,20,6367,null,5520,0,null,847,-488,-32,null,327,null,12007,null,null,-7946,null,null,9314,null,43271,null,null,9628,21.25,null,null,62339,113763,1,26309,1318,3595,31222,27663,20,672,55,10,6855,null,5948,0,null,907,545,75,-66,-5,1306,null,13291,null,null,null,null,null,7557,null,44502,null,null,null,null,21.25,8.7799999999999994,null,null,null,null,23088,0,27626.937648774965,26506.225700990864,null,26506.225700990864,null,26315,46.136216100000006,-38,-9984,169,113,660]
[140,"Iisalmi",21945,20.5,null,null,118258,242055,425,65900,6100,5806,77806,61013,36,529,2286,1507,15294,null,12263,0,null,3031,341,0,null,3372,null,21492,null,null,-13717,null,null,33323,null,78452,null,null,21767,20.5,null,null,118051,241172,406,64796,4535,5775,75106,62887,105,533,1492,1047,14861,null,12226,321,null,2956,1279,13,-171,-29,4022,null,26532,null,null,null,null,null,32298,null,91334,null,null,null,null,20.5,8.0299999999999994,null,null,null,null,39248,0,51399.498190903942,51537.658142616048,null,51537.658142616048,null,61013,-112.68194857999997,-132,-34841,697,4289,674]
[142,"Iitti",6910,20.25,null,null,18568,52819,0,19743,1280,2496,23519,15033,24,341,49,20,4013,null,3343,110,null,780,0,1,null,781,null,695,null,null,-3912,null,null,5203,null,23608,null,null,6889,20.25,null,null,19087,55200,0,19968,1319,2326,23613,15649,11,274,65,15,2936,null,3254,115,null,-203,0,0,42,0,-161,null,534,null,null,null,null,null,5633,null,21440,null,null,null,null,20.25,7.7799999999999994,null,null,null,null,13157,0,15267.94954083642,14975.536551115953,null,14975.536551115953,null,15033,247.28015636000012,-56,-1996,8,207,-5]
[143,"Ikaalinen",7207,21.25,null,null,29059,71974,3,21098,1621,2960,25679,23378,47,289,121,102,5822,null,4091,0,null,1731,-285,-92,null,1354,null,1923,null,null,-2212,null,null,5075,null,32700,null,null,7128,21.25,null,null,29801,73413,22,20666,1498,2981,25145,23965,15,220,116,100,5232,null,3743,0,null,1489,5,65,-35,-101,1293,null,3216,null,null,null,null,null,7284,null,40729,null,null,null,null,21.25,8.7799999999999994,null,null,null,null,14955,0,18051.247302520027,17160.275226820271,null,17160.275226820271,null,23378,144.57259619999996,-681,-11281,269,574,241]
[145,"Ilmajoki",12159,20.25,null,null,61715,121145,24,35628,1301,2114,39043,26558,41,1064,118,55,5235,null,5044,0,null,191,-21,-20,null,150,null,6455,null,null,-5000,null,null,7847,null,69107,null,null,12167,20.25,null,null,63437,123278,14,35072,1266,2128,38466,28531,92,873,22,49,6361,null,4983,0,null,1378,-220,0,-8,-19,1131,null,7827,null,null,null,null,null,7937,null,67810,null,null,null,null,20.25,7.7799999999999994,null,null,null,null,23277,0,29029.134260858722,28140.667847839013,null,28140.667847839013,null,26558,-22.277379379999999,-343,-7062,465,1416,417]
[146,"Ilomantsi",5336,20.75,null,null,18951,58611,-1,14038,3155,1298,18491,24042,24,278,358,86,2890,null,2744,0,null,146,-5,38,null,179,null,1563,null,null,-7139,null,null,6448,null,20571,null,null,5237,20.75,null,null,19294,57497,-4,13587,2960,1321,17868,24477,30,319,348,20,4177,null,3190,0,null,987,47,21,-25,39,1027,null,2494,null,null,null,null,null,7398,null,23187,null,null,null,null,20.75,8.2799999999999994,null,null,null,null,20361,0,22145.03827974054,21120.846139054509,null,21120.846139054509,null,24042,4.0470365000000017,-15,-7459,409,15,-287]
[153,"Imatra",27835,20,null,null,154456,294946,-31,93785,4831,9005,107621,61184,369,2627,416,154,26236,null,21484,0,null,4752,-254,-98,null,4400,null,38109,null,null,-54627,null,null,18012,null,189052,null,null,27517,20,null,null,151530,290861,486,93467,9262,3959,106688,65204,158,2522,188,6,30866,null,23087,0,null,7779,282,279,-131,-23,7628,null,48119,null,null,null,null,null,13707,null,196872,null,null,null,null,20,7.5299999999999994,null,null,null,null,42620,0,56050.791209573268,54521.494032924114,null,54521.494032924114,null,61184,-1304.3063185439996,-3563,-58698,2029,20734,83]
[148,"Inari",6804,19,null,null,35376,73770,0,18850,2363,4068,25281,22731,138,1117,295,50,8884,null,5754,44,null,3174,-184,-29,null,2961,null,14511,null,null,-7804,null,null,11388,null,48191,null,null,6825,19,null,null,35417,75437,0,19749,2161,4259,26169,23792,43,958,153,26,9153,null,5155,18,null,4016,63,0,-45,-155,3879,null,17773,null,null,null,null,null,12550,null,46440,null,null,null,null,19,6.5299999999999994,null,null,null,null,20079,0,23412.502844422408,23205.744071397443,null,23205.744071397443,null,22731,-18.803154200000005,-164,-6568,214,295,-104]
[149,"Inkoo",5541,20.75,null,null,5875,34093,2,21376,2069,2922,26367,5059,2,203,186,185,3010,null,1970,0,null,1040,0,0,null,1040,null,7292,null,null,-1860,null,null,1964,null,15407,null,null,5585,20.75,null,null,13322,42732,-1,21280,1397,3086,25763,5987,1,187,65,62,2157,null,2080,0,null,77,0,0,0,0,77,null,7279,null,null,null,null,null,1957,null,16081,null,null,null,null,20.75,8.2799999999999994,null,null,null,null,5420,0,6108.1840551883806,6538.020672527151,null,6538.020672527151,null,5059,-2009.8330404200001,-42,-1901,2,645,0]
[151,"Isojoki",2123,22,null,null,17083,31565,34,5513,556,401,6470,9372,1,58,46,25,1358,null,860,0,null,498,-1,4,null,501,null,822,null,null,-681,null,null,1632,null,3753,null,null,2079,22,null,null,16560,30504,69,5183,548,414,6145,9289,1,48,39,19,1532,null,846,0,null,686,-4,0,0,0,682,null,1469,null,null,null,null,null,1741,null,3532,null,null,null,null,22,9.5299999999999994,null,null,null,null,7935,0,8318.6519562498943,7855.4573045723009,null,7855.4573045723009,null,9372,-2.5527460999999967,0,-807,20,1,23]
[152,"Isokyrö",4785,21.5,null,null,13420,37893,-27,14296,550,892,15738,12062,10,230,47,14,3114,null,1875,0,null,1239,-17,-10,null,1212,null,8519,null,null,-1415,null,null,4240,null,12325,null,null,4712,21.5,null,null,13506,37806,9,14008,524,906,15438,12958,8,232,33,14,3901,null,1883,0,null,2018,-61,0,0,-11,1946,null,10876,null,null,null,null,null,3811,null,10140,null,null,null,null,21.5,9.0299999999999994,null,null,null,null,11136,0,13165.287191393172,12820.451314035867,null,12820.451314035867,null,12062,-44.890974100000022,16,-1762,60,35,0]
[165,"Janakkala",16853,20.5,null,null,46898,128825,27,57247,2207,3091,62545,27769,40,996,101,5,7390,null,7471,0,null,-81,-206,-14,null,-301,null,1905,null,null,-6124,null,null,13881,null,71604,null,null,16709,20.5,null,null,48225,130113,0,57060,2287,3687,63034,28892,28,711,98,15,9247,null,7484,0,null,1763,5,72,-162,-8,1526,null,3431,null,null,null,null,null,15470,null,73972,null,null,null,null,21,8.5299999999999994,null,null,null,null,21036,0,24137.044493961122,22442.890443477641,null,22442.890443477641,null,27769,-119.74247071999993,-746,-9957,180,1624,8]
[167,"Joensuu",75514,20.5,null,null,302795,692934,160,223747,18640,19607,261994,187018,532,7024,4896,893,56544,null,50905,-3,null,5636,-1275,-207,null,4154,null,60316,null,null,-71425,null,null,121231,null,388906,null,null,75848,20.5,null,null,308191,705537,-59,224447,17132,20727,262306,193982,594,5600,5082,442,58517,null,53999,0,null,4518,60,396,-737,3,3448,null,63842,null,null,null,null,null,126032,null,422002,null,null,null,null,20.5,8.0299999999999994,null,null,null,null,137821,0,139314.80933647996,138727.24271284285,null,138727.24271284285,null,187018,-6033.1999804839998,-5329,-84405,1801,8424,-2467]
[169,"Jokioinen",5425,20.5,null,null,26864,53623,-13,17492,980,839,19311,11145,27,276,37,14,3457,null,2123,2,null,1336,1,20,null,1357,null,7163,null,null,-4669,null,null,1305,null,22249,null,null,5341,20.5,null,null,26879,54651,-6,16675,888,845,18408,11595,2,244,34,16,2001,null,2526,0,null,-525,3,0,0,27,-495,null,6628,null,null,null,null,null,1223,null,21397,null,null,null,null,20.5,8.0299999999999994,null,null,null,null,8513,0,9739.2484812000966,8903.2304106231859,null,8903.2304106231859,null,11145,-79.06041458,-60,-2075,48,33,1]
[171,"Joroinen",5110,20.25,null,null,15346,42316,-2,14684,1371,1161,17216,12069,21,314,-132,6,1834,null,1484,187,null,537,0,10,null,547,null,-656,null,null,-1833,null,null,16995,null,25733,null,null,5039,20.25,null,null,15702,43434,2,14334,1309,1181,16824,12692,54,280,59,17,1554,null,1235,216,null,535,-5,0,0,26,556,null,140,null,null,null,null,null,15020,null,24677,null,null,null,null,20.75,8.2799999999999994,null,null,null,null,11121,0,12483.788869160013,11976.735742407829,null,11976.735742407829,null,12069,55.388364160000009,-27,-2535,114,194,302]
[172,"Joutsa",4688,21,null,null,14125,40203,6,12130,1278,1655,15063,15934,4,176,103,16,4789,null,2153,0,null,2636,-43,-3,null,2590,null,1583,null,null,-1117,null,null,4002,null,20051,null,null,4673,21,null,null,14033,41942,-4,12259,1244,1714,15217,16952,2,126,72,24,4129,null,2178,-145,null,1806,-2,36,-5,-11,1752,null,3331,null,null,null,null,null,4907,null,18975,null,null,null,null,21,8.5299999999999994,null,null,null,null,13247,0,15603.059125732891,14858.862492531875,null,14858.862492531875,null,15934,120.29037720000005,-4,-2468,84,24,-3]
[176,"Juuka",5034,20.75,null,null,19303,53303,2,12462,1832,1226,15520,22327,129,139,387,18,4208,null,2771,0,null,1437,337,0,null,1774,null,10117,null,null,-8388,null,null,6205,null,12514,null,null,4938,20.75,null,null,19242,53273,0,11562,1689,1244,14495,22258,117,126,373,3,3083,null,3145,0,null,-62,256,13,-3,2,180,null,10052,null,null,null,null,null,6462,null,12649,null,null,null,null,20.75,8.2799999999999994,null,null,null,null,18170,0,20846.454085848367,19879.394082870622,null,19879.394082870622,null,22327,-21.106851899999995,3,-2785,192,196,-192]
[177,"Juupajoki",1988,21,null,null,6571,16778,4,5987,752,541,7280,4709,28,100,9,-22,1745,null,788,-7,null,950,1,81,null,1032,null,1894,null,null,-900,null,null,1551,null,6478,null,null,1957,21,null,null,6800,17075,15,5609,754,549,6912,4494,28,87,3,5,1085,null,827,13,null,271,12,9,0,74,348,null,2299,null,null,null,null,null,1422,null,6359,null,null,null,null,21,8.5299999999999994,null,null,null,null,4454,0,4285.6333958675332,4013.4022462109037,null,4013.4022462109037,null,4709,-20.571397840000014,0,-1108,87,26,-3]
[178,"Juva",6548,19.75,null,null,22109,58286,122,15887,2448,1492,19827,19937,2,387,309,7,3626,null,2354,-74,null,1198,-5,-9,null,1184,null,1594,null,null,-3865,null,null,1640,null,27637,null,null,6421,19.75,null,null,23334,59034,81,15444,2240,1534,19218,21308,2,312,385,25,4957,null,2780,-199,null,1978,-37,0,0,-8,1933,null,3145,null,null,null,null,null,2019,null,27753,null,null,null,null,19.75,7.2799999999999994,null,null,null,null,16771,0,21718.616505053193,21092.808124501258,null,21092.808124501258,null,19937,-2.5402936800000169,-49,-4887,130,578,-1043]
[179,"Jyväskylä",137368,20,null,null,553679,1146692,252,426989,22523,40956,490468,254098,604,19522,1192,913,133166,null,122479,0,null,10687,-4357,89,null,6419,null,-33462,null,null,-110561,null,null,30828,null,1080972,null,null,138850,20,null,null,562405,1165225,543,439145,21150,47104,507399,271325,2704,16754,671,1772,160856,null,118271,3878,null,46463,-70,4695,-2946,-953,37799,null,4169,null,null,null,null,null,55840,null,1066245,null,null,null,null,20,7.5299999999999994,null,null,null,null,132908,0,173559.7242824632,168113.86229817994,null,168113.86229817994,null,254098,-8879.4247150439987,-16375,-134941,545,32429,-231]
[181,"Jämijärvi",1948,21.5,null,null,9636,20902,0,5198,288,398,5884,5909,0,93,12,8,428,null,578,0,null,-150,0,0,null,-150,null,-1910,null,null,-523,null,null,710,null,6189,null,null,1915,21.5,null,null,9091,20697,0,4709,273,401,5383,5988,1,53,12,6,-292,null,568,0,null,-860,4,0,0,0,-856,null,-2692,null,null,null,null,null,801,null,6848,null,null,null,null,22.5,10.029999999999999,null,null,null,null,5561,0,5862.4120205920099,5470.9986129775189,null,5470.9986129775189,null,5909,-16.12588390000003,0,-538,5,-4,0]
[182,"Jämsä",21542,21,null,null,65660,196738,555,72040,9084,5981,87105,60875,84,1038,990,164,17329,null,12966,0,null,4363,-150,-12,null,4201,null,13474,null,null,-13195,null,null,11915,null,60355,null,null,21259,21,null,null,64992,199557,434,71823,8939,6179,86941,61338,24,944,301,203,13326,null,14169,31,null,-812,21,23,2,-14,-826,null,12454,null,null,null,null,null,11946,null,65510,null,null,null,null,21,8.5299999999999994,null,null,null,null,37820,0,43828.856528893535,41385.57808741364,null,41385.57808741364,null,60875,-156.00391775999998,-192,-16657,0,541,21]
[186,"Järvenpää",40900,19.75,null,null,130483,317537,13,158708,4673,12121,175502,35636,56,2279,535,587,21192,null,24575,27,null,-3356,-195,2,null,-3549,null,42696,null,null,-41506,null,null,24645,null,252287,null,null,41529,19.75,null,null,137385,330798,9,164643,4222,12621,181486,40080,57,1456,467,539,26060,null,25558,0,null,502,-92,100,-197,-2,111,null,43742,null,null,null,null,null,16457,null,279613,null,null,null,null,19.75,7.2799999999999994,null,null,null,null,24104,0,25196.169884095823,24640.707113468674,null,24640.707113468674,null,35636,-1010.178912902,-9928,-76160,953,18340,83]
[202,"Kaarina",32590,19.25,null,null,78640,231808,9,118694,4671,6454,129819,34622,823,1330,664,44,11395,null,11878,0,null,-483,25,26,null,-432,null,20480,null,null,-14307,null,null,16653,null,105304,null,null,32738,19.25,null,null,80043,234729,3,126274,4086,6657,137017,36315,611,1211,661,39,18671,null,12703,-500,null,5468,33,5,-4,38,5530,null,25281,null,null,null,null,null,20494,null,106345,null,null,null,null,19.75,7.2799999999999994,null,null,null,null,28113,0,28711.90752146794,27075.380437662076,null,27075.380437662076,null,34622,-2172.868839754,-2133,-18672,335,3684,0]
[204,"Kaavi",3194,21.25,null,null,13924,34742,44,7342,949,977,9268,13179,5,247,267,27,1671,null,1291,1,null,381,-5,1,null,377,null,1098,null,null,-4605,null,null,1947,null,14180,null,null,3154,21.25,null,null,14076,35289,9,7268,839,1086,9193,13624,3,237,210,26,1563,null,1498,0,null,65,-7,2,-2,-11,43,null,1142,null,null,null,null,null,886,null,17109,null,null,null,null,21.25,8.7799999999999994,null,null,null,null,11077,500,12679.08768096506,12635.040425832502,null,{"$f":"CM64-CN64","v":12635.040425832502},null,13179,-1061.0084461000001,-22,-4939,211,41,-19]
[205,"Kajaani",37622,21,null,null,338454,527128,52,122195,6127,9801,138123,99516,347,5715,529,1162,42246,null,38766,190,null,3670,2920,-1092,null,5498,null,75548,null,null,-53635,null,null,16448,null,305817,null,null,37521,21,null,null,333843,525991,-4,122245,5118,9770,137133,104928,196,5624,391,1191,42944,null,37838,116,null,5222,380,0,-326,-371,4905,null,86242,null,null,null,null,null,15871,null,327093,null,null,null,null,21,8.5299999999999994,null,null,null,null,69302,0,102010.82061774912,99901.453080615451,null,99901.453080615451,null,99516,-179.11560928000003,115,-74676,3823,8804,63]
[208,"Kalajoki",12621,20,null,null,36419,98095,48,32831,2933,2697,38461,34248,106,679,613,142,10862,null,8351,420,null,2931,-226,-25,null,2680,null,18233,null,null,-8479,null,null,21367,null,54788,null,null,12586,20,null,null,36431,100091,90,33344,2720,3034,39098,35486,83,200,447,355,10891,null,8959,-6,null,1926,140,80,-50,19,1955,null,23106,null,null,null,null,null,23229,null,54062,null,null,null,null,20,7.5299999999999994,null,null,null,null,26296,0,30269.812820729338,30150.140664470076,null,30150.140664470076,null,{"$f":"N66-CP66","v":34248},-12.390157899999998,-422,-9091,1294,794,-9]
[211,"Kangasala",30607,21,null,null,108107,239851,40,111088,3781,6752,121621,35982,38,2123,2649,537,25926,null,18116,0,null,7810,-455,-8,null,7347,null,47857,null,null,-17215,null,null,45984,null,114837,null,null,31190,21,null,null,107497,241477,53,114489,3536,6935,124960,38639,26,1751,1441,50,29339,null,17886,137,null,11590,13,539,-267,-116,10681,null,59792,null,null,null,null,null,54163,null,103137,null,null,null,null,21,8.5299999999999994,null,null,null,null,31664,0,38215.208597447709,36425.957595593194,null,36425.957595593194,null,35982,-675.40058217000001,-1216,-19563,1036,3242,-74]
[213,"Kangasniemi",5628,20,null,null,17191,51318,0,13713,2655,1724,18092,19138,33,154,140,3,3119,null,2639,0,null,480,-1,-2,null,477,null,-1251,null,null,-6488,null,null,1062,null,23954,null,null,5603,20,null,null,17544,51783,0,13457,2528,1745,17730,19576,25,195,154,2,3050,null,2560,0,null,490,-8,0,0,9,491,null,-1062,null,null,null,null,null,1335,null,28939,null,null,null,null,20.75,{"$f":"CD68-$CE$1","v":8.2799999999999994},null,null,null,null,18214,0,18647.530998415696,18015.518384497202,null,18015.518384497202,null,19138,-98.436380100000022,-4,-7715,2730,6,168]
[214,"Kankaanpää",11769,21.5,null,null,65020,125620,152,35602,2595,3148,41345,27618,81,479,507,120,8504,null,6971,0,null,1533,-323,-23,null,1187,null,15037,null,null,-11941,null,null,5277,null,58219,null,null,11637,21.5,null,null,68027,127235,43,35300,2276,3162,40738,28595,47,418,401,31,10167,null,7530,0,null,2637,-1,4,-226,-783,1623,null,9547,null,null,null,null,null,7243,null,66193,null,null,null,null,21.5,9.0299999999999994,null,null,null,null,23062,0,27271.36783854997,26606.79388902145,null,26606.79388902145,null,27618,212.35111826000002,-47,-14807,73,521,-34]
[216,"Kannonkoski",1462,21,null,null,14698,23450,0,3343,577,391,4311,6196,29,74,82,9,1783,null,1204,-37,null,542,3,10,null,555,null,10291,null,null,-1087,null,null,4089,null,10044,null,null,1424,21,null,null,14979,23231,0,3259,507,438,4204,6414,23,52,30,7,2360,null,1301,0,null,1059,3,0,0,9,1071,null,11362,null,null,null,null,null,4497,null,10282,null,null,null,null,21,8.5299999999999994,null,null,null,null,5525,0,5940.8110005906674,5689.1585830010945,null,5689.1585830010945,null,6196,17.495650100000006,0,-1890,21,1,0]
[217,"Kannus",5590,20.5,null,null,25628,52573,54,16114,1147,1307,18568,12824,57,213,31,10,4365,null,2762,0,null,1603,-10,-18,null,1575,null,14498,null,null,-2875,null,null,5620,null,22698,null,null,5578,20.5,null,null,25588,52926,148,14785,1076,1310,17171,13214,42,189,28,9,3067,null,2904,0,null,163,-29,0,0,-34,100,null,15556,null,null,null,null,null,6707,null,22524,null,null,null,null,20.5,8.0299999999999994,null,null,null,null,12475,0,13534.92909459522,13147.491967713597,null,13147.491967713597,null,12824,6.2262099999999991,-19,-2631,0,60,-3]
[218,"Karijoki",1369,22,null,null,9933,18042,2,3538,301,234,4073,4767,15,44,9,4,708,null,449,0,null,259,29,3,null,291,null,504,null,null,-395,null,null,2007,null,3383,null,null,1349,22,null,null,9804,17798,1,3509,265,227,4001,4944,1,42,8,4,915,null,461,0,null,454,15,6,-1,-2,460,null,960,null,null,null,null,null,2479,null,3089,null,null,null,null,22,9.5299999999999994,null,null,null,null,4078,0,4753.8038055626475,4457.3309470209479,null,4457.3309470209479,null,4767,-475.86923030000003,0,-409,5,2,1]
[224,"Karkkila",8969,20.75,null,null,50616,96076,-5,28524,1262,2070,31856,19153,16,501,138,112,5081,null,3414,0,null,1667,-11,0,null,1656,null,1541,null,null,-8482,null,null,6761,null,53681,null,null,8911,20.75,null,null,49149,95747,-1,28285,1141,2142,31568,20097,31,582,127,111,4526,null,3776,0,null,750,-2,0,0,1,749,null,2461,null,null,null,null,null,7014,null,61174,null,null,null,null,20.75,8.2799999999999994,null,null,null,null,12675,0,17379.995435648845,17059.008236572645,null,17059.008236572645,null,19153,-66.670256679999994,-195,-11666,5,221,0]
[226,"Karstula",4268,20,null,null,28919,52405,7,10168,1234,926,12328,15067,118,244,115,16,3889,null,2678,0,null,1211,-53,29,null,1187,null,4010,null,null,-2844,null,null,9387,null,21187,null,null,4232,20,null,null,28416,52086,0,9627,1146,948,11721,15297,125,132,35,98,3278,null,3383,0,null,-105,102,38,20,-21,-42,null,4181,null,null,null,null,null,10591,null,20593,null,null,null,null,20,7.5299999999999994,null,null,null,null,13386,0,15430.425880207713,14519.355862117738,null,14519.355862117738,null,15067,73.407015900000019,0,-2304,0,146,84]
[230,"Karvia",2475,19.75,null,null,20959,33662,0,5635,612,413,6660,9113,32,51,15,11,3042,null,2352,0,null,690,-134,-5,null,551,null,14739,null,null,-2444,null,null,4274,null,6934,null,null,2449,19.75,null,null,21615,34390,11,5258,596,407,6261,8717,36,47,21,8,2203,null,2363,0,null,-160,0,2,-113,-319,-594,null,12736,null,null,null,null,null,3374,null,7666,null,null,null,null,19.75,7.2799999999999994,null,null,null,null,7817,0,8214.9088054637177,7702.5934420477843,null,7702.5934420477843,null,9113,-15.590429839999997,136,-4772,7,1677,-10]
[231,"Kaskinen",1285,21,null,null,3860,11248,0,4692,892,608,6192,1494,5,58,8,1,253,null,1105,-6,null,-858,39,-28,null,-847,null,9468,null,null,260,null,null,437,null,3980,null,null,1296,21.5,null,null,4084,12213,0,4788,954,600,6342,1825,2,52,7,3,-8,null,1163,6,null,-1165,63,0,-46,0,-1148,null,5907,null,null,null,null,null,883,null,4311,null,null,null,null,22,9.5299999999999994,null,null,null,null,151,0,2162.0904358885837,2112.4003500842623,null,2112.4003500842623,null,1494,-310.06525800000003,0,-790,18,26,0]
[232,"Kauhajoki",13875,22,null,null,88704,171759,94,39413,3910,3399,46722,43446,28,1438,3439,80,9156,null,7701,0,null,1455,-104,-34,null,1317,null,-3609,null,null,-6596,null,null,18957,null,86808,null,null,13772,22,null,null,87141,169360,144,38682,3501,3375,45558,44581,22,1303,1336,76,8043,null,8209,0,null,-166,-51,0,-38,-47,-302,null,-2123,null,null,null,null,null,19012,null,90620,null,null,null,null,22,9.5299999999999994,null,null,null,null,32678,940,39048.118594599247,37956.061767544794,null,37956.061767544794,null,43446,-78.014411300000035,-76,-11829,488,445,-43]
[233,"Kauhava",16784,21.75,null,null,114185,202601,86,48710,3984,3911,56605,45568,143,1293,162,120,12735,null,9849,0,null,2886,-46,111,null,2951,null,17519,null,null,-20507,null,null,30496,null,103703,null,null,16599,21.75,null,null,110472,208223,70,47485,3560,3988,55033,56568,190,1171,141,164,12916,null,11107,0,null,1809,317,121,-15,-48,1942,null,21863,null,null,null,null,null,30179,null,107881,null,null,null,null,21.75,9.2799999999999994,null,null,null,null,40697,0,49457.254769594518,48041.284881767191,null,48041.284881767191,null,45568,201.72920400000004,-134,-18854,67,392,2861]
[235,"Kauniainen",9486,16.5,null,null,42692,91726,-2,54761,1354,3825,59940,325,259,515,162,87,11048,null,8808,0,null,2240,21,0,null,2261,null,37554,null,null,-642,null,null,8379,null,20375,null,null,9397,16.5,null,null,45374,93074,0,57552,1428,3993,62973,433,242,440,163,93,15577,null,8670,201,null,7108,111,6,27,-1,7239,null,42805,null,null,null,null,null,12155,null,19861,null,null,null,null,17,4.5299999999999994,null,null,null,null,2668,0,-904.7382837514433,-2658.4320581394359,null,-2658.4320581394359,null,325,2570.460912692,-9050,-11499,7,9494,2]
[236,"Kaustinen",4305,21.5,null,null,21806,44230,40,12120,1513,895,14528,11633,75,382,15,153,3245,null,2735,-45,null,465,-113,-15,null,337,null,5417,null,null,-10535,null,null,3262,null,41096,null,null,4298,21.5,null,null,23346,45716,107,12296,1411,922,14629,12263,67,324,14,136,4139,null,3114,0,null,1025,0,0,0,-10,1015,null,8030,null,null,null,null,null,4788,null,43081,null,null,null,null,21.5,9.0299999999999994,null,null,null,null,8799,500,10301.17343080556,10622.522488695904,null,10622.522488695904,null,11633,142.01985010000001,-33,-3736,0,51,0]
[239,"Keitele",2379,19.5,null,null,9997,24157,10,5810,986,542,7338,7898,4,113,192,41,1128,null,1070,1,null,59,-14,2,null,47,null,1137,null,null,-1473,null,null,680,null,14678,null,null,2346,19.5,null,null,10518,24712,9,5688,883,534,7105,8360,3,91,87,32,1248,null,976,0,null,272,0,0,0,0,272,null,1457,null,null,null,null,null,916,null,15088,null,null,null,null,20.5,8.0299999999999994,null,null,null,null,6963,0,7721.1554767879516,7267.8360773932145,null,7267.8360773932145,null,7898,31.666504060000008,-26,-1360,31,156,44]
[240,"Kemi",21758,21.25,null,null,101234,218697,854,74603,6187,6512,87302,47626,18,4072,93,156,13604,null,13760,0,null,-156,-809,50,null,-915,null,-3814,null,null,-13621,null,null,16756,null,129158,null,null,21602,21.25,null,null,101524,219573,607,74083,5987,6722,86792,51231,11,1782,262,47,18374,null,14146,0,null,4228,-86,852,-135,-44,3111,null,-752,null,null,null,null,null,16359,null,127693,null,null,null,null,21.25,8.7799999999999994,null,null,null,null,37066,0,46414.425104918344,44350.810241571497,null,44350.810241571497,null,47626,-106.86666844000001,-1949,-18058,517,1775,0]
[320,"Kemijärvi",7766,20.5,null,null,54025,101115,0,23378,1208,3956,28542,25729,157,1393,1408,414,6939,null,7106,177,null,10,-394,71,null,-313,null,4429,null,null,-7975,null,null,11632,null,68959,null,null,7661,21,null,null,50692,100658,0,23640,1046,4419,29105,30442,90,1222,1700,539,9610,null,6874,51,null,2787,-350,0,-388,68,2117,null,5754,null,null,null,null,null,11183,null,67228,null,null,null,null,21,8.5299999999999994,null,null,null,null,27330,0,25855.835100258784,25118.656666875449,null,25118.656666875449,null,25729,-43.583469999999998,-3594,-11135,5112,13401,-10667]
[241,"Keminmaa",8388,21.25,null,null,27229,69841,0,29972,3623,1060,34655,12791,9,583,32,17,4198,null,4121,38,null,115,3,0,null,118,null,2414,null,null,-1783,null,null,7619,null,32598,null,null,8316,21.25,null,null,27219,68616,-2,30641,741,3853,35235,13232,6,456,117,26,6647,null,5513,-70,null,1064,-8,0,-180,0,876,null,4666,null,null,null,null,null,8930,null,31513,null,null,null,null,21.25,8.7799999999999994,null,null,null,null,13024,0,12690.919477169495,11892.379493589089,null,11892.379493589089,null,12791,21.169113999999972,-162,-6081,198,1747,-1550]
[322,"Kemiönsaari",6909,19.75,null,null,26861,66184,3,18861,811,3120,22792,22532,15,527,27,18,5501,null,4393,0,null,1108,0,-10,null,1098,null,17516,null,null,-12239,null,null,7473,null,36559,null,null,6872,19.75,null,null,27501,66357,1,18509,735,3154,22398,23042,-5,476,141,100,6145,null,5232,0,null,913,0,65,11,-10,849,null,18364,null,null,null,null,null,4989,null,33966,null,null,null,null,19.75,7.2799999999999994,null,null,null,null,17777,0,22140.799456380919,20759.380099680482,null,20759.380099680482,null,22532,99.681622099999984,-246,-4764,54,353,0]
[244,"Kempele",17066,20.5,null,null,36481,111522,-1,58387,2228,2990,63605,21421,8,1030,130,34,9058,null,8163,0,null,895,-38,-37,null,820,null,15170,null,null,-6403,null,null,10268,null,52036,null,null,17297,20.5,null,null,33965,114956,-66,59921,2599,3133,65653,29055,6,935,47,7,12761,null,7993,0,null,4768,-3,5,-14,-3,4743,null,19699,null,null,null,null,null,16658,null,54039,null,null,null,null,20.5,8.0299999999999994,null,null,null,null,17196,0,23963.540338547573,23035.500983945956,null,23035.500983945956,null,21421,-290.23477915000007,-3377,-11369,261,4589,-70]
[245,"Kerava",35293,19,null,null,180346,329702,-16,132253,10198,9713,152164,34689,61,1629,1810,960,36332,null,26622,0,null,9710,-249,-161,null,9300,null,152051,null,null,-43044,null,null,18236,null,170989,null,null,35511,19.25,null,null,179588,327425,-29,135018,10037,9512,154567,38434,60,1228,1100,802,43775,null,28119,0,null,15656,-1152,-1,-298,-149,14058,null,166606,null,null,null,null,null,18953,null,169055,null,null,null,null,19.25,6.7799999999999994,null,null,null,null,18933,0,21369.713795880623,20390.100662623117,null,20390.100662623117,null,34689,-712.41291013599982,-6279,-44605,11,10342,-1]
[249,"Keuruu",10117,20.5,null,null,47241,102520,119,29390,2447,2541,34378,31183,43,728,158,22,9791,null,8941,0,null,850,-428,145,null,567,null,5664,null,null,-21769,null,null,3409,null,85990,null,null,9992,20.5,null,null,47554,102147,140,28935,2272,2420,33627,31666,39,698,171,28,10250,null,10240,-1,null,9,0,84,-171,-341,-587,null,10953,null,null,null,null,null,5100,null,95266,null,null,null,null,20.5,8.0299999999999994,null,null,null,null,24249,0,28336.341378670859,27525.338358928617,null,27525.338358928617,null,31183,74.44056676000001,-144,-19298,49,328,0]
[250,"Kihniö",2038,21.5,null,null,6086,18765,4,5116,572,508,6196,6866,6,144,48,22,271,null,1068,0,null,-797,-12,-13,null,-822,null,28,null,null,-895,null,null,2073,null,9432,null,null,1994,21.5,null,null,5638,18134,3,5027,577,499,6103,7451,3,138,41,21,943,null,1137,-11,null,-205,1,9,-6,-13,-232,null,-198,null,null,null,null,null,1944,null,9145,null,null,null,null,21.5,9.0299999999999994,null,null,null,null,5249,0,6975.327732606961,6703.863081377066,null,6703.863081377066,null,6866,-47.194671799999995,-5,-707,10,158,-68]
[256,"Kinnula",1745,20.5,null,null,6562,17595,0,3880,544,365,4789,7814,92,21,82,31,1687,null,1044,0,null,643,0,0,null,643,null,6172,null,null,-742,null,null,2984,null,6932,null,null,1699,20.5,null,null,6500,17762,0,3896,505,364,4765,7659,88,12,58,46,1245,null,986,0,null,259,0,0,0,0,259,null,6436,null,null,null,null,null,3137,null,7472,null,null,null,null,20.5,8.0299999999999994,null,null,null,null,6712,0,7131.3368618050281,6652.5970429628096,null,6652.5970429628096,null,7814,82.248234100000033,20,-1717,1,27,0]
[257,"Kirkkonummi",38649,19.5,null,null,115701,300436,-2,160693,7947,9851,178491,28225,128,2923,650,384,19450,null,18957,0,null,493,259,57,null,809,null,21649,null,null,-28616,null,null,21064,null,147568,null,null,39033,19.5,null,null,111256,302460,11,168325,6644,9806,184775,31602,26,2046,712,319,23557,null,19968,0,null,3589,36,1,-6,54,3672,null,25076,null,null,null,null,null,33601,null,163451,null,null,null,null,19.5,7.0299999999999994,null,null,null,null,23248,0,22519.017991322507,19650.417663206772,null,19650.417663206772,null,28225,-759.69101314999955,-1078,-28732,77,1705,97]
[260,"Kitee",10832,22.5,null,null,34983,98488,2,30623,2374,3100,36097,39657,42,561,452,30,11934,null,4912,0,null,7022,-175,-35,null,6812,null,7647,null,null,-7731,null,null,9375,null,34767,null,null,10719,22,null,null,36118,99240,1,29349,2263,3105,34717,40355,53,417,421,17,11790,null,5058,0,null,6732,11,0,-80,-25,6638,null,14282,null,null,null,null,null,9425,null,30246,null,null,null,null,21.5,9.0299999999999994,null,null,null,null,20251,0,38024.946753326432,36954.64819684971,null,36954.64819684971,null,39657,192.51441320000001,-119,-5968,125,565,-604]
[261,"Kittilä",6416,19.5,null,null,45611,82541,1344,18371,4330,4846,27547,21182,47,1183,162,797,11372,null,8175,106,null,3303,575,-246,null,3632,null,31335,null,null,-9465,null,null,7378,null,65256,null,null,6383,20.25,null,null,49113,83063,1010,19016,3484,5995,28495,21584,19,1054,488,604,15988,null,8661,4,null,7331,519,51,-64,-455,7280,null,38466,null,null,null,null,null,5382,null,56718,null,null,null,null,20.25,7.7799999999999994,null,null,null,null,16777,0,20430.346808401588,21129.465227056146,null,21129.465227056146,null,21182,41.815226360000004,0,-8136,813,215,83]
[263,"Kiuruvesi",8600,20.75,null,null,47488,101128,61,21344,1935,1656,24935,34529,32,538,1295,241,6288,null,5241,2,null,1049,-21,-1,null,1027,null,2084,null,null,-6393,null,null,12204,null,67120,null,null,8444,20.75,null,null,46966,100500,67,20093,1780,1683,23556,35302,13,488,679,234,5218,null,5236,122,null,104,88,4,-13,-16,159,null,2254,null,null,null,null,null,11048,null,54562,null,null,null,null,20.75,8.2799999999999994,null,null,null,null,27709,0,31254.27331853734,29686.996749745595,null,29686.996749745595,null,34529,191.68010106000003,-2,-6298,209,359,140]
[265,"Kivijärvi",1200,21,null,null,10596,18887,0,2630,375,580,3585,5800,9,66,36,5,1068,null,744,0,null,324,2,0,null,326,null,2844,null,null,-3504,null,null,2969,null,7342,null,null,1161,21,null,null,10659,19151,0,2511,386,530,3427,5820,11,73,11,1,703,null,1273,0,null,-570,-1,1,0,0,-572,null,2250,null,null,null,null,null,2816,null,7566,null,null,null,null,21,8.5299999999999994,null,null,null,null,5040,0,5252.6210348093427,4813.3506461285451,null,4813.3506461285451,null,5800,-78.574770200000003,-113,-1243,241,289,0]
[271,"Kokemäki",7591,21.25,null,null,33390,74169,0,23112,1625,2284,27021,17946,13,398,154,74,3883,null,3637,0,null,246,124,-1,null,369,null,-820,null,null,-5150,null,null,4402,null,35904,null,null,7498,21.25,null,null,32221,75437,0,22613,1508,2382,26503,21069,7,302,49,29,4157,null,3509,0,null,648,44,0,-30,4,666,null,-127,null,null,null,null,null,5083,null,37974,null,null,null,null,21.75,9.2799999999999994,null,null,null,null,16561,0,18091.880892216595,17110.433616839731,null,17110.433616839731,null,17946,105.78330789999995,28,-8112,2037,697,0]
[272,"Kokkola",47570,21,null,null,336350,556892,-495,153250,14686,14172,182108,78907,259,5679,437,4753,30242,null,36786,-373,null,-6917,-624,-231,null,-7772,null,51456,null,null,-60997,null,null,102496,null,483081,null,null,47723,21.5,null,null,358041,579936,-67,156556,12923,14432,183911,86936,176,5632,1192,157,44464,null,40395,-52,null,4017,103,92,-1296,-35,2697,null,55287,null,null,null,null,null,80324,null,461743,null,null,null,null,21.75,9.2799999999999994,null,null,null,null,66787,0,86990.13575114969,86450.548714277931,null,86450.548714277931,null,78907,-340.08804262000024,-4069,-53587,1391,11215,264]
[null,"KOKO MAA (Manner-Suomi)",5458325,19.850000000000001,null,null,23476833,49847855,59655,18443219,1638497,1581155,21662871,9442539,89280,524605,235166,98989,4449264,null,3816180,128426,null,761510,-66137,-26951,null,668422,null,9192259,null,null,-5369920,null,null,6589264,null,32689492,null,null,5474083,19.89,null,null,23891978,50389944,68081,18807344,1539341,1640918,21987603,10050212,77076,461683,186106,69647,5294232,null,3936135,322374,null,1680471,-15533,68562,-43947,-32889,1519540,null,10805452,null,null,null,null,null,6826757,null,33709261,null,null,null,null,19.920000000000002,7.4500000000000011,null,null,null,null,7374694,20000,8501912.9869393446,8201794.8606081046,null,8201794.8606081046,null,9442539,9132.1710000000003,-635925,-7001117,173789,1186717,-25879]
[273,"Kolari",3848,20,null,null,15992,37756,0,10300,683,3234,14217,12901,5,225,59,37,5111,null,3083,40,null,2068,-6,-14,null,2048,null,5972,null,null,-3058,null,null,4900,null,13834,null,null,3827,20,null,null,14886,37908,0,10199,630,3097,13926,14194,6,187,52,18,4907,null,3109,0,null,1798,0,7,-4,-11,1776,null,8490,null,null,null,null,null,4642,null,12473,null,null,null,null,20,7.5299999999999994,null,null,null,null,10196,0,14368.651252899301,14352.116877133798,null,14352.116877133798,null,12901,109.89260650000003,-48,-3719,174,123,0]
[275,"Konnevesi",2757,21.5,null,null,8554,24917,3,7372,703,767,8842,9434,212,136,5,35,1942,null,1276,-11,null,655,-128,0,null,527,null,3292,null,null,-5924,null,null,2572,null,15282,null,null,2753,21.5,null,null,9089,26265,0,7270,675,772,8717,9929,135,156,5,32,1402,null,1410,0,null,-8,-30,23,0,0,-61,null,3640,null,null,null,null,null,3247,null,23472,null,null,null,null,21.5,9.0299999999999994,null,null,null,null,7998,0,8999.5326808583486,8570.3297498781867,null,8570.3297498781867,null,9434,-40.557531940000018,0,-7140,1,255,63]
[276,"Kontiolahti",14827,20.5,null,null,30269,95585,14,45667,2104,2511,50282,24124,29,1163,298,26,8242,null,5482,0,null,2760,59,1,null,2820,null,20477,null,null,-5985,null,null,7354,null,60170,null,null,14806,20.5,null,null,34020,96881,18,46273,2005,2601,50879,22092,26,1117,280,5,9312,null,5631,7,null,3688,89,0,-4,4,3777,null,24094,null,null,null,null,null,14318,null,65149,null,null,null,null,20.5,8.0299999999999994,null,null,null,null,21930,0,23443.605096438154,22293.235877272989,null,22293.235877272989,null,24124,-27.636900947999909,-384,-6426,42,447,-835]
[280,"Korsnäs",2201,21,null,null,7898,20198,0,5014,969,648,6631,6345,2,51,22,14,635,null,1199,0,null,-564,0,0,null,-564,null,7889,null,null,-1866,null,null,892,null,2852,null,null,2171,21,null,null,7869,19768,0,5467,882,694,7043,7121,0,58,19,23,2203,null,1312,0,null,891,0,0,0,0,891,null,8844,null,null,null,null,null,1492,null,3834,null,null,null,null,21,8.5299999999999994,null,null,null,null,5701,0,6824.4706783949187,6451.2084988804727,null,6451.2084988804727,null,6345,-844.54802924000023,-23,-2757,140,295,5]
[284,"Koski tl",2399,19.5,null,null,9309,22341,1,6010,379,480,6869,7425,20,41,25,4,1259,null,986,0,null,273,23,0,null,296,null,3810,null,null,-917,null,null,3285,null,2358,null,null,2416,19.5,null,null,9567,22621,0,5938,374,475,6787,7515,18,19,23,2,1266,null,1026,0,null,240,127,0,0,0,367,null,4359,null,null,null,null,null,3010,null,1760,null,null,null,null,19.5,7.0299999999999994,null,null,null,null,6324,0,7348.3827863465522,7183.2151795660293,null,7183.2151795660293,null,7425,1024.6224748600002,13,-1863,264,121,-32]
[285,"Kotka",54319,20.5,null,null,263790,526583,2147,185520,10334,15224,211078,114086,232,9689,322,2439,51533,null,52390,0,null,-857,-1148,-1712,null,-3717,null,-48525,null,null,-49123,null,null,26194,null,574971,null,null,54187,20.5,null,null,282298,538861,4292,185958,8225,15395,209578,123450,119,8381,129,3041,68154,null,56064,159,null,12249,0,2547,-185,-2760,6757,null,-41678,null,null,null,null,null,53238,null,594337,null,null,null,null,21.5,9.0299999999999994,null,null,null,null,75460,0,106481.16027289137,110114.85236289898,null,110114.85236289898,null,114086,-982.67276236399994,1201,-63637,189,10987,64]
[286,"Kouvola",85855,20.5,null,null,295395,746779,1143,288291,19392,25060,332743,166672,289,6737,6558,871,47102,null,37615,0,null,9487,-3106,61,null,6442,null,2829,null,null,-42479,null,null,72658,null,347634,null,null,85306,20.75,null,null,291984,748987,122,294657,17467,28776,340900,175852,343,5743,4000,1360,55624,null,37804,1492,null,19312,2,2184,-187,-40,16903,null,19071,null,null,null,null,null,58095,null,333587,null,null,null,null,20.75,8.2799999999999994,null,null,null,null,146689,0,169315.38003692869,164686.80534435474,null,164686.80534435474,null,166672,-390.9063686400001,-6252,-54219,2165,9729,17]
[287,"Kristiinankaupunki",6793,21.5,null,null,23289,61144,0,20266,1185,1788,23239,19391,8,628,48,120,4082,null,2962,0,null,1120,0,0,null,1120,null,1965,null,null,-3228,null,null,4856,null,30938,null,null,6727,21.5,null,null,24125,58948,0,19971,1257,2026,23254,20967,2,502,67,61,8903,null,3057,0,null,5846,5,0,-16,0,5835,null,7763,null,null,null,null,null,5602,null,27071,null,null,null,null,21.5,9.0299999999999994,null,null,null,null,16902,0,20843.241014221978,20052.918951266565,null,20052.918951266565,null,19391,478.77064416000002,-2755,-855,0,2756,0]
[288,"Kruunupyy",6682,20.75,null,null,19740,55775,25,19049,1504,2224,22777,16004,24,442,97,20,2430,null,2297,170,null,303,124,0,null,427,null,6821,null,null,-4695,null,null,2720,null,24292,null,null,6620,20.75,null,null,20736,56429,8,18792,1509,2037,22338,16499,14,406,195,19,2936,null,2488,-1,null,447,141,0,0,-1,587,null,7276,null,null,null,null,null,4711,null,24642,null,null,null,null,21.25,8.7799999999999994,null,null,null,null,15567,0,16560.550153206088,15909.280509579252,null,15909.280509579252,null,16004,-298.98260420000003,-170,-3531,120,265,0]
[290,"Kuhmo",8806,21.5,null,null,49095,106887,0,24548,2949,2083,29580,32479,43,300,884,290,4604,null,4231,44,null,417,1,-118,null,300,null,6370,null,null,-8404,null,null,24861,null,27624,null,null,8647,21.5,null,null,48786,105791,0,23817,2734,2156,28707,32534,36,245,1433,441,5019,null,4329,294,null,984,-48,0,-28,-69,839,null,7259,null,null,null,null,null,26769,null,33946,null,null,null,null,21.5,9.0299999999999994,null,null,null,null,26933,0,32204.983399847933,31514.990996336735,null,31514.990996336735,null,32479,-38.602502000000008,20,-9022,414,244,-68]
[291,"Kuhmoinen",2334,20.75,null,null,4716,20932,0,5917,906,1332,8155,10316,105,56,50,90,2264,null,1396,-2,null,866,-9,-2,null,855,null,4056,null,null,-1752,null,null,3562,null,5395,null,null,2286,20.75,null,null,4341,21187,1,6063,861,1343,8267,10594,120,48,83,71,2100,null,1638,3,null,465,0,2,0,89,552,null,4452,null,null,null,null,null,6170,null,8266,null,null,null,null,20.75,8.2799999999999994,null,null,null,null,7978,0,9184.3710422197491,8338.7587715703903,null,8338.7587715703903,null,10316,22.414356000000002,15,-3285,0,51,1]
[297,"Kuopio",112117,20.5,null,null,545201,1076403,245,369418,21790,38175,429383,226189,905,16785,2587,715,110607,null,99054,309,null,11862,-3023,-968,null,7871,null,-40109,null,null,-111864,null,null,167916,null,908508,null,null,117740,20.5,null,null,557569,1092468,418,372394,20477,36264,429135,244730,403,14905,2576,641,126816,null,99407,1392,null,28801,-99,906,-2417,-1448,23931,null,-15766,null,null,null,null,null,186817,null,906583,null,null,null,null,20.5,8.0299999999999994,null,null,null,null,128128,0,197764.68871656925,191857.74469243138,null,191857.74469243138,null,226189,-2310.4817784159986,-4294,-140518,1450,19761,9]
[300,"Kuortane",3715,21,null,null,18955,41184,10,9670,611,720,11001,13254,22,107,91,76,1965,null,1927,0,null,38,-5,-11,null,22,null,1212,null,null,-1850,null,null,3023,null,14639,null,null,3690,21,null,null,28594,50665,3,9655,602,855,11112,14243,19,97,27,17,3218,null,1918,0,null,1300,-31,0,0,-13,1256,null,2696,null,null,null,null,null,3174,null,15320,null,null,null,null,21,8.5299999999999994,null,null,null,null,10844,0,13457.057792560663,12947.074452199231,null,12947.074452199231,null,13254,77.267266100000015,-33,-2687,58,207,39]
[301,"Kurikka",21734,19,null,null,62198,137356,14,35681,2065,2169,39915,35747,439,1239,9229,75,8872,null,9126,0,null,-254,-40,32,null,-262,null,30170,null,null,-5259,null,null,35158,null,73476,null,null,21501,20,null,null,93598,217471,14,55388,3439,4342,63169,66796,307,1341,8604,243,13433,null,16033,0,null,-2600,59,0,-68,-61,-2670,null,13876,null,null,null,null,null,46398,null,132104,null,null,null,null,21,8.5299999999999994,null,null,null,null,31058,0,61228.026907025262,59889.898439768149,null,59889.898439768149,null,35747,164.32213432,-54,-17529,173,2945,207]
[304,"Kustavi",895,19.25,null,null,4617,10261,1,2502,167,1359,4028,2363,0,69,12,6,685,null,463,0,null,222,0,0,null,222,null,2573,null,null,-639,null,null,840,null,4055,null,null,908,19.25,null,null,4652,10297,0,2684,149,1400,4233,2492,0,51,10,1,1038,null,489,0,null,549,-407,0,0,0,142,null,2716,null,null,null,null,null,1010,null,4353,null,null,null,null,19,6.5299999999999994,null,null,null,null,2254,0,2366.9019743334579,2317.8272887997659,null,2317.8272887997659,null,2363,-259.010336,0,-1061,63,9,0]
[305,"Kuusamo",15688,20,null,null,44788,134359,20,42246,3595,6873,52714,44846,51,1102,1677,124,8511,null,7241,0,null,1270,618,9,null,1897,null,14617,null,null,-6032,null,null,30402,null,59721,null,null,15533,20,null,null,49234,136667,1,41662,3304,6828,51794,46600,-29,953,1726,237,11469,null,8409,0,null,3060,538,15,-147,2,3438,null,18557,null,null,null,null,null,33441,null,60769,null,null,null,null,20,7.5299999999999994,null,null,null,null,40265,0,46150.122089347286,45023.712889604431,null,45023.712889604431,null,44846,-24.369385940000022,-1396,-9362,753,1441,-7]
[312,"Kyyjärvi",1379,20.5,null,null,9829,18019,2,3519,723,285,4527,4528,16,62,461,27,1255,null,978,0,null,277,-7,1,null,271,null,1024,null,null,-3105,null,null,6347,null,13813,null,null,1375,20.5,null,null,9707,18494,0,3083,541,283,3907,4259,22,44,112,4,-535,null,1080,0,null,-1615,0,0,0,0,-1615,null,-393,null,null,null,null,null,6580,null,14499,null,null,null,null,21,8.5299999999999994,null,null,null,null,4298,0,4388.2105956843234,4193.6809377825612,null,4193.6809377825612,null,4528,-13.697662000000005,-3,-1332,23,5,102]
[316,"Kärkölä",4604,21.75,null,null,18128,41180,0,14315,627,1228,16170,7954,23,122,6,83,896,null,1828,-9,null,-941,0,-6,null,-947,null,-4440,null,null,-2335,null,null,2390,null,17292,null,null,4540,21.75,null,null,17070,40138,0,14435,625,1163,16223,8576,4,151,28,13,1599,null,1610,4842,null,4831,1,10,0,-10,4812,null,333,null,null,null,null,null,2686,null,10567,null,null,null,null,21.75,9.2799999999999994,null,null,null,null,8022,0,8205.4911027938633,7666.8430212703242,null,7666.8430212703242,null,7954,-3696.4012576400005,-4,-2444,35,1341,361]
[317,"Kärsämäki",2658,21.5,null,null,11066,27568,7,6235,476,504,7215,10793,28,190,530,77,1768,null,1364,0,null,404,-2,74,null,476,null,4158,null,null,-1164,null,null,9866,null,18919,null,null,2655,21.5,null,null,24223,40199,0,6065,500,498,7063,11223,8,179,451,225,2329,null,1328,0,null,1001,-86,2,-9,2,906,null,4960,null,null,null,null,null,11371,null,18529,null,null,null,null,21.5,9.0299999999999994,null,null,null,null,9676,0,11174.818977159794,11185.866689552615,null,11185.866689552615,null,10793,85.983960100000004,-149,-1014,7,153,-3]
[398,"Lahti",118743,20.25,null,null,541891,1036673,118,336774,23485,32374,392633,226483,573,20896,4962,401,104714,null,102951,-495,null,1268,-3357,1026,null,-1063,null,91284,null,null,-148697,null,null,143912,null,942838,null,null,119452,20.25,null,null,558052,1118146,36,390502,22132,36543,449177,265390,1138,21399,666,2801,127689,null,117466,-135,null,10088,-10,5346,-1079,390,4043,null,132152,null,null,null,null,null,113155,null,989489,null,null,null,null,20.25,7.7799999999999994,null,null,null,null,134371,0,189230.07607595721,185476.52914527711,null,185476.52914527711,null,226483,-3867.5249037639983,-5551,-167825,574,9369,519]
[399,"Laihia",8090,21.5,null,null,19646,60379,0,27383,1090,1352,29825,13595,19,322,142,101,2357,null,3096,0,null,-739,-21,17,null,-743,null,980,null,null,-6744,null,null,2663,null,27854,null,null,8139,21.5,null,null,19205,61821,0,27054,933,1227,29214,14938,7,285,136,63,1267,null,2897,0,null,-1630,21,0,-28,4,-1633,null,-423,null,null,null,null,null,3025,null,31671,null,null,null,null,21.75,9.2799999999999994,null,null,null,null,12512,0,15122.841751783402,14812.875566635526,null,14812.875566635526,null,13595,-117.60065448000003,-77,-5515,253,500,0]
[400,"Laitila",8520,20.75,null,null,36875,80389,10,25205,2160,1890,29255,19164,13,272,33,-14,4702,null,4113,0,null,589,7,-98,null,498,null,7427,null,null,-8292,null,null,3526,null,31506,null,null,8520,20.75,null,null,37761,81043,17,24978,1928,1778,28684,20488,5,185,41,-30,5797,null,4354,0,null,1443,0,0,30,-118,1355,null,9292,null,null,null,null,null,3850,null,32541,null,null,null,null,20.75,8.2799999999999994,null,null,null,null,15878,0,20468.160427145438,20053.663926583802,null,20053.663926583802,null,19164,303.78923832000004,-219,-6121,587,171,-18]
[407,"Lapinjärvi",2774,20.5,null,null,10461,24587,-1,7854,417,553,8824,6623,7,258,794,29,1834,null,1446,18,null,406,0,0,null,406,null,940,null,null,-675,null,null,1381,null,12523,null,null,2739,20.5,null,null,9028,24905,0,7551,406,545,8502,7065,7,206,811,28,253,null,1476,0,null,-1223,-1,0,0,0,-1224,null,-421,null,null,null,null,null,1101,null,12629,null,null,null,null,20.5,8.0299999999999994,null,null,null,null,6931,0,6800.8186660735664,6582.7668348396328,null,6582.7668348396328,null,6623,-311.83350164000001,-38,-1046,1,471,0]
[402,"Lapinlahti",9982,20.25,null,null,34508,92586,115,25822,2008,2228,30058,32980,27,685,731,56,4962,null,5499,3,null,-534,-91,38,null,-587,null,249,null,null,-5880,null,null,5141,null,58639,null,null,9882,20.25,null,null,35233,93723,109,25300,1707,2223,29230,33673,28,554,418,50,4241,null,5565,43,null,-1281,-4,70,16,30,-1309,null,-1062,null,null,null,null,null,3438,null,59777,null,null,null,null,20.25,7.7799999999999994,null,null,null,null,27251,0,31099.25925977563,29858.929019646235,null,29858.929019646235,null,32980,1.9052202600000019,56,-9085,302,855,-16]
[403,"Lappajärvi",3215,21,null,null,16195,36111,9,8254,1116,923,10293,12153,19,176,47,12,2417,null,1829,0,null,588,-12,-2,null,574,null,1662,null,null,-3654,null,null,3283,null,17239,null,null,3176,21,null,null,16234,36321,5,8424,1003,927,10354,12572,9,163,32,13,2709,null,1667,0,null,1042,9,0,6,7,1064,null,2732,null,null,null,null,null,3866,null,17969,null,null,null,null,21,8.5299999999999994,null,null,null,null,8898,0,10748.972868240295,10767.562179198387,null,10767.562179198387,null,12153,-31.131049999999998,1,-2244,180,7,2]
[405,"Lappeenranta",72875,21,null,null,323407,653464,328,249786,23032,24144,296962,115039,446,8577,517,1147,71192,null,53279,0,null,17913,-3167,-205,null,14541,null,32324,null,null,-70909,null,null,44335,null,536161,null,null,72872,21,null,null,376468,693585,1327,250126,21482,24813,296421,122300,218,7097,494,1121,92917,null,49567,0,null,43350,-29,2177,-2087,-662,38395,null,69752,null,null,null,null,null,43894,null,520003,null,null,null,null,21,8.5299999999999994,null,null,null,null,90361,0,104931.12153610306,103306.10329022273,null,103306.10329022273,null,115039,-2233.9840718720002,-576,-93568,2452,16137,-5]
[408,"Lapua",14609,21,null,null,44243,119037,46,43150,2520,2763,48433,36285,11,1256,366,26,9066,null,8314,3,null,755,-25,49,null,779,null,11300,null,null,-9993,null,null,9258,null,92101,null,null,14575,21,null,null,43967,118806,59,43199,2207,2851,48257,39415,13,1319,453,67,11971,null,8802,0,null,3169,16,-1,-29,-38,3119,null,14497,null,null,null,null,null,10730,null,90378,null,null,null,null,21,8.5299999999999994,null,null,null,null,30856,0,36472.226331411031,35211.74808222361,null,35211.74808222361,null,36285,-71.85046340000001,-594,-9436,33,1095,8]
[410,"Laukaa",18865,21.5,null,null,41431,137892,18,58328,2224,4754,65306,40906,50,264,488,49,9994,null,10371,0,null,-377,-947,0,null,-1324,null,-6933,null,null,-16552,null,null,4518,null,100056,null,null,18970,21.5,null,null,41588,142812,0,59865,2057,4824,66746,43720,55,307,302,40,9252,null,9020,0,null,232,-8,22,-120,0,82,null,-3969,null,null,null,null,null,7387,null,112039,null,null,null,null,21.5,9.0299999999999994,null,null,null,null,29357,0,37051.623903444488,35732.111985401541,null,35732.111985401541,null,40906,-52.221713753999907,-511,-19898,410,937,552]
[416,"Lemi",3073,21,null,null,12487,27327,10,9088,513,784,10385,5883,1,135,9,6,1307,null,1026,0,null,281,-1,0,null,280,null,79,null,null,-3103,null,null,1261,null,10533,null,null,3076,21,null,null,14123,29337,29,9579,486,813,10878,6190,1,139,18,2,1731,null,1103,0,null,628,-29,0,0,0,599,null,679,null,null,null,null,null,1429,null,9791,null,null,null,null,21,8.5299999999999994,null,null,null,null,5553,0,6011.9726068556629,6025.7693378421573,null,{"$f":"CM127-CN127","v":6025.7693378421573},null,5883,-117.77498836000002,-26,-1657,391,92,-47]
[418,"Lempäälä",22536,20.5,null,null,56824,159803,-21,79515,3812,5221,88548,24937,24,1241,408,120,9384,null,14012,0,null,-4628,-10,-7,null,-4645,null,4729,null,null,-18992,null,null,5974,null,116371,null,null,22745,20.5,null,null,58520,158752,33,83808,3901,5243,92952,26429,158,971,371,183,18388,null,15066,69,null,3391,7,115,2,-76,3209,null,9188,null,null,null,null,null,8128,null,112685,null,null,null,null,20.5,8.0299999999999994,null,null,null,null,21852,0,23115.008880752277,21470.625809282363,null,21470.625809282363,null,24937,-462.63230784000001,-2248,-12980,232,2827,-29]
[420,"Leppävirta",9953,20,null,null,34235,85930,33,28481,2342,2275,33098,25806,47,573,741,85,7373,null,5733,0,null,1640,160,3,null,1803,null,4509,null,null,-6679,null,null,10048,null,36288,null,null,9865,20,null,null,35218,88431,31,28524,2317,2346,33187,26710,58,516,364,73,6547,null,6232,0,null,315,-224,5,-3,-21,62,null,4770,null,null,null,null,null,9689,null,35078,null,null,null,null,20,7.5299999999999994,null,null,null,null,21592,0,25247.61933896596,24413.405798921674,null,24413.405798921674,null,25806,-224.3303463,-70,-5486,169,130,-1]
[421,"Lestijärvi",798,20,null,null,5690,10427,11,1876,340,232,2448,3150,18,41,3,1,851,null,554,45,null,342,-57,0,null,285,null,3185,null,null,-379,null,null,1632,null,2921,null,null,811,21,null,null,6001,10907,26,1681,330,245,2256,3112,14,38,7,1,470,null,566,49,null,-47,0,0,0,0,-47,null,3246,null,null,null,null,null,1449,null,3242,null,null,null,null,21,8.5299999999999994,null,null,null,null,2977,130,3017.7781630500135,2977.9228165127643,null,2977.9228165127643,null,{"$f":"N130-CP130","v":3150},23.659598000000006,0,-976,29,0,90]
[422,"Lieksa",11772,21,null,null,39216,114874,2,33222,4422,3282,40926,44386,291,743,689,91,9648,null,6807,0,null,2841,-44,2,null,2799,null,24485,null,null,-5651,null,null,14404,null,50057,null,null,11580,21,null,null,38796,115486,-3,32192,3316,4303,39811,45454,268,715,609,40,8543,null,6017,0,null,2526,14,0,-11,5,2534,null,27357,null,null,null,null,null,14624,null,48278,null,null,null,null,21,8.5299999999999994,null,null,null,null,34065,0,38724.916619446856,36975.789141123962,null,36975.789141123962,null,44386,48.502175900000005,-53,-5225,67,101,-704]
[423,"Lieto",19263,19.5,null,null,55091,141947,5,65983,3127,3500,72610,23012,21,886,70,15,7961,null,7540,0,null,421,-107,19,null,333,null,5480,null,null,-6233,null,null,5374,null,67246,null,null,19418,19.5,null,null,55532,142880,2,69108,2697,3559,75364,22796,12,666,55,28,10186,null,8122,0,null,2064,0,0,-29,-49,1986,null,8452,null,null,null,null,null,10696,null,76102,null,null,null,null,19.5,{"$f":"CD132-$CE$1","v":7.0299999999999994},null,null,null,null,16925,0,20083.256553844458,18964.182524749216,null,18964.182524749216,null,23012,-329.8235128139998,-1626,-15222,1305,2252,-60]
[425,"Liminka",9937,20.5,null,null,22656,68475,10,27755,628,1168,29551,24101,14,270,98,11,7674,null,5966,0,null,1708,18,50,null,1776,null,29125,null,null,-1964,null,null,5544,null,25511,null,null,10000,20.5,null,null,20265,72301,1,28187,622,1181,29990,28110,3,233,51,0,5854,null,7482,0,null,-1628,-3,5,-32,57,-1611,null,27359,null,null,null,null,null,5453,null,23100,null,null,null,null,21,8.5299999999999994,null,null,null,null,21999,0,25133.437181412784,23477.365988118501,null,23477.365988118501,null,24101,-48.427461379999997,-634,-4451,225,905,3]
[426,"Liperi",12338,21.5,null,null,35380,97306,-8,36634,1379,2288,40301,28039,28,882,375,24,5902,null,3981,0,null,1921,-84,5,null,1842,null,7471,null,null,-9030,null,null,8041,null,51062,null,null,12301,21.5,null,null,35280,98314,-229,36586,1316,2381,40283,29715,33,732,347,6,6378,null,5081,0,null,1297,8,26,-83,6,1202,null,8680,null,null,null,null,null,7774,null,49363,null,null,null,null,21.5,9.0299999999999994,null,null,null,null,24656,0,27185.727054638155,26435.742970879513,null,26435.742970879513,null,28039,-737.72992523800008,-73,-4775,37,1394,-701]
[444,"Lohja",47353,20.5,null,null,158874,396729,-80,168554,6700,12222,187476,75055,64,2300,989,691,22658,null,22020,0,null,638,-383,12,null,267,null,19887,null,null,-37092,null,null,18349,null,163673,null,null,47149,20.5,null,null,156079,402266,128,172144,5582,12405,190131,81722,54,1900,796,631,24113,null,26207,0,null,-2094,-7,377,51,40,-2387,null,16931,null,null,null,null,null,17993,null,180376,null,null,null,null,20.5,8.0299999999999994,null,null,null,null,42170,0,68193.678893165226,65943.266221328828,null,65943.266221328828,null,75055,1752.9869350160004,-2860,-41049,70,2210,-30]
[430,"Loimaa",16467,20.5,null,null,61502,155253,8,46825,3101,4080,54006,50460,8,720,162,56,10118,null,8087,0,null,2031,-65,-219,null,1747,null,11396,null,null,-4875,null,null,10152,null,57704,null,null,16267,20.5,null,null,65627,163078,3,46513,3001,4211,53725,52058,5,505,114,50,7899,null,8068,0,null,-169,0,0,9,-298,-458,null,11153,null,null,null,null,null,7989,null,53500,null,null,null,null,20.5,8.0299999999999994,null,null,null,null,37550,0,42401.630704191186,40267.208624359533,null,40267.208624359533,null,50460,556.62317399999984,-693,-5459,30,1085,837]
[433,"Loppi",8175,20.5,null,null,23852,62584,-21,24125,1478,2002,27605,15242,5,506,52,3,3642,null,2874,0,null,768,4,-3,null,769,null,11375,null,null,-4875,null,null,1963,null,25685,null,null,8098,21.5,null,null,24289,63233,-47,25091,1450,2031,28572,15986,17,461,55,4,5174,null,3316,0,null,1858,2,0,0,0,1860,null,12888,null,null,null,null,null,2990,null,30269,null,null,null,null,21.5,9.0299999999999994,null,null,null,null,14314,0,16016.974205090351,14998.842827170796,null,14998.842827170796,null,15242,-83.082546240000028,-760,-9038,139,352,1004]
[434,"Loviisa",15311,19.75,null,null,54705,138834,-4,49304,9103,7425,65832,24732,68,679,1696,187,7262,null,6351,6,null,917,-38,1,null,880,null,3672,null,null,-5130,null,null,12177,null,52400,null,null,15208,19.75,null,null,50698,137554,-3,49366,8586,8001,65953,29758,49,531,1708,170,9839,null,7986,-130,null,1723,-2,38,-24,5,1664,null,6164,null,null,null,null,null,11559,null,54364,null,null,null,null,19.75,7.2799999999999994,null,null,null,null,22724,0,25196.303852120152,23992.803358546491,null,23992.803358546491,null,24732,171.80603873999993,-543,-11798,549,622,17]
[435,"Luhanka",761,19,null,null,null,null,null,1810,267,445,2522,null,null,null,null,null,null,null,null,null,null,0,null,null,null,null,null,null,null,null,0,null,null,null,null,null,null,null,756,18.5,null,null,2653,7645,0,1593,238,498,2329,3089,21,27,13,108,325,null,302,68,null,91,0,2,0,0,89,null,2354,null,null,null,null,null,1771,null,1996,null,null,null,null,18.5,6.0299999999999994,null,null,null,null,2731,0,3207.9894110082878,3058.3462982966921,null,3058.3462982966921,null,0,-54.541599600000048,0,-746,-1,-8,-37]
[436,"Lumijoki",2076,20.5,null,null,5631,16656,3,5039,145,255,5439,6640,3,106,17,3,968,null,1028,0,null,-60,5,0,null,-55,null,1103,null,null,-457,null,null,879,null,8183,null,null,2105,20.75,null,null,5599,16644,0,4942,132,291,5365,6840,5,81,3,1,1074,null,1032,0,null,42,-1,2,-13,-8,18,null,1007,null,null,null,null,null,770,null,7613,null,null,null,null,20.75,8.2799999999999994,null,null,null,null,4969,0,6288.8756178279291,6096.8640997322555,null,6096.8640997322555,null,6640,3.0259380600000005,-44,-557,105,58,-1]
[440,"Luoto",5147,20,null,null,8947,32549,0,13624,316,989,14929,13007,17,102,309,387,4171,null,1877,0,null,2294,-95,0,null,2199,null,13471,null,null,-1532,null,null,8345,null,20319,null,null,5176,19.5,null,null,8975,33423,0,13618,283,998,14899,13703,78,77,365,131,4389,null,1990,0,null,2399,-176,0,0,0,2223,null,15683,null,null,null,null,null,9105,null,21252,null,null,null,null,19.5,7.0299999999999994,null,null,null,null,10541,0,13722.619957251571,13091.008711763579,null,13091.008711763579,null,13007,-301.41082610000007,-201,-4383,128,270,-140]
[441,"Luumäki",4860,19.75,null,null,21954,49087,-37,13702,1943,1325,16970,11872,191,154,375,77,2008,null,2862,0,null,-854,-20,2,null,-872,null,19349,null,null,-7189,null,null,18147,null,16800,null,null,4831,19.75,null,null,23629,50849,8,13196,1905,1343,16444,12316,105,164,466,54,1901,null,3056,0,null,-1155,-2,2,-40,0,-1199,null,17497,null,null,null,null,null,16589,null,17273,null,null,null,null,19.75,7.2799999999999994,null,null,null,null,10655,0,12066.319072563994,11380.251286522653,null,11380.251286522653,null,11872,-29.28809184,-2,-5129,648,143,0]
[475,"Maalahti",5545,21.5,null,null,23941,55964,0,16988,1079,1319,19386,15659,3,167,67,53,2841,null,2407,0,null,434,-26,-2,null,406,null,4099,null,null,-6346,null,null,1900,null,21899,null,null,5517,21.5,null,null,23790,55995,-10,16991,925,1332,19248,16833,7,158,46,39,3692,null,3353,0,null,339,9,21,-18,0,309,null,5062,null,null,null,null,null,1757,null,24064,null,null,null,null,21.5,9.0299999999999994,null,null,null,null,14643,0,16510.261406941972,15901.059839205724,null,15901.059839205724,null,15659,688.65618326000003,-117,-7723,740,209,14]
[480,"Marttila",2028,20.25,null,null,6048,16219,0,5599,254,358,6211,4797,4,66,5,2,778,null,707,0,null,71,-48,0,null,23,null,1970,null,null,-404,null,null,851,null,3952,null,null,2021,20.25,null,null,6124,15912,0,5454,255,370,6079,5050,3,44,7,1,1305,null,754,0,null,551,-485,0,0,0,66,null,2086,null,null,null,null,null,1203,null,4050,null,null,null,null,20.25,7.7799999999999994,null,null,null,null,4007,0,5036.7890307157277,4544.5482279236421,null,4544.5482279236421,null,4797,-788.23818600000027,-17,-1122,284,38,0]
[481,"Masku",9706,20.75,null,null,28211,72808,3,35982,1665,1831,39478,10203,5,227,54,28,4891,null,3624,5829,null,7096,63,1,null,7160,null,1725,null,null,1165,null,null,2411,null,35961,null,null,9675,20.75,null,null,32799,78227,1,35859,1443,1862,39164,10281,92,231,51,73,3857,null,6174,0,null,-2317,23,0,-33,1,-2326,null,-1800,null,null,null,null,null,3281,null,37464,null,null,null,null,20.75,8.2799999999999994,null,null,null,null,9002,0,8632.2097828254209,7468.5816400797867,null,7468.5816400797867,null,10203,-62.53605323999998,-714,-5066,55,1395,0]
[483,"Merijärvi",1134,21,null,null,4528,10958,3,2489,104,189,2782,3917,1,34,180,13,406,null,542,0,null,-136,5,0,null,-131,null,2937,null,null,-259,null,null,2923,null,3230,null,null,1131,21.5,null,null,4214,10765,0,2178,108,198,2484,4342,1,27,158,10,397,null,542,0,null,-145,0,1,-1,-1,-148,null,2809,null,null,null,null,null,3440,null,3301,null,null,null,null,21.5,9.0299999999999994,null,null,null,null,3996,0,4302.5328210565576,4196.3458522101528,null,4196.3458522101528,null,3917,72.224036000000012,-1,-252,0,22,0]
[484,"Merikarvia",3185,19.5,null,null,10473,30824,-12,8346,720,986,10052,12559,10,45,89,6,2296,null,1497,0,null,799,-1,0,null,798,null,5911,null,null,-1552,null,null,4479,null,2927,null,null,3169,19.5,null,null,10576,30552,-2,7406,696,998,9100,12486,6,28,42,1,1627,null,1515,0,null,112,0,4,0,-10,98,null,6012,null,null,null,null,null,4321,null,2584,null,null,null,null,19.5,7.0299999999999994,null,null,null,null,11004,0,12334.322145198368,11705.726096907551,null,11705.726096907551,null,12559,81.189778400000009,20,-1578,59,154,15]
[489,"Miehikkälä",2085,20,null,null,14493,26228,-2,4886,715,440,6041,7716,11,91,19,34,1925,null,1014,0,null,911,-84,0,null,827,null,3133,null,null,-3064,null,null,2539,null,8934,null,null,2034,20,null,null,14552,26200,0,4706,716,496,5918,7731,12,69,30,11,1963,null,1304,0,null,659,6,0,18,0,683,null,5252,null,null,null,null,null,1829,null,8280,null,null,null,null,20,7.5299999999999994,null,null,null,null,6902,0,7837.232739693538,7533.4084212554908,null,7533.4084212554908,null,7716,-1350.2781626999999,-196,-1737,155,-155,-29]
[491,"Mikkeli",54665,20,null,null,245585,528406,386,168949,12366,17988,199303,136132,549,4239,1961,3301,45894,null,41440,0,null,4454,-1775,-602,null,2077,null,57524,null,null,-49105,null,null,27304,null,443077,null,null,54517,20,null,null,253655,533898,168,169039,11378,18215,198632,141338,495,4852,792,2774,51530,null,41542,14,null,10002,-88,1244,-664,-407,7599,null,64536,null,null,null,null,null,38905,null,476923,null,null,null,null,20.5,8.0299999999999994,null,null,null,null,79610,0,112621.55920466584,110846.03531546755,null,110846.03531546755,null,136132,62.137575799999645,-3605,-82947,1822,17595,1515]
[494,"Muhos",9063,20.5,null,null,34859,83292,9,24169,1243,3363,28775,23766,28,553,53,16,3629,null,4048,0,null,-419,21,-1,null,-399,null,113,null,null,-15100,null,null,2869,null,43414,null,null,8995,20.5,null,null,34471,82654,49,24867,1209,3595,29671,25615,26,488,16,5,6701,null,4640,0,null,2061,-5,4,-3,-3,2046,null,3227,null,null,null,null,null,4125,null,45520,null,null,null,null,20.5,8.0299999999999994,null,null,null,null,21009,0,25186.623478068617,24440.040957627643,null,24440.040957627643,null,23766,325.17004345999993,-212,-6812,482,283,-63]
[495,"Multia",1710,21,null,null,2539,13399,0,3937,1023,397,5357,6507,4,26,34,7,1009,null,678,0,null,331,-13,0,null,318,null,213,null,null,-1130,null,null,1338,null,2717,null,null,1663,21.75,null,null,2587,13361,1,4252,932,404,5588,6460,6,22,22,9,1272,null,593,0,null,679,-43,0,0,0,636,null,861,null,null,null,null,null,2274,null,2999,null,null,null,null,21.75,9.2799999999999994,null,null,null,null,5826,280,5885.6776789265723,5582.1117714570873,null,5582.1117714570873,null,6507,2.4282218999999969,-29,-805,2,41,-27]
[498,"Muonio",2358,21,null,null,9203,24687,0,6863,639,902,8404,8532,3,175,22,18,1284,null,1027,16,null,273,-73,0,null,200,null,-816,null,null,-950,null,null,1744,null,11207,null,null,2350,21,null,null,8628,25328,0,7044,575,921,8540,9670,2,134,18,17,1379,null,1032,0,null,347,4,-7,0,0,358,null,-132,null,null,null,null,null,2090,null,11316,null,null,null,null,21.5,9.0299999999999994,null,null,null,null,6889,0,9072.1959598056837,9071.9320815355895,null,9071.9320815355895,null,8532,38.602502000000008,-17,-1953,85,79,68]
[499,"Mustasaari",19302,20.75,null,null,56963,151971,186,68148,2504,4500,75152,27621,22,713,249,87,7428,null,9007,0,null,-1579,-21,13,null,-1587,null,5255,null,null,-10288,null,null,6053,null,76858,null,null,19380,20.75,null,null,56883,150521,66,69120,2197,4598,75915,30106,12,644,283,76,12024,null,9033,0,null,2991,21,0,8,17,3037,null,8892,null,null,null,null,null,5834,null,77432,null,null,null,null,20.75,8.2799999999999994,null,null,null,null,24207,0,31550.967310765958,30866.465014527374,null,30866.465014527374,null,27621,-230.2576982199999,-467,-12552,197,686,13]
[500,"Muurame",9791,19.5,null,null,22327,64986,17,32763,2122,1953,36838,11615,8,565,195,22,5426,null,5850,0,null,-424,-52,1,null,-475,null,2517,null,null,-8379,null,null,1446,null,50886,null,null,9941,19.5,null,null,24022,67618,18,33671,1923,2094,37688,12747,6,460,134,21,6516,null,5967,0,null,549,9,0,-32,2,528,null,3585,null,null,null,null,null,2297,null,49454,null,null,null,null,19.5,7.0299999999999994,null,null,null,null,9917,0,9980.5465953438234,9873.4438805482023,null,9873.4438805482023,null,11615,-157.63518477999995,-885,-6132,80,1004,96]
[503,"Mynämäki",7859,20.5,null,null,35992,78918,92,23585,902,1328,25815,18309,13,210,46,25,1114,null,3237,0,null,-2123,299,16,null,-1808,null,2160,null,null,-2558,null,null,3669,null,23538,null,null,7842,21,null,null,36048,78080,-26,24604,885,1581,27070,18720,22,139,158,16,3758,null,3386,0,null,372,0,0,0,17,389,null,2484,null,null,null,null,null,4070,null,23169,null,null,null,null,21,8.5299999999999994,null,null,null,null,15376,0,15850.425650683224,14942.464346886054,null,14942.464346886054,null,18309,39.847744000000006,-36,-2133,175,67,0]
[504,"Myrskylä",1969,21.5,null,null,4796,14981,-63,5522,427,400,6349,4754,2,42,276,2,1089,null,626,0,null,463,0,0,null,463,null,1975,null,null,-1118,null,null,1090,null,3640,null,null,1986,21.5,null,null,5025,15851,7,5586,403,385,6374,4626,2,36,283,4,426,null,688,0,null,-262,0,0,0,0,-262,null,1680,null,null,null,null,null,2266,null,3525,null,null,null,null,21.5,9.0299999999999994,null,null,null,null,4291,0,4256.1244291888534,4266.1485690639811,null,4266.1485690639811,null,4754,-726.36211102000004,-32,-220,90,13,1]
[505,"Mäntsälä",20685,20.5,null,null,87738,175089,-5,69507,2560,6799,78866,26307,1665,3242,254,192,16143,null,13785,0,null,2358,469,-46,null,2781,null,16550,null,null,-35866,null,null,7397,null,132314,null,null,20853,20.5,null,null,87192,176725,-1,70565,2481,6730,79776,32278,20,1468,586,181,21325,null,12399,0,null,8926,-5,34,168,-45,9010,null,25719,null,null,null,null,null,10538,null,147157,null,null,null,null,20.5,8.0299999999999994,null,null,null,null,25311,0,28834.325376199296,27587.882966763715,null,27587.882966763715,null,26307,109.00848468,-1076,-32848,13,2089,1]
[508,"Mänttä-Vilppula",10604,22,null,null,58055,120784,-51,37316,1514,2887,41717,28942,116,924,307,153,7226,null,5196,0,null,2030,-155,-28,null,1847,null,-958,null,null,-11145,null,null,4913,null,54001,null,null,10448,22,null,null,57123,124489,-75,36201,1422,2896,40519,32786,20,709,1826,145,6855,null,6441,509,null,923,16,75,-9,-152,703,null,898,null,null,null,null,null,9601,null,63676,null,null,null,null,22,9.5299999999999994,null,null,null,null,20512,0,26751.989512598655,25379.628301893496,null,25379.628301893496,null,28942,133.42768029999996,158,-9899,1397,723,-38]
[507,"Mäntyharju",6159,19.75,null,null,22698,57342,0,16367,2304,2548,21219,18150,0,297,200,141,4487,null,2968,35,null,1554,-34,-27,null,1493,null,5975,null,null,-3755,null,null,2358,null,22911,null,null,6097,19.75,null,null,23380,57656,0,15573,2011,2580,20164,18642,1,412,199,15,4303,null,3311,67,null,1059,138,0,-73,-57,1067,null,6858,null,null,null,null,null,2253,null,28032,null,null,null,null,19.75,7.2799999999999994,null,null,null,null,15041,0,18658.243226014252,17823.1377804164,null,17823.1377804164,null,18150,261.57553451999996,-166,-7285,34,453,-1408]
[529,"Naantali",18961,18.5,null,null,73341,153318,20,67237,7391,6060,80688,16219,177,1285,602,158,16008,null,13894,0,null,2114,-73,4,null,2045,null,53241,null,null,-9807,null,null,9816,null,81240,null,null,19068,18.5,null,null,77348,158651,16,69760,7044,6211,83015,17430,95,1019,1047,42,19239,null,13015,336,null,6560,10,318,-308,-11,5933,null,57043,null,null,null,null,null,9086,null,74050,null,null,null,null,19,6.5299999999999994,null,null,null,null,15486,0,16027.824280022316,13951.166665106384,null,13951.166665106384,null,16219,0.73469278000009941,-1265,-12800,72,1824,-18]
[531,"Nakkila",5651,20.75,null,null,21160,51173,0,17133,677,1258,19068,13159,2,130,47,16,2117,null,2593,0,null,-476,189,27,null,-260,null,1114,null,null,-1254,null,null,5392,null,11616,null,null,5548,20.75,null,null,20963,50184,13,17593,664,1295,19552,13310,5,109,49,9,3590,null,2192,0,null,1398,0,1,-25,0,1372,null,2684,null,null,null,null,null,6237,null,9485,null,null,null,null,21.25,8.7799999999999994,null,null,null,null,10072,0,10694.708989988947,10555.419100756222,null,10555.419100756222,null,13159,-63.254557874000049,-66,-1438,15,137,0]
[535,"Nivala",10876,21.5,null,null,69815,132036,48,28234,2412,1307,31953,37619,171,1111,1120,-63,7262,null,6099,-468,null,695,153,-5,null,843,null,8580,null,null,-4276,null,null,24454,null,93330,null,null,10889,21.5,null,null,65967,128643,100,27076,1035,2435,30546,40305,119,843,1500,-177,8841,null,6074,-317,null,2450,-144,7,138,0,2437,null,10654,null,null,null,null,null,29278,null,95573,null,null,null,null,21.5,9.0299999999999994,null,null,null,null,27461,0,37021.866144155603,36292.084151466886,null,36292.084151466886,null,37619,-35.576563939999993,-27,-6001,22,1592,736]
[536,"Nokia",33162,19.75,null,null,82333,230862,22,110914,6657,7011,124582,40634,126,1726,929,347,15529,null,15851,-5200,null,-5522,-271,-68,null,-5861,null,16596,null,null,-21504,null,null,26306,null,104735,null,null,33210,19.75,null,null,88473,234781,44,114099,5575,6924,126598,41284,83,1633,546,272,20176,null,19338,-2878,null,-2040,-346,0,0,-141,-2527,null,14102,null,null,null,null,null,38763,null,127983,null,null,null,null,20,7.5299999999999994,null,null,null,null,32524,0,39027.575069668259,38442.14788305985,null,38442.14788305985,null,40634,-616.62391452799977,-10197,-24020,499,2121,-95]
[538,"Nousiainen",4859,21,null,null,20092,43970,2,15947,317,858,17122,8117,2,139,30,147,1109,null,1572,262,null,-201,0,0,null,-201,null,133,null,null,-1480,null,null,1216,null,13133,null,null,4815,21,null,null,19982,44826,1,16254,877,353,17484,8727,1,94,31,148,1158,null,1525,0,null,-367,0,0,0,-1,-368,null,-235,null,null,null,null,null,1207,null,11867,null,null,null,null,21,8.5299999999999994,null,null,null,null,8748,0,8863.3123373494655,8421.8600951596363,null,8421.8600951596363,null,8117,-99.295597080000022,-2485,-1128,137,271,0]
[541,"Nurmes",7996,20.5,null,null,34985,82647,12,21347,2246,1679,25272,30017,68,431,392,80,7588,null,6231,0,null,1357,-134,7,null,1230,null,18483,null,null,-6151,null,null,10231,null,24393,null,null,7885,20.5,null,null,34297,82587,10,20182,2304,1729,24215,31491,67,354,359,32,7466,null,6128,0,null,1338,87,96,-3,7,1333,null,19726,null,null,null,null,null,9991,null,22307,null,null,null,null,20.5,8.0299999999999994,null,null,null,null,24210,0,29987.605744364158,29041.033696799423,null,29041.033696799423,null,30017,-90.840403900000013,-96,-5892,315,103,-453]
[543,"Nurmijärvi",41897,19.5,null,null,122302,301632,-9,162221,7060,8137,177418,28872,80,1796,1178,505,25908,null,24370,0,null,1538,-842,19,null,715,null,80466,null,null,-38275,null,null,33921,null,183029,null,null,42010,19.5,null,null,124498,305434,-2,167223,6303,8012,181538,33477,101,2046,1577,350,33162,null,25792,0,null,7370,-6,1267,127,5,6229,null,86997,null,null,null,null,null,35021,null,207442,null,null,null,null,19.5,7.0299999999999994,null,null,null,null,27250,0,29799.364563113359,27968.240304336348,null,27968.240304336348,null,28872,-502.13138408000009,-1811,-53943,517,3106,-1673]
[545,"Närpiö",9387,21,null,null,31551,80501,0,26239,2337,2348,30924,23540,384,788,773,316,5567,null,4558,0,null,1009,-283,0,null,726,null,6235,null,null,-7877,null,null,17839,null,47721,null,null,9439,21,null,null,31773,81189,0,25990,2188,2697,30875,27754,390,723,767,124,9523,null,4729,0,null,4794,-3145,0,-380,0,1269,null,13739,null,null,null,null,null,20876,null,50826,null,null,null,null,21,8.5299999999999994,null,null,null,null,21901,0,28202.176533878388,28404.771408788012,null,28404.771408788012,null,23540,69.086026160000003,-186,-9504,568,493,-100]
[560,"Orimattila",16326,20.5,null,null,56180,133427,0,46660,2712,4333,53705,31577,12,921,1508,93,8541,null,7802,867,null,1606,-78,-67,null,1461,null,11831,null,null,-9271,null,null,11999,null,56107,null,null,16279,20.75,null,null,59377,137982,2,48784,2429,4427,55640,33374,16,760,1508,79,11097,null,7841,-10,null,3246,-6,71,-42,-100,3027,null,14755,null,null,null,null,null,14527,null,53017,null,null,null,null,20.75,8.2799999999999994,null,null,null,null,31324,0,32394.057656698675,31780.252994510196,null,31780.252994510196,null,31577,-90.039713294000009,-352,-7500,98,654,-1]
[561,"Oripää",1377,19.5,null,null,3987,11612,0,3494,399,308,4201,4098,5,65,3,2,615,null,540,122,null,197,15,0,null,212,null,1283,null,null,-745,null,null,309,null,4392,null,null,1363,19.5,null,null,4458,11634,0,3331,395,342,4068,3860,4,46,3,1,712,null,589,0,null,123,15,0,0,0,138,null,1422,null,null,null,null,null,207,null,4191,null,null,null,null,19.5,7.0299999999999994,null,null,null,null,2793,0,3795.6919391818947,3612.4532789143386,null,3612.4532789143386,null,4098,-613.90430600000013,0,-437,41,2,0]
[562,"Orivesi",9408,22.25,null,null,27807,78936,84,28783,1717,3004,33504,23863,65,642,116,102,5657,null,4361,-605,null,691,129,-35,null,785,null,2560,null,null,-6017,null,null,4947,null,37963,null,null,9312,22.25,null,null,27769,78760,194,29201,1658,3036,33895,25129,53,552,115,96,7654,null,4560,55,null,3149,192,41,2,-60,3242,null,6009,null,null,null,null,null,7857,null,37871,null,null,null,null,22,9.5299999999999994,null,null,null,null,20650,0,23806.149013175425,21789.494068507352,null,21789.494068507352,null,23863,-83.779881759999995,-42,-6810,1663,332,-30]
[563,"Oulainen",7610,21.75,null,null,29224,73003,17,22315,1174,1805,25294,22945,13,371,674,154,4638,null,3513,0,null,1125,-56,-1,null,1068,null,5375,null,null,-6629,null,null,16561,null,39848,null,null,7514,21.75,null,null,30220,75485,1,22052,1022,1847,24921,24393,28,247,1130,127,4834,null,3617,0,null,1217,-8,5,-3,-3,1198,null,6573,null,null,null,null,null,18052,null,43093,null,null,null,null,21.5,9.0299999999999994,null,null,null,null,19497,0,24667.825666815399,23705.630927372735,null,23705.630927372735,null,22945,76.246167660000026,3,-7532,634,502,34]
[564,"Oulu",198525,20,null,null,776479,1694369,-2116,653256,37295,43609,734160,362319,2040,13267,4809,3594,166461,null,149293,0,null,17168,-5614,-2636,null,8918,null,639776,null,null,-179589,null,null,200419,null,876967,null,null,200526,20,null,null,829752,1742649,991,664334,33793,45522,743649,380684,2528,15108,4503,1365,200303,null,147785,0,null,52518,-182,3381,-5436,-3064,40455,null,676948,null,null,null,null,null,211408,null,874166,null,null,null,null,20,7.5299999999999994,null,null,null,null,134043,0,269792.60668520274,264130.94352082076,null,264130.94352082076,null,362319,-8702.5804271719971,-15867,-202008,1492,23255,323]
[309,"Outokumpu",7139,22.25,null,null,31730,68738,2,20287,1766,1560,23613,22361,165,616,63,26,8486,null,5136,0,null,3350,-204,-5,null,3141,null,3788,null,null,-5312,null,null,3931,null,39449,null,null,7091,22.25,null,null,31343,71552,0,19876,1319,1775,22970,22678,150,496,45,8,5063,null,4841,0,null,222,376,7,198,-3,786,null,4961,null,null,null,null,null,2816,null,37156,null,null,null,null,21.75,9.2799999999999994,null,null,null,null,16528,1000,20738.242033609564,20404.882782654618,null,20404.882782654618,null,22361,59.435400660000013,45,-12148,4243,422,-424]
[576,"Padasjoki",3143,21,null,null,14775,32771,0,8296,1184,1393,10873,9689,29,171,270,10,2684,null,2137,-11,null,536,610,-3,null,1143,null,6996,null,null,-2519,null,null,8047,null,11522,null,null,3073,21,null,null,14871,33423,0,8425,1140,1394,10959,9949,152,133,19,505,1889,null,2204,-2,null,-317,375,0,-9,-18,31,null,10623,null,null,null,null,null,7425,null,12813,null,null,null,null,21,8.5299999999999994,null,null,null,null,8983,0,9573.6933438354154,9346.4635391798984,null,9346.4635391798984,null,9689,-42.338228000000008,-9,-4101,22,98,-8]
[577,"Paimio",10620,20.75,null,null,32300,89450,1,37138,1354,1964,40456,19562,30,742,116,20,2253,null,5118,0,null,-2865,10,0,null,-2855,null,-7556,null,null,-7527,null,null,6933,null,63029,null,null,10713,20.75,null,null,32508,87548,24,38973,1307,1810,42090,20501,457,1009,32,2,7053,null,5227,-193,null,1633,0,194,0,1,1440,null,-4998,null,null,null,null,null,8047,null,62720,null,null,null,null,20.75,8.2799999999999994,null,null,null,null,10768,1500,13730.102767171955,13271.659660224852,null,13271.659660224852,null,19562,-59.622186959999993,-271,-5088,167,350,-100]
[578,"Paltamo",3488,22,null,null,24263,45298,-2,9507,685,1257,11449,12298,0,256,29,13,2470,null,1890,23,null,603,1,0,null,604,null,1068,null,null,-2445,null,null,4267,null,15518,null,null,3491,22,null,null,24769,45920,-1,9257,622,1274,11153,12645,1,155,29,37,2484,null,1651,14,null,847,-18,0,-45,0,784,null,1408,null,null,null,null,null,4361,null,16886,null,null,null,null,22,9.5299999999999994,null,null,null,null,10619,0,12699.968012396075,12388.306453853273,null,12388.306453853273,null,12298,2.5527460999999967,-430,-3199,94,509,-17]
[445,"Parainen",15457,19.75,null,null,47392,132265,-153,53325,2354,9092,64771,31146,7,1207,63,29,9725,null,7066,0,null,2659,-65,8,null,2602,null,13502,null,null,-7158,null,null,5027,null,54889,null,null,15398,19.75,null,null,48365,135253,4,54746,2014,9156,65916,31849,4,1214,71,19,9723,null,7293,0,null,2430,-66,0,0,14,2378,null,16062,null,null,null,null,null,5799,null,52513,null,null,null,null,19.75,7.2799999999999994,null,null,null,null,27301,0,30036.553538578733,28329.250362670846,null,28329.250362670846,null,31146,5.7903753000000142,14,-7182,161,399,0]
[580,"Parikkala",5235,19.5,null,null,3804,33770,-5,13444,1252,1362,16058,17862,33,57,38,2,3949,null,2235,0,null,1714,-11,-32,null,1671,null,16049,null,null,-3311,null,null,6255,null,4887,null,null,5126,19.5,null,null,30098,59624,56,12990,1418,1381,15789,18200,36,40,43,1,4545,null,2513,0,null,2032,-16,0,0,-40,1976,null,17989,null,null,null,null,null,5785,null,4126,null,null,null,null,19.5,7.0299999999999994,null,null,null,null,15519,0,17758.960305155888,16324.266165612846,null,16324.266165612846,null,17862,-136.31664173999999,-151,-4364,205,311,47]
[581,"Parkano",6766,20.5,null,null,30000,67615,0,18469,1865,1891,22225,19727,23,304,107,75,4037,null,3320,0,null,717,-16,-18,null,683,null,9382,null,null,-3549,null,null,5215,null,28208,null,null,6692,21,null,null,35718,74186,330,18541,1848,1843,22232,20800,17,271,112,75,4625,null,3707,39,null,957,4,38,2,-20,905,null,10065,null,null,null,null,null,5283,null,28942,null,null,null,null,21,8.5299999999999994,null,null,null,null,13786,0,18455.371163586129,17952.72991875351,null,17952.72991875351,null,19727,44.18118616000001,-1276,-6954,8,1602,-28]
[599,"Pedersören kunta",11129,20.5,null,null,30376,87267,46,30703,3536,2057,36296,24538,19,223,256,213,3828,null,3316,-3,null,509,-168,-8,null,333,null,11995,null,null,-6006,null,null,6802,null,31018,null,null,11067,20.5,null,null,30303,87740,24,30276,3058,2146,35480,25316,56,181,195,203,3250,null,3575,-2,null,-327,-97,34,0,-1,-459,null,12273,null,null,null,null,null,3287,null,30598,null,null,null,null,20.5,8.0299999999999994,null,null,null,null,24766,0,25485.848589965881,25030.10158526021,null,25030.10158526021,null,24538,-303.49038024000009,-303,-9705,250,3746,0]
[583,"Pelkosenniemi",958,19.5,null,null,5251,13114,-11,2476,322,1650,4448,4056,5,76,95,5,623,null,610,616,null,629,-110,3,null,522,null,1799,null,null,438,null,null,1412,null,4856,null,null,951,21.5,null,null,5413,13194,-10,2868,276,1752,4896,4027,13,43,38,6,1106,null,640,-26,null,440,-12,0,-9,-3,416,null,2215,null,null,null,null,null,1429,null,4739,null,null,null,null,22,9.5299999999999994,null,null,null,null,3431,0,3960.1850016554108,3952.5835240542528,null,3952.5835240542528,null,4056,56.035890000000002,-6,-937,42,5,0]
[854,"Pello",3623,20.25,null,null,13573,39928,-5,9860,776,677,11313,16025,3,96,177,29,1033,null,1973,47,null,-893,-3,0,null,-896,null,4971,null,null,-1779,null,null,4220,null,9656,null,null,3565,20.25,null,null,13610,39696,3,9937,672,720,11329,16420,1,84,86,19,1650,null,1854,0,null,-204,0,19,0,2,-221,null,4736,null,null,null,null,null,2868,null,9617,null,null,null,null,20.25,7.7799999999999994,null,null,null,null,14081,0,14833.950780169935,14851.610639767101,null,14851.610639767101,null,16025,-33.185699300000003,-23,-3625,150,538,-16]
[584,"Perho",2931,21,null,null,11239,27173,1,6430,560,473,7463,11647,319,46,19,13,3450,null,1557,-25,null,1868,-837,0,null,1031,null,5026,null,null,-2522,null,null,5779,null,8577,null,null,2907,21,null,null,9874,28066,-7,6094,547,487,7128,13024,226,46,11,-5,2143,null,1746,-8,null,389,1,0,0,-4,386,null,5474,null,null,null,null,null,6474,null,10666,null,null,null,null,21.5,9.0299999999999994,null,null,null,null,10360,0,11536.845695827278,11227.072780633114,null,11227.072780633114,null,11647,15.540620159999994,-43,-4855,822,43,10]
[588,"Pertunmaa",1817,21,null,null,6957,17674,0,4103,818,780,5701,6284,1,61,54,3,1259,null,882,-2,null,375,0,-4,null,371,null,62,null,null,-409,null,null,1796,null,7114,null,null,1796,21,null,null,7052,17932,0,4056,734,836,5626,6479,0,44,62,2,1241,null,827,0,null,414,-3,0,4,-3,412,null,409,null,null,null,null,null,1870,null,7657,null,null,null,null,21,8.5299999999999994,null,null,null,null,5420,0,6163.13561477641,5714.5450869828283,null,5714.5450869828283,null,6284,-33.621534000000004,57,-1862,10,49,-39]
[592,"Petäjävesi",4008,21.25,null,null,10292,32159,5,11283,858,899,13040,12219,29,242,478,67,3595,null,1798,0,null,1797,-11,0,null,1786,null,9728,null,null,-1295,null,null,5459,null,17111,null,null,3981,21.25,null,null,10820,34218,0,10960,884,852,12696,12238,26,180,151,22,1511,null,1771,0,null,-260,-218,0,0,0,-478,null,9184,null,null,null,null,null,5902,null,19679,null,null,null,null,21.25,8.7799999999999994,null,null,null,null,9266,0,10788.019960336622,10118.003139124512,null,10118.003139124512,null,12219,77.640838699999989,-88,-3519,1,142,5]
[593,"Pieksämäki",18801,21.5,null,null,51768,158287,330,58853,4706,3769,67328,46303,31,1100,594,32,6734,null,9856,3,null,-3119,-118,15,null,-3222,null,-8419,null,null,-7218,null,null,6754,null,101049,null,null,18475,22,null,null,53162,156586,80,59467,4151,4264,67882,49675,29,887,579,23,13640,null,8695,3,null,4948,102,10,-124,-9,4907,null,-3491,null,null,null,null,null,8270,null,98935,null,null,null,null,22,9.5299999999999994,null,null,null,null,41062,0,49602.322253744947,47737.660450392963,null,47737.660450392963,null,46303,-168.10393427400001,-647,-9775,78,592,-146]
[595,"Pielavesi",4740,20.75,null,null,18398,51482,23,11000,1452,1153,13605,20771,67,240,461,31,1572,null,2204,-14,null,-646,-5,2,null,-649,null,-1906,null,null,-5098,null,null,3165,null,17871,null,null,4697,20.75,null,null,19410,51519,20,10470,1339,1164,12973,21288,53,217,243,34,2183,null,2382,42,null,-157,-3,3,-3,-14,-180,null,-1964,null,null,null,null,null,3260,null,26255,null,null,null,null,20.75,8.2799999999999994,null,null,null,null,17265,0,20364.457248121125,19723.975516649352,null,19723.975516649352,null,20771,29.885808000000004,0,-10155,108,26,78]
[598,"Pietarsaari",19436,21.25,null,null,136710,240739,4770,68907,5867,5438,80212,37218,79,1759,1110,643,16959,null,13639,-917,null,2403,0,-6,null,2397,null,85974,null,null,-18805,null,null,12758,null,95792,null,null,19377,21.25,null,null,132705,241366,6303,67731,5140,4677,77548,39204,129,1332,1520,311,14400,null,10681,-1047,null,2672,0,0,0,4,2676,null,93902,null,null,null,null,null,5930,null,93625,null,null,null,null,21.25,8.7799999999999994,null,null,null,null,33518,0,39249.623244558134,38649.391806846827,null,38649.391806846827,null,37218,629.81849876000013,-205,-12634,443,674,-1914]
[601,"Pihtipudas",4221,21,null,null,26175,53064,0,10132,1473,875,12480,18436,334,207,74,203,4024,null,2358,0,null,1666,3,0,null,1669,null,9048,null,null,-2668,null,null,11559,null,23891,null,null,4202,21,null,null,26501,53840,0,9536,1398,859,11793,18965,365,159,61,61,3625,null,2347,0,null,1278,0,0,0,0,1278,null,10522,null,null,null,null,null,11528,null,27551,null,null,null,null,21,8.5299999999999994,null,null,null,null,15100,0,17185.757170917434,16315.529027520663,null,{"$f":"CM189-CN189","v":16315.529027520663},null,18436,4667.4534216600005,0,-6646,27,153,0]
[604,"Pirkkala",18913,20,null,null,44937,128254,0,74077,3275,3964,81316,10963,7,811,826,762,8222,null,7965,0,null,257,-14,77,null,320,null,47513,null,null,-13747,null,null,5054,null,46500,null,null,19163,20,null,null,50863,129875,9,77696,2989,4124,84809,11735,4,595,631,534,17047,null,10078,38,null,7007,4,29,1,49,7032,null,54538,null,null,null,null,null,12193,null,46945,null,null,null,null,20,7.5299999999999994,null,null,null,null,12842,0,11264.744130325362,10576.65385197975,null,10576.65385197975,null,10963,-655.96484503400006,-8062,-11386,596,8367,-17]
[607,"Polvijärvi",4556,19.5,null,null,16777,40774,2,10195,1097,897,12189,14960,13,136,259,60,3230,null,1953,0,null,1277,-1071,0,null,206,null,17089,null,null,-2032,null,null,9850,null,6484,null,null,4514,20.25,null,null,17066,40873,0,9659,1026,919,11604,15123,20,100,243,19,3064,null,2391,4,null,677,355,0,0,0,1032,null,17865,null,null,null,null,null,10037,null,6196,null,null,null,null,20.25,7.7799999999999994,null,null,null,null,14119,0,14490.695867971706,14120.861157775968,null,14120.861157775968,null,14960,-66.234421980000008,-1,-2695,192,12,-261]
[608,"Pomarkku",2240,20.5,null,null,11395,25483,0,5681,459,447,6587,8565,1,42,12,16,1011,null,656,0,null,355,0,0,null,355,null,4097,null,null,-2634,null,null,910,null,5253,null,null,2233,20.5,null,null,11090,25364,0,5578,434,443,6455,8456,2,36,18,9,604,null,779,0,null,-175,0,0,-4,0,-179,null,3914,null,null,null,null,null,968,null,5225,null,null,null,null,20.5,8.0299999999999994,null,null,null,null,7283,0,7763.7869843809285,7631.8522356573303,null,7631.8522356573303,null,8565,-41.902393300000014,5,-447,6,146,-4]
[609,"Pori",85363,19.75,null,null,433574,892943,-1020,268349,17944,22102,308395,222259,1378,5786,4228,31,68292,null,67180,-3274,null,-2162,-1137,-2400,null,-5699,null,15528,null,null,-75720,null,null,105392,null,468032,null,null,85059,19.75,null,null,423624,863129,-681,271049,14121,23230,308400,221256,1594,5429,3544,275,87157,null,66301,0,null,20856,66,0,-2576,-516,17830,null,41079,null,null,null,null,null,100109,null,450965,null,null,null,null,19.75,7.2799999999999994,null,null,null,null,162805,0,139000.06463433741,138742.10881707957,null,138742.10881707957,null,{"$f":"N193-CP193","v":222259},-2194.5111457139997,-10968,-92769,1357,19508,-166]
[611,"Pornainen",5125,20,null,null,9590,32550,-4,17007,387,1105,18499,6787,52,221,9,34,2128,null,2188,481,null,421,16,0,null,437,null,6348,null,null,-725,null,null,1774,null,16047,null,null,5108,20.5,null,null,9657,32397,3,17837,351,1099,19287,7348,49,219,8,33,3703,null,2189,0,null,1514,17,0,0,0,1531,null,7856,null,null,null,null,null,4395,null,16216,null,null,null,null,20.5,8.0299999999999994,null,null,null,null,6500,0,6002.9223857615216,5452.213489663729,null,5452.213489663729,null,6787,-127.93616307999997,-164,-2454,51,384,15]
[638,"Porvoo",49928,19.75,null,null,217754,450128,413,187564,17859,16419,221842,59675,146,3907,529,950,45374,null,45812,0,null,-438,-450,-5,null,-893,null,26737,null,null,-38738,null,null,38481,null,279902,null,null,50144,19.75,null,null,230928,469088,467,196962,14924,16841,228727,70944,367,3521,912,591,59145,null,46478,2030,null,14697,-2763,477,-461,-152,10844,null,36598,null,null,null,null,null,34730,null,294488,null,null,null,null,19.75,7.2799999999999994,null,null,null,null,47509,0,49098.303354133306,48447.361304748512,null,48447.361304748512,null,59675,223.64546319999977,-6936,-86509,1104,12091,-2]
[614,"Posio",3477,21,null,null,18186,42351,0,8723,707,1127,10557,15319,6,488,441,18,1653,null,1922,42,null,-227,11,0,null,-216,null,1626,null,null,-847,null,null,9464,null,20595,null,null,3424,21.75,null,null,18573,42294,1,8126,705,1234,10065,15907,2,470,81,-4,1869,null,1750,0,null,119,165,0,0,-1,283,null,-1348,null,null,null,null,null,6432,null,19949,null,null,null,null,21.75,{"$f":"CD196-$CE$1","v":9.2799999999999994},null,null,null,null,14059,0,17214.199484614343,16583.163641101761,null,16583.163641101761,null,15319,-48.688962199999999,2,-1138,31,3,0]
[615,"Pudasjärvi",8257,20.5,null,null,65761,119743,25,18865,2527,1822,23214,38040,67,564,443,67,7176,null,4875,0,null,2301,69,97,null,2467,null,13024,null,null,-9004,null,null,18798,null,42070,null,null,8187,20.5,null,null,60663,114867,1,18211,2398,1839,22448,38491,38,879,494,155,6234,null,7744,0,null,-1510,131,0,0,-4,-1383,null,11322,null,null,null,null,null,19420,null,48689,null,null,null,null,20.5,8.0299999999999994,null,null,null,null,33842,1200,37145.966772163716,35460.436334801656,null,35460.436334801656,null,38040,-1.7682436400000006,-2730,-12657,1517,395,8]
[616,"Pukkila",1971,22,null,null,6849,17336,0,6446,340,434,7220,3874,0,144,145,3,605,null,670,0,null,-65,0,0,null,-65,null,-48,null,null,37,null,null,1209,null,6348,null,null,1988,22,null,null,6855,17513,0,6509,399,406,7314,3837,1,137,147,4,500,null,2866,4409,null,2043,-1,0,0,0,2042,null,2889,null,null,null,null,null,982,null,5859,null,null,null,null,22,9.5299999999999994,null,null,null,null,3759,0,3433.3410082005371,3224.8020073318594,null,3224.8020073318594,null,3874,-1017.3627140000001,-4451,-241,54,4423,-4087]
[619,"Punkalaidun",3049,21.5,null,null,10881,28784,2,7872,502,615,8989,10862,1,120,8,3,1836,null,1378,0,null,458,0,0,null,458,null,3480,null,null,-1194,null,null,672,null,6668,null,null,3003,21.5,null,null,11281,29194,1,7507,522,617,8646,11231,0,63,11,0,1913,null,1497,0,null,416,0,0,0,0,416,null,3840,null,null,null,null,null,1264,null,6102,null,null,null,null,21.5,9.0299999999999994,null,null,null,null,10219,0,10917.478972521965,10151.058967574296,null,10151.058967574296,null,10862,205.60190661999999,0,-1282,181,116,0]
[620,"Puolanka",2776,21.5,null,null,20077,41366,0,7254,1277,794,9325,13855,2,97,31,26,1801,null,1422,18,null,397,0,0,null,397,null,2720,null,null,-1247,null,null,1773,null,9971,null,null,2735,21.5,null,null,20531,41562,0,6859,1244,813,8916,14110,2,64,41,37,1937,null,1639,11,null,309,-16,0,0,0,293,null,3014,null,null,null,null,null,1409,null,9595,null,null,null,null,21.5,9.0299999999999994,null,null,null,null,12863,0,14220.025686827392,13754.532948262404,null,13754.532948262404,null,13855,-6.163947900000001,-12,-971,52,16,-15]
[623,"Puumala",2260,20.5,null,null,8436,22980,0,6247,1400,1719,9366,8094,9,97,23,5,2846,null,1136,-56,null,1654,0,-4,null,1650,null,1687,null,null,-1484,null,null,2654,null,5399,null,null,2234,20.5,null,null,8973,22994,0,5857,1301,1730,8888,8108,8,64,47,4,2961,null,1136,1,null,1826,-1,0,0,-5,1820,null,3426,null,null,null,null,null,3902,null,4991,null,null,null,null,20,7.5299999999999994,null,null,null,null,8059,0,8245.3666557514043,7992.2972072670591,null,7992.2972072670591,null,8094,-157.00882805400002,-4,-1263,30,4,0]
[624,"Pyhtää",5321,19.75,null,null,10252,38085,-5,17440,642,1878,19960,8612,21,82,12,1,683,null,1538,0,null,-855,0,0,null,-855,null,1461,null,null,-1468,null,null,694,null,14613,null,null,5340,20.25,null,null,10448,38246,0,17986,659,2136,20781,9466,20,33,9,1,2444,null,1600,0,null,844,0,0,0,0,844,null,2304,null,null,null,null,null,1335,null,15064,null,null,null,null,20.25,7.7799999999999994,null,null,null,null,7528,0,9266.207039733461,9019.7568034956566,null,9019.7568034956566,null,8612,-55.027243980000001,-299,-1278,0,397,47]
[625,"Pyhäjoki",3211,20.25,null,null,21846,37888,-1,9093,560,631,10284,9395,120,135,407,168,3848,null,1680,0,null,2168,-112,-1,null,2055,null,13633,null,null,-3546,null,null,9043,null,15415,null,null,3188,20.25,null,null,19826,39219,-4,8977,521,814,10312,10900,41,59,449,107,2127,null,1558,0,null,569,-1,-16,-1,3,586,null,14351,null,null,null,null,null,8782,null,19905,null,null,null,null,20.25,7.7799999999999994,null,null,null,null,8030,0,10362.287857198004,9864.4622488490204,null,9864.4622488490204,null,9395,118.29799000000001,-35,-5214,249,188,-67]
[626,"Pyhäjärvi",5505,19.75,null,null,38391,74780,16,14434,6371,1111,21916,15260,78,370,799,280,956,null,3303,0,null,-2347,359,9,null,-1979,null,9324,null,null,-8519,null,null,12831,null,23182,null,null,5446,19.75,null,null,38963,75803,7,14613,5390,1027,21030,15219,89,355,639,123,-405,null,4230,0,null,-4635,883,38,0,242,-3548,null,6109,null,null,null,null,null,12693,null,32203,null,null,null,null,20.75,8.2799999999999994,null,null,null,null,16389,0,15748.845641988331,15643.026297603679,null,15643.026297603679,null,15260,-39.972268200000009,-102,-9575,426,57,28]
[630,"Pyhäntä",1587,19.75,null,null,6585,15339,63,3984,496,366,4846,5608,13,67,4,2,1711,null,1639,-41,null,31,-7,11,null,35,null,3923,null,null,-880,null,null,1083,null,6700,null,null,1579,19.75,null,null,6790,16024,36,3677,478,373,4528,5985,11,70,6,0,1262,null,961,0,null,301,-1,-1,-15,4,290,null,4105,null,null,null,null,null,1475,null,8381,null,null,null,null,19.75,7.2799999999999994,null,null,null,null,5354,0,5704.9048374340591,5464.0811228216471,null,5464.0811228216471,null,5608,104.72485220000003,-146,-1816,227,157,69]
[631,"Pyhäranta",2136,21,null,null,5196,15860,1,7212,244,513,7969,3402,7,40,5,3,677,null,625,0,null,52,0,0,null,52,null,1410,null,null,-1809,null,null,1624,null,3827,null,null,2075,21,null,null,5378,16646,0,6992,266,516,7774,3537,5,31,8,1,24,null,730,-65,null,-771,0,0,0,0,-771,null,639,null,null,null,null,null,1543,null,4425,null,null,null,null,21.75,9.2799999999999994,null,null,null,null,2842,0,3726.5417456795544,3607.9373195408652,null,3607.9373195408652,null,3402,-877.27298900000017,-108,-784,89,144,20]
[635,"Pälkäne",6676,21,null,null,21678,56599,1,18891,1201,2182,22274,16207,21,197,96,80,3398,null,3107,0,null,291,-42,-25,null,224,null,18466,null,null,-4392,null,null,3808,null,10581,null,null,6627,21,null,null,22451,58686,14,19630,1169,2195,22994,17066,8,159,92,77,3703,null,3302,0,null,401,0,71,-3,-50,277,null,17367,null,null,null,null,null,5347,null,11618,null,null,null,null,21,8.5299999999999994,null,null,null,null,14689,0,16481.261546704518,15979.455950355647,null,15979.455950355647,null,16207,-566.28625192000015,-31,-4429,31,164,59]
[636,"Pöytyä",8562,20.75,null,null,30418,77351,4,23555,1449,1434,26438,23689,2,309,16,33,2845,null,3442,0,null,-597,-12,-4,null,-613,null,532,null,null,-2114,null,null,1898,null,19751,null,null,8503,21.25,null,null,30365,76561,1,23968,1457,1564,26989,24572,0,199,34,28,5136,null,3675,0,null,1461,0,0,-9,-3,1449,null,1981,null,null,null,null,null,2220,null,18746,null,null,null,null,21.25,8.7799999999999994,null,null,null,null,18686,0,22423.863465631337,21530.833569861377,null,21530.833569861377,null,23689,-103.72865860000003,-36,-2025,198,167,13]
[678,"Raahe",25165,21,null,null,127811,240706,56,84087,3507,5791,93385,48538,190,2555,2920,2084,26801,null,19288,0,null,7513,-602,-60,null,6851,null,-3247,null,null,-24585,null,null,58782,null,253759,null,null,25010,21,null,null,125076,241835,42,82720,3086,6271,92077,53368,104,2538,2616,1751,26188,null,19164,0,null,7024,72,132,42,-38,6968,null,3721,null,null,null,null,null,55355,null,258274,null,null,null,null,21,8.5299999999999994,null,null,null,null,23465,2000,54604.150158275035,55620.777672827971,null,55620.777672827971,null,48538,-96.767755820000019,-460,-30918,400,832,40]
[710,"Raasepori",28405,22,null,null,106276,257676,-10,100375,3811,10227,114413,52252,78,2535,623,289,13132,null,13041,0,null,91,-302,0,null,-211,null,-24589,null,null,-14856,null,null,10098,null,140675,null,null,28077,22,null,null,103019,253423,-3,99483,3244,10301,113028,54454,96,2279,1410,293,16009,null,12210,1,null,3800,-1,82,-220,-4,3493,null,-20980,null,null,null,null,null,9162,null,138429,null,null,null,null,22,9.5299999999999994,null,null,null,null,47491,0,55232.623878809027,52168.291749309348,null,52168.291749309348,null,52252,-801.46639176599979,-1299,-14888,291,1670,-426]
[680,"Raisio",24290,19.75,null,null,98483,218880,41,84900,5899,7496,98295,36401,113,1602,590,56,13384,null,13303,0,null,81,-228,-5,null,-152,null,12157,null,null,-13013,null,null,10219,null,91236,null,null,24283,19.75,null,null,97987,219069,9,85391,5042,7697,98130,38145,93,1447,828,64,14612,null,13243,1345,null,2714,0,0,-184,-6,2524,null,14814,null,null,null,null,null,11243,null,89301,null,null,null,null,19.75,7.2799999999999994,null,null,null,null,22442,0,28171.878086469995,26399.571030702376,null,26399.571030702376,null,36401,-1319.1097554400003,-15238,-13621,245,378,0]
[681,"Rantasalmi",3733,20.5,null,null,21656,44504,103,9343,1075,994,11412,13626,4,182,219,13,2321,null,1568,0,null,753,-75,1,null,679,null,-3614,null,null,-3577,null,null,987,null,14134,null,null,3649,20.5,null,null,21407,43515,55,8682,996,1026,10704,14217,3,198,216,9,2880,null,1643,0,null,1237,-80,0,0,0,1157,null,-2594,null,null,null,null,null,1968,null,12872,null,null,null,null,20.5,8.0299999999999994,null,null,null,null,12158,0,13052.707694470428,12214.056377201316,null,12214.056377201316,null,13626,-63.469984740000001,-72,-2748,676,760,0]
[683,"Ranua",4020,19.75,null,null,21136,48004,0,8836,612,738,10186,21597,76,283,310,97,4921,null,2433,109,null,2597,-1059,-1,null,1537,null,22523,null,null,-10648,null,null,11418,null,17080,null,null,4023,19.75,null,null,22508,47304,0,8354,523,750,9627,21529,71,309,168,55,6236,null,4821,4,null,1419,-201,32,-54,-2,1130,null,22150,null,null,null,null,null,10982,null,16026,null,null,null,null,19.75,7.2799999999999994,null,null,null,null,20536,0,21001.016681425524,20293.23576300131,null,20293.23576300131,null,21597,-80.392823520000022,73,-6482,178,122,1]
[684,"Rauma",39809,19,null,null,172329,358026,1559,132909,21578,6960,161447,46382,577,789,948,468,23677,null,30031,0,null,-6354,-1581,48,null,-7887,null,108622,null,null,-51983,null,null,43129,null,66595,null,null,39614,20,null,null,175249,349610,1470,145324,19891,7028,172243,49243,171,669,869,181,48460,null,29738,0,null,18722,0,857,-535,-34,17296,null,128574,null,null,null,null,null,33548,null,69589,null,null,null,null,20,7.5299999999999994,null,null,null,null,43304,0,46306.640996479029,42797.431750060772,null,42797.431750060772,null,46382,-2627.9400381700002,-880,-68349,209,1475,38]
[686,"Rautalampi",3303,22,null,null,18748,39390,23,9054,699,1093,10846,13697,59,387,279,25,3824,null,1436,137,null,2525,-29,0,null,2496,null,1971,null,null,-3409,null,null,3622,null,18049,null,null,3288,22,null,null,19475,40328,27,8760,655,1111,10526,13742,9,302,153,93,3185,null,1537,0,null,1648,-10,2,-4,4,1636,null,3611,null,null,null,null,null,2790,null,16842,null,null,null,null,22,9.5299999999999994,null,null,null,null,11089,0,12692.693351019469,12244.632636464239,null,12244.632636464239,null,13697,25.539913419999991,-3,-2174,32,8,-50]
[687,"Rautavaara",1737,21,null,null,10321,23084,13,3878,1306,329,5513,8830,152,208,255,517,1275,null,1420,1,null,-144,-4,31,null,-117,null,2420,null,null,-4228,null,null,3049,null,15448,null,null,1723,21,null,null,10328,23470,11,3819,1202,335,5356,8917,31,179,490,17,1467,null,1571,-192,null,-296,-1,2,1,23,-275,null,2143,null,null,null,null,null,2811,null,18505,null,null,null,null,21,8.5299999999999994,null,null,null,null,7723,0,8254.3297014753389,7943.5784032731171,null,7943.5784032731171,null,8830,105.84556999999998,-1,-2981,338,9,1370]
[689,"Rautjärvi",3537,20.5,null,null,18930,39735,15,10798,738,713,12249,12315,22,135,36,2,3677,null,2030,0,null,1647,-9,53,null,1691,null,9290,null,null,-6989,null,null,1150,null,10846,null,null,3473,20.5,null,null,20829,41379,44,10545,1060,731,12336,12911,41,120,18,1,4661,null,2264,0,null,2397,-2,17,-1,0,2377,null,11506,null,null,null,null,null,1085,null,12868,null,null,null,null,20.25,7.7799999999999994,null,null,null,null,9465,0,11571.843113372875,10243.169582095981,null,10243.169582095981,null,12315,133.55220449999999,-1319,-5718,5,403,-187]
[691,"Reisjärvi",2894,22,null,null,26687,44410,0,7748,355,657,8760,10335,21,139,552,28,1768,null,1510,0,null,258,-105,1,null,154,null,2527,null,null,-1604,null,null,14811,null,20296,null,null,2854,22,null,null,25710,43725,0,6830,344,684,7858,10551,49,155,1437,1264,449,null,1799,17,null,-1333,-11,0,0,-5,-1349,null,1439,null,null,null,null,null,16984,null,27091,null,null,null,null,22,9.5299999999999994,null,null,null,null,10323,0,10925.536995789598,10388.596285237918,null,10388.596285237918,null,10335,-66.122350200000014,0,-5426,227,-5,25]
[694,"Riihimäki",29269,20.5,null,null,91055,226386,680,106161,9324,7396,122881,35490,201,2186,141,13,21863,null,14168,0,null,7695,-1943,-283,null,5469,null,2489,null,null,-14571,null,null,14988,null,178516,null,null,29160,20.5,null,null,94040,231381,4,103431,6983,9751,120165,36248,142,1882,142,27,17451,null,15405,0,null,2046,7,850,-203,-282,718,null,3110,null,null,null,null,null,17434,null,177630,null,null,null,null,20.5,8.0299999999999994,null,null,null,null,34479,0,35788.622937855151,33946.686323668633,null,33946.686323668633,null,35490,-61.10402493999986,-4448,-14478,507,2878,12]
[697,"Ristijärvi",1351,21.5,null,null,12854,23189,0,3895,468,771,5134,5791,5,47,17,33,523,null,822,-70,null,-369,0,0,null,-369,null,1886,null,null,-515,null,null,1265,null,5956,null,null,1345,21.5,null,null,12535,22909,5,3537,435,846,4818,6087,8,46,103,5,587,null,851,6,null,-258,-7,0,6,0,-259,null,1813,null,null,null,null,null,1296,null,6164,null,null,null,null,21.5,9.0299999999999994,null,null,null,null,5674,0,6081.0998290194384,5749.5147215332836,null,5749.5147215332836,null,5791,10.0241981,-3,-607,99,8,41]
[698,"Rovaniemi",61838,21,null,null,217384,539918,3502,205699,10765,24919,241383,119386,1045,2821,1333,626,39850,null,43845,733,null,-3262,-7487,55,null,-10694,null,111006,null,null,-67260,null,null,62912,null,197199,null,null,62231,21,null,null,220900,532535,2793,208386,10062,30298,248746,123304,552,3289,808,252,59620,null,37115,326,null,22831,-5219,1183,-1092,-61,15276,null,126404,null,null,null,null,null,82750,null,223025,null,null,null,null,21,8.5299999999999994,null,null,null,null,82991,0,94448.108967202221,91514.477581883868,null,91514.477581883868,null,119386,-2854.3212980439994,-3045,-89393,3469,23834,34]
[700,"Ruokolahti",5312,20.5,null,null,23192,54069,19,17558,1799,1758,21115,12355,12,115,15,4,2520,null,3628,0,null,-1108,0,112,null,-996,null,10098,null,null,-2739,null,null,2911,null,11808,null,null,5245,20.5,null,null,25821,56004,54,17630,1751,1788,21169,12938,9,72,16,2,3929,null,2194,0,null,1735,-2,2,1,117,1849,null,11776,null,null,null,null,null,4027,null,10792,null,null,null,null,20.5,8.0299999999999994,null,null,null,null,9556,0,11432.839775895922,10839.00586977597,null,10839.00586977597,null,12355,-298.40979288000005,-94,-1928,7,106,0]
[702,"Ruovesi",4623,22.25,null,null,14068,41986,0,13686,1413,1601,16700,15023,10,140,109,49,3689,null,1832,0,null,1857,-59,-15,null,1783,null,2110,null,null,-2199,null,null,1827,null,10404,null,null,4565,22.25,null,null,14609,42209,7,13066,1433,1638,16137,15901,8,124,98,49,4334,null,1843,26,null,2517,2,21,-58,-32,2408,null,4518,null,null,null,null,null,3036,null,8661,null,null,null,null,22,9.5299999999999994,null,null,null,null,12095,500,14230.194300208697,13646.899225003552,null,13646.899225003552,null,15023,-40.09679240000002,-170,-1785,74,98,-45]
[704,"Rusko",6110,19.5,null,null,12380,38886,2,20120,873,1052,22045,6018,2,107,28,17,1465,null,2120,0,null,-655,2,0,null,-653,null,10147,null,null,-887,null,null,2693,null,12802,null,null,6137,19.75,null,null,13665,38983,1,21449,960,1152,23561,6391,1,67,35,13,4592,null,2182,0,null,2410,0,0,0,0,2410,null,12493,null,null,null,null,null,4515,null,12831,null,null,null,null,19.75,7.2799999999999994,null,null,null,null,5749,0,5433.8785557607498,4534.4343678437244,null,4534.4343678437244,null,6018,-256.00930277999998,-1270,-3377,4,1549,0]
[707,"Rääkkylä",2349,21,null,null,9635,25751,3,5418,475,620,6513,10289,13,100,223,16,789,null,1035,3490,null,3244,72,13,null,3329,null,1618,null,null,2608,null,null,6202,null,8744,null,null,2268,21.5,null,null,9816,24845,-1,5001,484,655,6140,10432,19,119,209,7,1622,null,952,0,null,670,2,0,-2,1,671,null,-1197,null,null,null,null,null,2597,null,8511,null,null,null,null,21.5,9.0299999999999994,null,null,null,null,8603,390,9746.8758477110532,9126.0134268826496,null,9126.0134268826496,null,10289,-59.72180632000002,-10,-985,8,15,-136]
[729,"Saarijärvi",9915,21.5,null,null,51452,107898,36,26870,2141,2092,31103,32438,74,946,368,42,6430,null,6854,0,null,-424,-65,-55,null,-544,null,11624,null,null,-6033,null,null,9471,null,46291,null,null,9690,21.5,null,null,51249,106945,91,25876,2131,1943,29950,33192,83,595,69,9,6941,null,6929,0,null,12,101,71,-12,-8,22,null,11648,null,null,null,null,null,8424,null,49209,null,null,null,null,21.5,9.0299999999999994,null,null,null,null,27162,0,30637.811403880976,29766.902199537104,null,29766.902199537104,null,32438,-106.96628779999996,-93,-8306,2235,317,-165]
[732,"Salla",3727,20.5,null,null,19892,47666,372,9795,1177,1234,12206,19581,3,378,21,25,4006,null,2460,0,null,1546,-49,0,null,1497,null,3600,null,null,-5651,null,null,1578,null,22210,null,null,3653,20.5,null,null,20152,48112,358,9210,1122,1255,11587,19969,1,353,31,20,3613,null,2456,0,null,1157,11,0,-67,31,1132,null,4660,null,null,null,null,null,931,null,20142,null,null,null,null,20.5,8.0299999999999994,null,null,null,null,18083,0,20337.731278993171,19769.361653113141,null,19769.361653113141,null,19581,-8.3431213999999958,-38,-5022,745,79,25]
[734,"Salo",53890,20.75,null,null,175774,460249,1746,169873,10665,13947,194485,122520,141,3539,340,60,30788,null,25951,713,null,5550,-415,-69,null,5066,null,33136,null,null,-18977,null,null,39407,null,195809,null,null,53546,20.75,null,null,170393,454138,366,172697,10142,14059,196898,128030,32,2809,509,43,38884,null,27469,0,null,11415,0,63,-129,6,11229,null,43720,null,null,null,null,null,38498,null,172162,null,null,null,null,20.75,8.2799999999999994,null,null,null,null,68524,0,106904.42791558705,102517.23085968495,null,102517.23085968495,null,122520,-626.80252263600005,-534,-20483,1633,972,83]
[790,"Sastamala",25220,20.75,null,null,111620,250933,-3,72541,4588,5236,82365,76685,33,1209,419,381,18463,null,12809,0,null,5654,-248,-168,null,5238,null,33854,null,null,-13902,null,null,35820,null,80887,null,null,25062,20.75,null,null,111880,254580,-157,70867,4124,5353,80344,78750,21,992,552,377,15311,null,12891,164,null,2584,17,272,-21,-271,2037,null,35418,null,null,null,null,null,35550,null,86193,null,null,null,null,20.75,8.2799999999999994,null,null,null,null,51718,0,63703.083940608041,61798.002364448854,null,61798.002364448854,null,76685,-355.47923374000015,-323,-17095,72,1567,-107]
[738,"Sauvo",3019,21,null,null,9683,24238,0,9200,381,953,10534,4869,5,98,3,3,755,null,1003,25,null,-223,-80,0,null,-303,null,-2521,null,null,-1228,null,null,631,null,5024,null,null,3047,21,null,null,9544,24245,0,9824,351,1098,11273,4900,3,62,13,2,1424,null,972,0,null,452,0,3,-10,0,439,null,-1744,null,null,null,null,null,768,null,11966,null,null,null,null,21.5,9.0299999999999994,null,null,null,null,5039,0,4640.1742451014252,4353.6949746342125,null,4353.6949746342125,null,4869,-62.324362099999981,-38,-624,145,64,0]
[739,"Savitaipale",3613,21,null,null,22925,45034,21,10113,1082,1300,12495,11719,48,194,46,0,2025,null,1577,0,null,448,-2,-3,null,443,null,3641,null,null,-2733,null,null,4846,null,11088,null,null,3534,21,null,null,24969,47918,-140,9685,1151,1317,12153,11939,20,130,34,2,925,null,1594,0,null,-669,-2,0,-17,-4,-692,null,2885,null,null,null,null,null,1724,null,10132,null,null,null,null,21,8.5299999999999994,null,null,null,null,10245,0,11846.231804699573,11313.422598243873,null,11313.422598243873,null,11719,287.96221250000002,354,-2966,78,43,-800]
[740,"Savonlinna",35523,22,null,null,111744,298284,-35,114616,9193,12238,136047,75539,85,3651,561,153,20631,null,20149,-330,null,152,694,-10,null,836,null,-12872,null,null,-13110,null,null,10241,null,215647,null,null,35242,22.5,null,null,100725,298581,-48,116031,7835,13988,137854,91039,63,2968,436,211,26847,null,19532,298,null,7613,3,23,-109,-183,7301,null,-5708,null,null,null,null,null,13632,null,212208,null,null,null,null,22.5,10.029999999999999,null,null,null,null,49726,0,81701.482783262836,80716.925604161341,null,80716.925604161341,null,75539,-2529.93326656,-1531,-20248,692,2064,1120]
[742,"Savukoski",1061,21.75,null,null,5745,13340,0,2883,990,387,4260,4599,1,67,11,7,1199,null,447,14,null,766,0,1,null,767,null,431,null,null,-58,null,null,2667,null,3570,null,null,1044,21.75,null,null,5819,13275,0,2870,853,400,4123,4619,1,36,11,7,1253,null,396,516,null,1373,13,0,0,0,1386,null,1805,null,null,null,null,null,3619,null,3088,null,null,null,null,21.75,9.2799999999999994,null,null,null,null,4187,0,4428.5456157948929,4411.6013180811315,null,4411.6013180811315,null,4599,-32.376291999999999,30,-945,10,726,-5]
[743,"Seinäjoki",61530,21,null,null,272208,549012,814,206513,22017,15251,243781,83041,288,7162,1758,575,45142,null,42584,-450,null,2108,-550,-328,null,1230,null,74285,null,null,-75328,null,null,53008,null,435059,null,null,62052,21,null,null,282703,552631,349,208038,22736,13028,243802,93849,130,5430,1334,1751,62355,null,44120,0,null,18235,-1818,0,0,-182,16235,null,93127,null,null,null,null,null,68924,null,482770,null,null,null,null,21,8.5299999999999994,null,null,null,null,68593,0,94257.030394365676,93329.335684927515,null,93329.335684927515,null,83041,-155.71751209999982,-7405,-97859,326,9883,330]
[746,"Sievi",5124,21.75,null,null,32522,62429,44,12838,1854,1036,15728,17476,99,524,37,12,2941,null,2298,-8,null,635,12,-28,null,619,null,1910,null,null,-2416,null,null,9258,null,32293,null,null,5069,21.75,null,null,29705,60548,89,12039,1830,1040,14909,18781,72,460,36,16,2493,null,2198,1227,null,1522,0,3,1,-22,1498,null,3701,null,null,null,null,null,7429,null,28130,null,null,null,null,21.75,9.2799999999999994,null,null,null,null,15513,0,19046.997848400664,18177.862094716442,null,18177.862094716442,null,17476,-59.39804340000002,-21,-1873,21,717,60]
[747,"Siikainen",1527,21,null,null,8893,18533,0,3538,579,523,4640,5941,4,46,16,8,907,null,711,0,null,196,0,0,null,196,null,1218,null,null,-616,null,null,1753,null,2616,null,null,1494,21,null,null,8791,17927,0,3245,539,552,4336,5750,2,19,18,4,947,null,713,70,null,304,0,0,0,1,305,null,1525,null,null,null,null,null,1391,null,2483,null,null,null,null,21,8.5299999999999994,null,null,null,null,4822,0,5131.8958156727067,4841.0276562077988,null,4841.0276562077988,null,5941,-59.95840229999996,-77,-446,27,5,0]
[748,"Siikajoki",5466,22,null,null,37243,68207,12,15590,720,1070,17380,19267,94,250,239,54,5667,null,3078,-334,null,2255,1998,-2,null,4251,null,5928,null,null,-8101,null,null,7550,null,25738,null,null,5366,22,null,null,37667,69036,1,14569,702,1164,16435,19836,53,209,77,58,4692,null,3106,-26,null,1560,-3,3,-2,-3,1549,null,7432,null,null,null,null,null,8016,null,26741,null,null,null,null,22,9.5299999999999994,null,null,null,null,16644,0,18236.138954654252,17725.544368061648,null,17725.544368061648,null,19267,23.734312520000007,25,-6711,916,334,-28]
[791,"Siikalatva",5677,22.25,null,null,29485,69137,22,15224,1126,1363,17713,25613,86,362,38,49,3409,null,3196,0,null,213,0,-12,null,201,null,2326,null,null,-3628,null,null,4015,null,31310,null,null,5583,22.25,null,null,30276,70532,2,13983,1065,1387,16435,26242,105,229,38,36,2301,null,2963,0,null,-662,-7,9,-11,-26,-715,null,1612,null,null,null,null,null,4867,null,35052,null,null,null,null,22,9.5299999999999994,null,null,null,null,19779,0,22819.248319828232,22067.567859788145,null,22067.567859788145,null,25613,-107.86286204000002,0,-4999,860,16,66]
[749,"Siilinjärvi",21794,21.25,null,null,67213,167795,88,75302,5436,5247,85985,26224,36,1758,792,92,10693,null,9617,96,null,1172,-70,6,null,1108,null,-2302,null,null,-16809,null,null,10352,null,117715,null,null,21768,21.25,null,null,69928,171227,254,76164,3843,5294,85301,29250,23,1611,710,91,12537,null,10730,0,null,1807,122,33,-122,-49,1725,null,-938,null,null,null,null,null,11778,null,121482,null,null,null,null,21.25,8.7799999999999994,null,null,null,null,26801,0,31747.587170929779,31763.665669021131,null,31763.665669021131,null,26224,2.540293680000119,-412,-14140,94,794,-23]
[751,"Simo",3238,21.75,null,null,22209,41612,0,10767,323,747,11837,8782,7,184,3,0,1042,null,1289,15,null,-232,-14,0,null,-246,null,188,null,null,-778,null,null,3114,null,11167,null,null,3170,22,null,null,22818,41564,0,10695,296,895,11886,9150,4,165,4,1,2132,null,1339,0,null,793,-20,0,0,0,773,null,771,null,null,null,null,null,3362,null,10536,null,null,null,null,22,9.5299999999999994,null,null,null,null,8720,0,8695.5928157737653,8045.0265430497066,null,8045.0265430497066,null,8782,-48.56443800000001,-42,-1194,40,176,0]
[753,"Sipoo",19399,19.25,null,null,74481,156879,161,75499,4104,7598,87201,14572,15,751,865,184,19482,null,10700,0,null,8782,75,14,null,8871,null,63359,null,null,-7041,null,null,7074,null,45305,null,null,19922,19.25,null,null,69321,160912,166,80235,4073,8390,92698,15815,4,570,248,193,16577,null,10237,0,null,6340,0,0,0,-18,6322,null,57514,null,null,null,null,null,6039,null,46878,null,null,null,null,19.25,6.7799999999999994,null,null,null,null,15429,0,14504.230586547721,13104.90746901746,null,13104.90746901746,null,14572,138.7199587999998,-6142,-12205,0,0,96]
[755,"Siuntio",6182,21.5,null,null,13759,44567,-2,25158,558,2117,27833,4835,7,503,65,51,1376,null,2436,0,null,-1060,-2,0,null,-1062,null,-1825,null,null,-1680,null,null,812,null,23688,null,null,6178,21.5,null,null,14088,43708,0,26738,440,2097,29275,5391,6,476,76,55,4596,null,2073,0,null,2523,0,0,0,0,2523,null,689,null,null,null,null,null,1816,null,21654,null,null,null,null,21.5,9.0299999999999994,null,null,null,null,5172,0,4367.2436097117725,4320.7118185380505,null,4320.7118185380505,null,4835,-918.98486027400008,-325,-1858,2,339,-4]
[758,"Sodankylä",8782,20,null,null,45156,96656,1203,27403,2324,6813,36540,25365,60,961,461,41,11128,null,6549,-313,null,4266,-292,0,null,3974,null,24307,null,null,-12043,null,null,14540,null,58143,null,null,8653,20,null,null,46002,100472,904,27447,2408,7115,36970,26198,4,901,134,42,8772,null,6604,-141,null,2027,-139,0,-98,0,1790,null,25662,null,null,null,null,null,10358,null,56402,null,null,null,null,20,7.5299999999999994,null,null,null,null,23787,0,26160.657859499879,25586.961720542011,null,25586.961720542011,null,25365,-46.721479840000015,0,-11572,318,235,395]
[759,"Soini",2224,21.5,null,null,21518,34043,0,5121,488,517,6126,8232,10,230,226,106,1734,null,949,3,null,788,-7,0,null,781,null,320,null,null,-1309,null,null,1072,null,13380,null,null,2186,21.75,null,null,21382,34301,-4,4806,515,511,5832,8524,5,192,70,-20,1336,null,970,0,null,366,7,0,-3,-2,368,null,658,null,null,null,null,null,1045,null,12950,null,null,null,null,21.75,9.2799999999999994,null,null,null,null,7293,330,8324.3502897925082,7808.9759350760896,null,7808.9759350760896,null,8232,-1889.2811623999999,6,-973,10,33,41]
[761,"Somero",9093,19.5,null,null,30419,78206,4,24378,1242,1629,27249,27017,25,321,75,29,6208,null,4841,3,null,1370,-195,-6,null,1169,null,28478,null,null,-6813,null,null,6241,null,24274,null,null,9027,19.5,null,null,34210,81991,1,23546,1184,1639,26369,28143,19,227,290,18,6742,null,5397,1577,null,2922,-200,153,25,1,2595,null,31664,null,null,null,null,null,7026,null,27325,null,null,null,null,19.5,7.0299999999999994,null,null,null,null,21912,0,25996.956362791305,24565.739830798117,null,24565.739830798117,null,27017,120.11604331999993,-129,-11194,132,210,-156]
[762,"Sonkajärvi",4278,20.5,null,null,27628,54139,-626,10624,1846,773,13243,16225,9,222,365,55,2386,null,2197,1,null,190,-29,-3,null,158,null,760,null,null,-2741,null,null,3206,null,17428,null,null,4199,20.5,null,null,28167,54868,-489,9603,1788,807,12198,16517,6,208,210,49,1439,null,2292,36,null,-817,-2,2,-15,0,-836,null,485,null,null,null,null,null,2761,null,19067,null,null,null,null,20.5,8.0299999999999994,null,null,null,null,13110,0,15695.432977192997,14985.462191395234,null,14985.462191395234,null,16225,80.94073000000003,-11,-5381,137,22,64]
[765,"Sotkamo",10523,21.25,null,null,49072,112456,785,31788,2686,3704,38178,24846,1454,463,205,176,1445,null,4138,46,null,-2647,1,6,null,-2640,null,9750,null,null,-8532,null,null,1406,null,35478,null,null,10471,21.25,null,null,49424,112569,-13,32172,2298,4105,38575,26881,1490,349,199,281,3357,null,4300,29,null,-914,-46,0,-121,3,-1078,null,8513,null,null,null,null,null,5997,null,44844,null,null,null,null,21.25,8.7799999999999994,null,null,null,null,20366,0,27019.845073262648,25873.845256213939,null,25873.845256213939,null,24846,-121.9091918,-105,-7374,1038,153,-460]
[768,"Sulkava",2724,21.5,null,null,17678,36090,0,6722,936,1168,8826,10762,9,121,104,11,1140,null,1097,15,null,58,-38,0,null,20,null,2203,null,null,-551,null,null,1371,null,7578,null,null,2661,21.5,null,null,18059,36805,0,6492,1065,943,8500,11412,11,101,110,3,1166,null,1084,0,null,82,18,11,-7,0,82,null,2364,null,null,null,null,null,1722,null,7603,null,null,null,null,21.5,9.0299999999999994,null,null,null,null,8783,0,11350.093028234784,10864.194191546345,null,10864.194191546345,null,10762,154.5967943,-122,-635,13,27,0]
[777,"Suomussalmi",8336,20.5,null,null,51884,106575,0,21961,2942,2480,27383,32947,36,300,1710,533,6441,null,5242,0,null,1199,-385,0,null,814,null,8543,null,null,-8860,null,null,13855,null,19805,null,null,8187,20.5,null,null,51559,104639,0,21331,2561,2593,26485,32778,24,291,442,98,6194,null,5300,345,null,1239,-39,0,-131,9,1078,null,12355,null,null,null,null,null,14216,null,20584,null,null,null,null,20.5,8.0299999999999994,null,null,null,null,30325,0,32177.226760802103,31230.720869188324,null,31230.720869188324,null,32947,93.579936300000028,-80,-7330,202,115,-116]
[778,"Suonenjoki",7390,22,null,null,37119,76985,40,21377,1666,1674,24717,22979,19,1276,556,51,7118,null,5172,302,null,2248,-95,-3,null,2150,null,-1853,null,null,-8188,null,null,5455,null,66300,null,null,7312,22,null,null,38714,78354,34,21089,1572,1831,24492,24464,218,981,311,-128,9026,null,6091,0,null,2935,-19,6,55,-28,2937,null,1081,null,null,null,null,null,5893,null,63861,null,null,null,null,21.75,9.2799999999999994,null,null,null,null,21875,0,24657.919280990056,24281.447809473826,null,24281.447809473826,null,22979,91.375857959999962,-18,-5616,49,219,-23]
[781,"Sysmä",4040,19,null,null,22925,45538,0,9270,1269,1903,12442,13829,111,68,29,29,3674,null,1620,-14,null,2040,-22,0,null,2018,null,11457,null,null,-1909,null,null,11069,null,4228,null,null,3953,19,null,null,22364,46001,0,8645,1276,1973,11894,14178,37,76,94,27,2439,null,1583,-3,null,853,0,0,7,0,860,null,12310,null,null,null,null,null,9462,null,3600,null,null,null,null,19,6.5299999999999994,null,null,null,null,12058,0,14280.575754524552,13423.099319729699,null,13423.099319729699,null,13829,-43.421588539999995,-363,-3900,27,1342,4]
[783,"Säkylä",7070,20.5,null,null,13363,37994,0,15859,1300,1217,18376,8161,9,223,53,11,1734,null,2348,175,null,-439,4,5,null,-430,null,-5627,null,null,-2703,null,null,2754,null,21549,null,null,6988,21.5,null,null,18022,54474,0,24758,1652,1908,28318,13801,14,238,56,14,5483,null,2907,0,null,2576,30,0,20,4,2630,null,-5233,null,null,null,null,null,2084,null,22726,null,null,null,null,21.5,9.0299999999999994,null,null,null,null,5702,380,11703.926939837909,10825.349117472331,null,10825.349117472331,null,8161,23.721860100000004,-525,-2938,11,647,0]
[831,"Taipalsaari",4815,20,null,null,16413,39505,14,16103,709,1704,18516,6087,13,184,9,7,1356,null,2083,0,null,-727,184,0,null,-543,null,3969,null,null,-9664,null,null,730,null,18513,null,null,4832,20,null,null,18169,42207,-151,16565,694,1727,18986,6147,6,193,13,12,758,null,3020,0,null,-2262,-2,1,1,0,-2264,null,1752,null,null,null,null,null,1983,null,24157,null,null,null,null,20.5,8.0299999999999994,null,null,null,null,5945,0,6149.4194467084208,5964.8739252692958,null,{"$f":"CM253-CN253","v":5964.8739252692958},null,6087,-203.92082991999999,6,-5138,4,130,-47]
[832,"Taivalkoski",4199,20.5,null,null,14881,41507,-46,10084,1146,798,12028,18275,1,105,121,2,3646,null,2659,-375,null,612,-36,-1,null,575,null,9762,null,null,-3695,null,null,3025,null,6153,null,null,4133,20.5,null,null,15099,41920,-16,10209,1139,811,12159,18848,10,69,76,15,4172,null,2612,0,null,1560,-2,2,29,-2,1583,null,12392,null,null,null,null,null,4379,null,7508,null,null,null,null,20.5,8.0299999999999994,null,null,null,null,16783,0,18429.857872874352,17818.2649468032,null,17818.2649468032,null,18275,-65.400109840000013,-711,-4468,0,12,797]
[833,"Taivassalo",1633,20.5,null,null,6874,15750,1,4897,265,1126,6288,4291,4,189,12,5,1521,null,976,0,null,545,4,0,null,549,null,2660,null,null,-1215,null,null,1467,null,10023,null,null,1622,20.75,null,null,6997,16116,0,4781,212,1183,6176,4440,7,171,11,3,1336,null,1009,45,null,372,5,0,0,0,377,null,3027,null,null,null,null,null,2227,null,9806,null,null,null,null,20.75,8.2799999999999994,null,null,null,null,3431,0,4446.9122318046257,4285.8572455723588,null,4285.8572455723588,null,4291,243.41990616000001,-1026,-1037,68,564,0]
[834,"Tammela",6280,19.5,null,null,25685,56554,-6,18107,1294,1468,20869,12932,22,132,38,21,2833,null,2604,0,null,229,-5,-2,null,222,null,12338,null,null,-3419,null,null,806,null,14060,null,null,6241,19.5,null,null,25223,56848,19,18021,1209,1478,20708,14126,0,122,33,10,3129,null,2741,0,null,388,-10,0,0,0,378,null,12671,null,null,null,null,null,1000,null,14266,null,null,null,null,20.25,7.7799999999999994,null,null,null,null,11179,0,12330.598206645016,11275.792073588545,null,11275.792073588545,null,12932,-84.016477739999999,-108,-2833,109,144,0]
[837,"Tampere",225118,19.75,null,null,1057088,2064237,4269,755608,67298,63948,886854,358900,1532,26553,6317,4021,220148,null,188414,0,null,31734,-9722,-3348,null,18664,null,659254,null,null,-315366,null,null,187027,null,1209251,null,null,228274,19.75,null,null,1105554,2117881,19195,776520,54305,65388,896213,374980,1201,25522,2266,2551,253455,null,183097,455,null,70813,3223,10645,-2474,-2246,58671,null,733061,null,null,null,null,null,192670,null,1310182,null,null,null,null,19.75,7.2799999999999994,null,null,null,null,210618,0,285240.97049884457,284883.98505843914,null,284883.98505843914,null,{"$f":"N257-CP257","v":358900},-9542.7202997320001,-18025,-384765,5328,24138,5420]
[844,"Tervo",1608,19.75,null,null,9597,19589,9,3505,413,406,4324,6237,9,114,273,68,678,null,832,58,null,-96,83,1,null,-12,null,1853,null,null,-1412,null,null,6038,null,10881,null,null,1611,20.75,null,null,10199,20132,8,3689,376,412,4477,6463,33,163,209,19,1075,null,930,0,null,145,-19,16,-1,-6,103,null,1843,null,null,null,null,null,4164,null,10799,null,null,null,null,20.75,8.2799999999999994,null,null,null,null,4993,0,6356.0783637429913,6271.4937650042211,null,6271.4937650042211,null,6237,8.7166940000000075,-423,-4236,46,1244,33]
[845,"Tervola",3195,19.5,null,null,20345,39967,0,8270,544,2587,11401,11310,43,136,343,64,3275,null,2349,40,null,966,-104,0,null,862,null,13466,null,null,-3127,null,null,6591,null,8091,null,null,3099,19.5,null,null,19572,39359,0,8288,524,2735,11547,12832,19,98,471,95,4861,null,2421,0,null,2440,-10,0,-69,0,2361,null,15822,null,null,null,null,null,8710,null,7365,null,null,null,null,19.5,7.0299999999999994,null,null,null,null,10609,0,10967.668437981818,10297.749323224563,null,10297.749323224563,null,11310,34.866776000000009,-32,-1910,129,125,0]
[846,"Teuva",5482,22,null,null,44784,79714,31,14998,846,960,16804,20463,29,352,79,31,2040,null,3230,346,null,-844,-52,-12,null,-908,null,-5717,null,null,-4917,null,null,4164,null,27527,null,null,5363,22,null,null,44262,78904,7,14603,718,991,16312,20396,23,416,104,24,1711,null,4056,0,null,-2345,16,0,-4,-14,-2347,null,-7742,null,null,null,null,null,5094,null,32755,null,null,null,null,22,{"$f":"CD260-$CE$1","v":9.5299999999999994},null,null,null,null,15552,0,18764.36233732566,17611.369349991284,null,17611.369349991284,null,20463,203.82121056000003,-582,-6472,48,4789,35]
[848,"Tohmajärvi",4738,21.75,null,null,22627,52062,4,12361,932,946,14239,17716,11,175,202,5,2520,null,1549,0,null,971,-8,0,null,963,null,3804,null,null,-2929,null,null,9072,null,12807,null,null,4653,21.75,null,null,22616,52469,-3,11815,988,985,13788,18537,19,110,181,6,2516,null,1848,0,null,668,4,0,-7,2,667,null,1045,null,null,null,null,null,4314,null,12302,null,null,null,null,21.75,9.2799999999999994,null,null,null,null,14210,0,17437.801654502673,16744.008540847266,null,16744.008540847266,null,17716,-14.942904000000009,-8,-3112,326,55,-373]
[849,"Toholampi",3311,21.5,null,null,22036,39335,48,9132,566,731,10429,10986,162,532,26,6,3753,null,3897,-26,null,-170,-21,21,null,-170,null,6304,null,null,-3449,null,null,5352,null,30823,null,null,3232,21.5,null,null,21079,38927,103,8380,555,752,9687,11258,155,450,21,7,2863,null,2842,0,null,21,23,0,0,-13,31,null,6292,null,null,null,null,null,3928,null,27130,null,null,null,null,21.5,9.0299999999999994,null,null,null,null,8751,0,10266.129818898891,9960.6396087654375,null,9960.6396087654375,null,10986,275.19848200000001,-12,-1756,0,47,13]
[850,"Toivakka",2431,20.5,null,null,5883,19251,3,6729,453,569,7751,6977,0,52,36,19,1329,null,807,0,null,522,8,2,null,532,null,2709,null,null,-2967,null,null,1436,null,5104,null,null,2432,20.5,null,null,6265,20135,0,6693,440,570,7703,7416,0,70,23,30,1172,null,984,0,null,188,24,0,0,0,212,null,2901,null,null,null,null,null,1467,null,8131,null,null,null,null,21,8.5299999999999994,null,null,null,null,5093,470,6164.0834665166767,5693.8953945785488,null,5693.8953945785488,null,6977,-23.771669779999968,-85,-3763,1,45,-4]
[851,"Tornio",22199,20.5,null,null,68267,186550,843,71596,2951,4857,79404,52796,35,1825,168,45,13092,null,11963,161,null,1290,65,-385,null,970,null,32031,null,null,-12633,null,null,16799,null,110969,null,null,22117,20.5,null,null,72471,188558,608,72430,6234,2670,81334,53590,42,1571,305,14,18207,null,12281,0,null,5926,0,420,-112,-4,5390,null,39379,null,null,null,null,null,16885,null,105609,null,null,null,null,21,8.5299999999999994,null,null,null,null,32592,0,38753.626339293551,37989.406681663211,null,37989.406681663211,null,52796,18.192985619999991,-1758,-12092,223,2202,398]
[853,"Turku",185908,19.5,null,null,890109,1779124,8911,594644,86235,50006,730885,321028,7075,24537,7016,4686,152716,null,127302,7284,null,32698,-6182,-3868,null,22648,null,277142,null,null,-127864,null,null,222053,null,1268613,null,null,187604,19.5,null,null,919522,1811368,9614,607016,77697,52328,737041,329564,7679,21161,8340,741,174045,null,133323,0,null,40722,15055,3695,-2641,-1618,47823,null,341575,null,null,null,null,null,258627,null,1308280,null,null,null,null,19.5,7.0299999999999994,null,null,null,null,312971,0,255747.52089403983,249401.88193424279,null,249401.88193424279,null,321028,-1736.1201321259989,-19428,-189572,971,29361,-13346]
[857,"Tuusniemi",2719,22,null,null,11325,28193,30,6764,806,953,8523,10012,42,151,222,41,1769,null,1632,0,null,137,78,1,null,216,null,5531,null,null,-2558,null,null,2987,null,9677,null,null,2643,22,null,null,12459,29510,59,7024,706,964,8694,10061,17,136,199,19,1824,null,1732,25,null,117,25,2,-1,-3,136,null,5346,null,null,null,null,null,3421,null,9387,null,null,null,null,22,9.5299999999999994,null,null,null,null,8727,0,9906.4807851660335,9495.4247765418404,null,9495.4247765418404,null,10012,291.76020060000008,-9,-1465,270,25,0]
[858,"Tuusula",38459,19.5,null,null,103812,289250,300,155825,7300,8318,171443,35440,256,1574,346,449,20324,null,19360,0,null,964,-145,10,null,829,null,56279,null,null,-21360,null,null,17519,null,106753,null,null,38588,19.5,null,null,102037,295000,25,161188,6531,8795,176514,39974,148,1349,443,321,22456,null,19544,0,null,2912,-290,55,-124,57,2500,null,58178,null,null,null,null,null,24750,null,132452,null,null,null,null,19.5,7.0299999999999994,null,null,null,null,22087,0,23240.92019719465,21543.358360496106,null,21543.358360496106,null,35440,-642.18375181999909,-6865,-41880,1017,7480,0]
[859,"Tyrnävä",6793,20.5,null,null,13992,49475,34,16603,583,867,18053,20318,5,248,63,27,2716,null,2446,0,null,270,0,0,null,270,null,8256,null,null,-2804,null,null,997,null,19344,null,null,6750,20.5,null,null,14600,51186,36,16635,469,886,17990,20984,4,226,23,28,2197,null,2644,0,null,-447,133,5,-2,18,-303,null,7755,null,null,null,null,null,1695,null,26299,null,null,null,null,20.5,8.0299999999999994,null,null,null,null,15747,0,19115.215286229133,18036.743293024228,null,18036.743293024228,null,20318,-45.15247492000001,-313,-9969,291,356,-1]
[886,"Ulvila",13352,20.5,null,null,33695,101541,-44,44228,1592,2431,48251,22018,29,657,43,24,1578,null,5636,0,null,-4058,-24,-37,null,-4119,null,-6287,null,null,-3507,null,null,8876,null,41626,null,null,13312,20.5,null,null,32538,100196,35,44476,1416,2485,48377,23254,9,540,52,9,3332,null,5316,0,null,-1984,0,9,1,4,-1988,null,-8212,null,null,null,null,null,7142,null,41398,null,null,null,null,21,8.5299999999999994,null,null,null,null,18161,0,21003.551202478127,21260.776794239518,null,21260.776794239518,null,22018,-34.937754794000064,-532,-3911,30,837,5]
[887,"Urjala",4928,22,null,null,15250,41368,0,14163,998,1630,16791,13403,34,194,53,52,3918,null,1355,0,null,2563,-42,-14,null,2507,null,1549,null,null,-5861,null,null,4697,null,15190,null,null,4858,22,null,null,15214,42207,0,13507,893,1556,15956,13672,18,155,59,50,2507,null,1443,26,null,1090,14,1,-20,-29,1054,null,2536,null,null,null,null,null,4150,null,19724,null,null,null,null,21.5,9.0299999999999994,null,null,null,null,11814,800,13437.615347627832,13015.182683698087,null,13015.182683698087,null,13403,-116.64181813999993,-29,-7720,433,135,-2]
[889,"Utajärvi",2861,20.5,null,null,27281,47395,4,6820,901,2520,10241,11955,95,196,41,3,2007,null,2086,0,null,-79,-2,1,null,-80,null,2373,null,null,-3295,null,null,3011,null,13928,null,null,2824,20.5,null,null,27516,46422,-3,6745,877,2685,10307,12433,65,154,11,1,3736,null,2592,0,null,1144,-4,3,-8,-6,1123,null,3493,null,null,null,null,null,3598,null,13809,null,null,null,null,20.5,8.0299999999999994,null,null,null,null,11279,0,11847.119759841895,11369.947498186457,null,11369.947498186457,null,11955,83.555738200000008,-45,-2100,0,87,98]
[890,"Utsjoki",1250,20.75,null,null,6251,16379,0,3571,134,547,4252,6707,4,80,12,9,758,null,791,87,null,54,3,0,null,57,null,-1315,null,null,-1532,null,null,492,null,5993,null,null,1241,20.75,null,null,6521,16586,0,3713,130,616,4459,7162,3,68,10,6,1495,null,766,10,null,739,2,0,0,0,741,null,-514,null,null,null,null,null,1182,null,6745,null,null,null,null,20.75,8.2799999999999994,null,null,null,null,5598,800,6842.8214895068249,7010.128477346917,null,7010.128477346917,null,6707,1.3697661999999999,0,-1348,125,3,-362]
[892,"Uurainen",3666,20.5,null,null,8555,27826,6,9279,549,575,10403,10911,7,259,286,33,2050,null,1717,0,null,333,-14,-8,null,311,null,4630,null,null,-1356,null,null,4205,null,18013,null,null,3717,20.5,null,null,8441,28349,0,9353,585,521,10459,11425,8,171,241,39,2015,null,1701,0,null,314,-1,0,0,5,318,null,4930,null,null,null,null,null,6057,null,20022,null,null,null,null,20.5,8.0299999999999994,null,null,null,null,7629,0,9119.6794514229969,8887.5388544124016,null,8887.5388544124016,null,10911,49.59798885999998,-108,-3571,452,221,-35]
[893,"Uusikaarlepyy",7564,20.5,null,null,26890,67248,27,21085,4746,2089,27920,15816,6,260,1323,167,4307,null,4053,0,null,254,5,-319,null,-60,null,12865,null,null,-9357,null,null,2557,null,31738,null,null,7516,21,null,null,26043,66113,25,21882,3836,2204,27922,16556,16,249,470,159,4511,null,4021,0,null,490,5,0,0,-67,428,null,13375,null,null,null,null,null,3777,null,39998,null,null,null,null,21,8.5299999999999994,null,null,null,null,15668,0,16010.162632040057,16751.380264252166,null,16751.380264252166,null,15816,-112.81892520000002,-89,-12565,959,123,0]
[895,"Uusikaupunki",15510,20.75,null,null,82057,156232,5,53532,3928,4434,61894,28769,132,1313,568,159,15540,null,10533,163,null,5170,-173,-53,null,4944,null,14969,null,null,-9360,null,null,11270,null,71229,null,null,15404,20.75,null,null,82241,155253,3,53681,3263,4806,61750,28518,168,984,184,182,16238,null,10721,0,null,5517,102,0,0,-35,5584,null,20505,null,null,null,null,null,16551,null,68415,null,null,null,null,20.75,8.2799999999999994,null,null,null,null,27283,1500,24698.723499192136,23870.456172432587,null,23870.456172432587,null,28769,183.66074258000003,-679,-13444,34,729,31]
[785,"Vaala",3074,21.5,null,null,26142,47371,4,8293,668,2548,11509,13085,11,209,37,5,3188,null,2111,0,null,1077,133,1,null,1211,null,2429,null,null,-2578,null,null,3120,null,16478,null,null,3040,21.5,null,null,26872,48592,-3,8106,602,2700,11408,13176,10,203,80,3,2730,null,2389,1,null,342,53,3,-2,-2,388,null,2817,null,null,null,null,null,2838,null,15404,null,null,null,null,21.5,9.0299999999999994,null,null,null,null,11769,0,13229.796279779241,12972.654353895125,null,12972.654353895125,null,13085,39.847744000000006,-604,-2340,9,60,60]
[905,"Vaasa",67619,19.5,null,null,387467,720559,5683,227656,31282,19279,278217,122623,510,7933,3099,419,66664,null,56883,0,null,9781,-5502,-100,null,4179,null,127384,null,null,-81413,null,null,34088,null,527971,null,null,67620,20,null,null,374316,710612,995,232485,31309,20069,283863,128513,349,7213,1916,417,69496,null,56735,0,null,12761,955,5601,-523,284,7876,null,134756,null,null,null,null,null,50386,null,568017,null,null,null,null,20,7.5299999999999994,null,null,null,null,92131,0,102049.92526913027,99362.735458496551,null,99362.735458496551,null,122623,-3437.4917862420002,-1860,-87981,4082,7268,195]
[908,"Valkeakoski",21332,19.75,null,null,104595,209694,483,69569,3852,4864,78285,40670,371,1318,710,588,13514,null,15302,0,null,-1788,-338,-24,null,-2150,null,19377,null,null,-16280,null,null,16057,null,84002,null,null,21346,19.75,null,null,104992,210852,246,71105,3741,4917,79763,44256,345,1139,2910,1170,19351,null,16137,0,null,3214,11,650,-671,-102,1802,null,22066,null,null,null,null,null,25796,null,91992,null,null,null,null,19.75,7.2799999999999994,null,null,null,null,26820,0,35581.102007369751,34934.676821585497,null,34934.676821585497,null,40670,-93.268625799999924,-1398,-19616,15,3380,393]
[911,"Valtimo",2324,20,null,null,15551,32349,1,5413,1090,399,6902,10301,118,66,240,654,44,null,1317,0,null,-1273,-3,0,null,-1276,null,6236,null,null,-4056,null,null,4103,null,4489,null,null,2245,21,null,null,19106,34502,0,5057,990,401,6448,9697,14,80,171,2,847,null,1505,0,null,-658,2,0,-1,1,-656,null,5836,null,null,null,null,null,2960,null,7450,null,null,null,null,21,8.5299999999999994,null,null,null,null,8866,0,10160.986959788896,9434.3936586459458,null,9434.3936586459458,null,10301,16.188146,0,-3494,7,0,-143]
[92,"Vantaa",214605,19,null,null,1020493,1862265,4280,786218,75658,72151,934027,156450,11162,27379,798,3318,234248,null,181716,1222,null,53754,-10488,-8623,null,34643,null,451140,null,null,-206798,null,null,188605,null,2089871,null,null,219341,19,null,null,1049758,1877104,1113,813747,66169,73894,953810,195659,10712,21856,4184,2987,313280,null,194869,13526,null,131937,-12699,0,0,-15377,103861,null,548814,null,null,null,null,null,251604,null,2039338,null,null,null,null,19,6.5299999999999994,null,null,null,null,128960,0,168828.49917142058,167541.99430814869,null,167541.99430814869,null,156450,-5496.8356485820077,-48886,-321693,1798,111684,-2642]
[915,"Varkaus",21638,20.75,null,null,115195,239936,259,69485,5310,5214,80009,67573,309,3107,1083,241,21143,null,10587,3,null,10559,-96,-406,null,10057,null,21994,null,null,-17362,null,null,23759,null,172192,null,null,21468,20.75,null,null,119173,247260,140,70996,4056,5250,80302,69898,156,2232,2941,651,22460,null,11668,630,null,11422,-6,354,-180,-331,10551,null,32357,null,null,null,null,null,23826,null,169528,null,null,null,null,21,8.5299999999999994,null,null,null,null,37466,0,47709.43570577327,46589.76066838621,null,46589.76066838621,null,{"$f":"N281-CP281","v":67573},36.037303479999942,-283,-18767,172,-262,38]
[918,"Vehmaa",2276,21.5,null,null,13301,26172,2,6672,362,701,7735,5399,0,193,7,3,76,null,847,-36,null,-807,0,0,null,-807,null,-456,null,null,-1252,null,null,619,null,7914,null,null,2277,21.5,null,null,17086,30211,1,6676,339,707,7722,5718,1,163,13,0,167,null,1457,0,null,-1290,0,0,0,0,-1290,null,-632,null,null,null,null,null,461,null,7288,null,null,null,null,22.25,9.7799999999999994,null,null,null,null,5507,0,5239.7625795469648,5053.5089164341371,null,5053.5089164341371,null,5399,-95.945896100000013,0,-972,4,9,0]
[921,"Vesanto",2191,21,null,null,11107,26570,13,5093,561,517,6171,10575,6,184,203,18,1303,null,1134,82,null,251,-4,1,null,248,null,1513,null,null,-2812,null,null,1365,null,12070,null,null,2148,21,null,null,null,null,null,4724,521,532,5777,null,null,null,null,null,null,null,null,null,null,null,null,null,null,null,null,null,0,null,null,null,null,null,null,null,0,null,null,null,null,21,8.5299999999999994,null,null,null,null,8995,0,10206.342934879278,9546.012336547954,null,9546.012336547954,null,10575,187.076441386,0,0]
[922,"Vesilahti",4489,21.5,null,null,8398,31520,0,14477,435,1117,16029,8159,3,242,37,28,836,null,2035,0,null,-1199,-13,-8,null,-1220,null,1086,null,null,-1145,null,null,1653,null,14769,null,null,4462,21.5,null,null,9550,31270,4,14963,428,1148,16539,8517,1,127,35,27,3222,null,1799,16,null,1439,-10,0,0,-18,1411,null,2496,null,null,null,null,null,2696,null,15089,null,null,null,null,21.5,9.0299999999999994,null,null,null,null,8784,0,7766.4902238589939,7276.6537504091893,null,7276.6537504091893,null,8159,-9.8000545400000263,-467,-2397,190,670,-10]
[924,"Veteli",3302,22,null,null,9243,29349,1,9629,811,725,11165,11152,4,263,26,6,1973,null,2286,-26,null,-339,14,1,null,-324,null,2483,null,null,-2297,null,null,2528,null,23372,null,null,3259,22,null,null,12270,31766,-8,9273,783,726,10782,11268,7,237,91,1,2407,null,2281,-8,null,118,21,61,0,-3,75,null,3336,null,null,null,null,null,2639,null,24160,null,null,null,null,22,9.5299999999999994,null,null,null,null,8174,500,9927.8980108449396,9629.9398128347839,null,9629.9398128347839,null,11152,23.721860100000004,-17,-2805,141,17,-4]
[925,"Vieremä",3757,20.75,null,null,28982,49129,10,9662,2032,814,12508,11731,7,597,262,62,3712,null,2527,1,null,1186,-71,-2,null,1113,null,1162,null,null,-6903,null,null,3471,null,29824,null,null,3721,21,null,null,29301,48905,8,9260,2079,817,12156,11781,4,530,394,165,4044,null,2653,26,null,1417,-1,143,-7,-6,1260,null,3044,null,null,null,null,null,4014,null,30783,null,null,null,null,21,8.5299999999999994,null,null,null,null,8578,0,11794.438943766294,11206.821172344973,null,11206.821172344973,null,11731,93.330887900000022,-46,-3837,84,81,71]
[927,"Vihti",28919,20.5,null,null,93053,228504,-8,109019,3523,7312,119854,29468,65,927,419,352,13068,null,12574,0,null,494,-55,-70,null,369,null,19412,null,null,-12896,null,null,15774,null,89179,null,null,28967,20.5,null,null,95897,225866,-1,113836,3126,7320,124282,25635,44,666,177,275,19223,null,12704,385,null,6904,-3,137,21,-168,6617,null,25997,null,null,null,null,null,17106,null,90779,null,null,null,null,20.5,8.0299999999999994,null,null,null,null,23692,0,23897.396228400659,21590.253074351025,null,21590.253074351025,null,29468,-377.41915253799993,-1029,-19849,872,1565,-6]
[931,"Viitasaari",6666,21,null,null,49603,89428,0,17455,2098,2041,21594,24509,125,435,22,429,5561,null,4839,0,null,722,-74,0,null,648,null,7504,null,null,-3178,null,null,6740,null,44897,null,null,6607,21,null,null,50896,89760,0,16586,2149,1804,20539,25530,338,377,38,740,6464,null,4755,0,null,1709,136,0,0,0,1845,null,8018,null,null,null,null,null,6928,null,42921,null,null,null,null,21,8.5299999999999994,null,null,null,null,20613,0,23900.590492872478,23097.155445816075,null,23097.155445816075,null,24509,-4683.0064942399995,-38,-4361,22,515,17]
[934,"Vimpeli",3073,22,null,null,12213,28388,9,9148,615,766,10529,8738,7,188,69,21,2967,null,1447,0,null,1520,3,20,null,1543,null,-2087,null,null,-1761,null,null,2524,null,19189,null,null,3025,22.25,null,null,11940,28088,5,9192,571,866,10629,8813,1,146,40,29,3166,null,1499,0,null,1667,10,7,-3,-28,1639,null,-422,null,null,null,null,null,2291,null,17101,null,null,null,null,22.25,9.7799999999999994,null,null,null,null,6408,490,8131.3391165496541,7670.2878898212184,null,7670.2878898212184,null,8738,-2734.6136941000004,-23,-1419,0,40,-2]
[935,"Virolahti",3347,20,null,null,11765,29488,-3,8756,1296,1072,11124,8730,81,267,269,1,2210,null,1692,0,null,518,5,0,null,523,null,2474,null,null,-1617,null,null,1096,null,22533,null,null,3267,20,null,null,11470,28716,0,8420,1164,1147,10731,9495,3,243,243,1,2982,null,1741,0,null,1241,0,0,-3,0,1238,null,3325,null,null,null,null,null,2543,null,24378,null,null,null,null,20,7.5299999999999994,null,null,null,null,8836,0,9271.9038480704294,9022.3638758928955,null,9022.3638758928955,null,8730,1369.0190548,-378,-2737,0,407,-3]
[936,"Virrat",7002,20.25,null,null,47401,84857,699,17967,2170,1866,22003,22980,7,303,96,67,7886,null,4103,0,null,3783,-16,-13,null,3754,null,23293,null,null,-3679,null,null,9634,null,14062,null,null,6917,20.25,null,null,48131,86371,589,17935,2086,1886,21907,24232,6,237,89,60,8214,null,4087,37,null,4164,3,118,-5,-34,4010,null,27309,null,null,null,null,null,11940,null,14660,null,null,null,null,20.75,8.2799999999999994,null,null,null,null,17547,0,23455.942594776676,22661.328751608027,null,22661.328751608027,null,22980,141.95758800000002,-463,-6906,678,361,-107]
[946,"Vöyri ",6714,21,null,null,31669,69758,0,19411,2778,1663,23852,17164,3,117,78,61,2830,null,2230,-2,null,598,74,0,null,672,null,6428,null,null,-3983,null,null,1361,null,11185,null,null,6684,21,null,null,32458,70193,0,19123,2391,1691,23205,18522,1,108,74,59,3900,null,2310,-1,null,1589,-1304,0,-1,0,284,null,9080,null,null,null,null,null,2297,null,12316,null,null,null,null,21,8.5299999999999994,null,null,null,null,16840,0,17857.569568116367,17801.359762138018,null,17801.359762138018,null,17164,17.968842059999965,-122,-4179,848,203,0]
[976,"Ylitornio",4291,19.25,null,null,19386,48170,0,10661,846,920,12427,18931,357,58,78,12,2939,null,2305,52,null,686,25,1,null,712,null,7060,null,null,-6170,null,null,13851,null,4811,null,null,4200,19.25,null,null,17195,48640,0,10517,708,957,12182,20894,138,35,80,8,1806,null,2076,0,null,-270,1168,0,-3,0,895,null,12263,null,null,null,null,null,10731,null,4430,null,null,null,null,19.25,6.7799999999999994,null,null,null,null,15882,0,18638.391324218534,18385.017758163118,null,18385.017758163118,null,18931,12.390157899999977,-39,-4523,1030,126,23]
[977,"Ylivieska",15039,21.5,null,null,83730,165332,-39,45824,4831,2698,53353,36533,9,624,106,59,7329,null,6467,0,null,862,-6,2,null,858,null,4181,null,null,-6971,null,null,7803,null,73772,null,null,15199,21.5,null,null,81530,165967,105,45923,3053,5035,54011,39781,8,476,141,37,8841,null,6074,0,null,2767,0,8,-17,11,2753,null,7033,null,null,null,null,null,8981,null,78197,null,null,null,null,21.5,9.0299999999999994,null,null,null,null,25380,0,35164.462349849557,34412.196408799682,null,34412.196408799682,null,36533,199.42550629999991,-852,-22849,160,4304,-4]
[980,"Ylöjärvi",32738,20.5,null,null,80382,223247,7,120315,0,0,120315,38235,24,1051,1240,1277,14595,null,14552,0,null,43,738,56,null,837,null,42463,null,null,-12512,null,null,23450,null,107381,null,null,32799,20.5,null,null,81901,234338,33,124584,0,0,124584,42155,9,756,1154,1243,13472,null,15567,139,null,-1956,-182,111,-18,-153,-2420,null,41067,null,null,null,null,null,28125,null,109241,null,null,null,null,20.5,8.0299999999999994,null,null,null,null,34476,0,41132.187660097763,38955.128600232012,null,38955.128600232012,null,38235,-272.53366411999986,5416,-59766,11,6664,103]
[981,"Ypäjä",2411,21,null,null,12000,24118,1,6694,304,395,7393,5722,2,58,32,10,965,null,917,0,null,48,-1,0,null,47,null,1980,null,null,-1393,null,null,1140,null,4906,null,null,2382,21,null,null,11692,24135,0,6565,316,462,7343,6062,2,37,19,11,934,null,955,0,null,-21,0,0,0,0,-21,null,1982,null,null,null,null,null,1811,null,4538,null,null,null,null,21.5,9.0299999999999994,null,null,null,null,5419,0,5380.4655237991965,4755.2502633553268,null,4755.2502633553268,null,5722,-67.890593840000008,-60,-1123,668,59,25]
[989,"Ähtäri",6068,21.25,null,null,34511,70904,25,17635,1282,1800,20717,19240,28,413,211,273,3143,null,3622,0,null,-479,-54,-23,null,-556,null,-10878,null,null,-5525,null,null,3644,null,43123,null,null,5985,22,null,null,44362,79196,14,17461,1147,2028,20636,20408,17,252,177,71,6095,null,3578,0,null,2517,22,9,-36,-27,2467,null,-8787,null,null,null,null,null,3589,null,46500,null,null,null,null,22,9.5299999999999994,null,null,null,null,15009,0,18224.74869755371,17622.876980260269,null,17622.876980260269,null,19240,-34.804513900000003,-117,-6599,0,641,-184]
[992,"Äänekoski",19646,21.5,null,null,74193,177706,41,62121,6969,3999,73089,47193,828,1496,150,179,16113,null,13723,0,null,2390,-185,0,null,2205,null,1012,null,null,-13069,null,null,14249,null,147664,null,null,19374,21.5,null,null,82437,186239,-23,63116,6789,4529,74434,50894,836,1226,649,113,21649,null,13999,0,null,7650,-10,0,-183,-2,7455,null,9247,null,null,null,null,null,14479,null,140677,null,null,null,null,21.5,9.0299999999999994,null,null,null,null,34725,0,44589.333894093732,41542.354814404862,null,41542.354814404862,null,47193,-23.933551240000028,-996,-19484,817,1473,97]

{"sheet":"väestöennuste","index":3,"n_rows":303,"n_cols":11,"rows_kept":303,"cut":false,"hidden":false,"merged":[]}
["Väestöennuste 2015 kunnittain 2017-2024"]
["TK, 28.9.2015"]
["2017 kuntajako",3,4,6,7,8,9,10,11,12,13]
[]
[null,2015,2016,2017,2018,2019,2020,2021,2022,2023,2024]
[]
[]
["Akaa",{"$f":"pohjatiedot!C3","v":17043},{"$f":"pohjatiedot!AO3","v":16923},17070,17092,17116,17150,17184,17218,17248,17275]
["Alajärvi",{"$f":"pohjatiedot!C4","v":10006},{"$f":"pohjatiedot!AO4","v":9899},10001,9923,9845,9769,9697,9629,9560,9499]
["Alavieska",{"$f":"pohjatiedot!C5","v":2687},{"$f":"pohjatiedot!AO5","v":2639},2650,2631,2615,2599,2586,2572,2560,2549]
["Alavus",{"$f":"pohjatiedot!C6","v":12044},{"$f":"pohjatiedot!AO6","v":11907},11877,11780,11689,11605,11527,11454,11384,11319]
["Asikkala",{"$f":"pohjatiedot!C7","v":8287},{"$f":"pohjatiedot!AO7","v":8323},8294,8262,8239,8219,8200,8184,8172,8159]
["Askola",{"$f":"pohjatiedot!C8","v":5104},{"$f":"pohjatiedot!AO8","v":5046},5169,5220,5270,5320,5365,5410,5449,5490]
["Aura",{"$f":"pohjatiedot!C9","v":3986},{"$f":"pohjatiedot!AO9","v":3984},4035,4058,4079,4099,4118,4134,4152,4168]
["Enonkoski",{"$f":"pohjatiedot!C10","v":1473},{"$f":"pohjatiedot!AO10","v":1453},1462,1445,1430,1416,1401,1388,1375,1363]
["Enontekiö",{"$f":"pohjatiedot!C11","v":1861},{"$f":"pohjatiedot!AO11","v":1872},1896,1902,1910,1917,1926,1936,1945,1956]
["Espoo",{"$f":"pohjatiedot!C12","v":269802},{"$f":"pohjatiedot!AO12","v":274583},273484,277445,281312,285087,288763,292333,295784,299117]
["Eura",{"$f":"pohjatiedot!C13","v":12128},{"$f":"pohjatiedot!AO13","v":12004},12205,12166,12127,12091,12059,12028,11995,11960]
["Eurajoki",{"$f":"pohjatiedot!C14","v":5938},{"$f":"pohjatiedot!AO14","v":9418},5964,5972,5984,5995,6007,6016,6024,6029]
["Evijärvi",{"$f":"pohjatiedot!C15","v":2576},{"$f":"pohjatiedot!AO15","v":2535},2596,2571,2548,2528,2510,2492,2474,2458]
["Forssa",{"$f":"pohjatiedot!C16","v":17422},{"$f":"pohjatiedot!AO16","v":17332},17389,17336,17286,17237,17197,17163,17132,17101]
["Haapajärvi",{"$f":"pohjatiedot!C17","v":7438},{"$f":"pohjatiedot!AO17","v":7332},7381,7332,7284,7237,7195,7153,7117,7080]
["Haapavesi",{"$f":"pohjatiedot!C18","v":7167},{"$f":"pohjatiedot!AO18","v":7098},7069,7020,6974,6927,6886,6844,6803,6763]
["Hailuoto",{"$f":"pohjatiedot!C19","v":993},{"$f":"pohjatiedot!AO19","v":994},995,994,996,997,997,998,999,1000]
["Halsua",{"$f":"pohjatiedot!C20","v":1225},{"$f":"pohjatiedot!AO20","v":1219},1177,1156,1137,1116,1096,1078,1062,1047]
["Hamina",{"$f":"pohjatiedot!C21","v":20851},{"$f":"pohjatiedot!AO21","v":20636},20848,20752,20659,20565,20470,20376,20285,20196]
["Hankasalmi",{"$f":"pohjatiedot!C22","v":5240},{"$f":"pohjatiedot!AO22","v":5159},5213,5171,5133,5096,5063,5031,5000,4971]
["Hanko",{"$f":"pohjatiedot!C23","v":8864},{"$f":"pohjatiedot!AO23","v":8663},8789,8690,8598,8510,8428,8351,8281,8211]
["Harjavalta",{"$f":"pohjatiedot!C24","v":7296},{"$f":"pohjatiedot!AO24","v":7240},7292,7255,7221,7190,7159,7126,7094,7063]
["Hartola",{"$f":"pohjatiedot!C25","v":2982},{"$f":"pohjatiedot!AO25","v":2924},2960,2914,2875,2843,2816,2790,2767,2746]
["Hattula",{"$f":"pohjatiedot!C26","v":9747},{"$f":"pohjatiedot!AO26","v":9682},9788,9807,9824,9837,9848,9861,9873,9885]
["Hausjärvi",{"$f":"pohjatiedot!C27","v":8729},{"$f":"pohjatiedot!AO27","v":8641},8814,8817,8825,8836,8848,8863,8880,8895]
["Heinola",{"$f":"pohjatiedot!C28","v":19575},{"$f":"pohjatiedot!AO28","v":19350},19359,19213,19081,18961,18845,18743,18644,18547]
["Heinävesi",{"$f":"pohjatiedot!C29","v":3574},{"$f":"pohjatiedot!AO29","v":3514},3497,3434,3376,3319,3267,3216,3170,3124]
["Helsinki",{"$f":"pohjatiedot!C30","v":628208},{"$f":"pohjatiedot!AO30","v":635181},634731,641830,648760,655512,662101,668491,674714,680782]
["Hirvensalmi",{"$f":"pohjatiedot!C31","v":2290},{"$f":"pohjatiedot!AO31","v":2274},2287,2265,2241,2222,2203,2188,2174,2160]
["Hollola",{"$f":"pohjatiedot!C32","v":23915},{"$f":"pohjatiedot!AO32","v":23791},23976,23981,23987,23991,23989,23981,23970,23949]
["Honkajoki",{"$f":"pohjatiedot!C33","v":1793},{"$f":"pohjatiedot!AO33","v":1759},1744,1727,1714,1701,1689,1679,1670,1663]
["Huittinen",{"$f":"pohjatiedot!C34","v":10473},{"$f":"pohjatiedot!AO34","v":10403},10383,10337,10295,10258,10220,10189,10158,10130]
["Humppila",{"$f":"pohjatiedot!C35","v":2388},{"$f":"pohjatiedot!AO35","v":2345},2409,2390,2373,2357,2343,2332,2320,2309]
["Hyrynsalmi",{"$f":"pohjatiedot!C36","v":2422},{"$f":"pohjatiedot!AO36","v":2406},2372,2320,2270,2225,2182,2140,2102,2066]
["Hyvinkää",{"$f":"pohjatiedot!C37","v":46463},{"$f":"pohjatiedot!AO37","v":46596},46732,46921,47115,47313,47514,47715,47916,48116]
["Hämeenkyrö",{"$f":"pohjatiedot!C38","v":10667},{"$f":"pohjatiedot!AO38","v":10681},10672,10709,10744,10782,10818,10852,10883,10916]
["Hämeenlinna",{"$f":"pohjatiedot!C39","v":68011},{"$f":"pohjatiedot!AO39","v":67850},68509,68785,69056,69317,69584,69852,70115,70372]
["Ii",{"$f":"pohjatiedot!C40","v":9663},{"$f":"pohjatiedot!AO40","v":9628},9791,9847,9897,9944,9982,10018,10048,10074]
["Iisalmi",{"$f":"pohjatiedot!C41","v":21945},{"$f":"pohjatiedot!AO41","v":21767},22111,22106,22098,22089,22080,22067,22058,22047]
["Iitti",{"$f":"pohjatiedot!C42","v":6910},{"$f":"pohjatiedot!AO42","v":6889},6892,6872,6855,6842,6831,6823,6814,6807]
["Ikaalinen",{"$f":"pohjatiedot!C43","v":7207},{"$f":"pohjatiedot!AO43","v":7128},7229,7209,7195,7182,7175,7172,7171,7173]
["Ilmajoki",{"$f":"pohjatiedot!C44","v":12159},{"$f":"pohjatiedot!AO44","v":12167},12327,12399,12470,12541,12609,12674,12743,12812]
["Ilomantsi",{"$f":"pohjatiedot!C45","v":5336},{"$f":"pohjatiedot!AO45","v":5237},5295,5201,5112,5030,4951,4878,4807,4740]
["Imatra",{"$f":"pohjatiedot!C46","v":27835},{"$f":"pohjatiedot!AO46","v":27517},27722,27589,27470,27359,27254,27152,27052,26951]
["Inari",{"$f":"pohjatiedot!C47","v":6804},{"$f":"pohjatiedot!AO47","v":6825},6800,6796,6797,6800,6803,6810,6817,6823]
["Inkoo",{"$f":"pohjatiedot!C48","v":5541},{"$f":"pohjatiedot!AO48","v":5585},5523,5516,5512,5511,5510,5512,5515,5519]
["Isojoki",{"$f":"pohjatiedot!C49","v":2123},{"$f":"pohjatiedot!AO49","v":2079},2120,2084,2053,2026,2001,1979,1957,1937]
["Isokyrö",{"$f":"pohjatiedot!C50","v":4785},{"$f":"pohjatiedot!AO50","v":4712},4792,4768,4747,4730,4711,4692,4677,4664]
["Janakkala",{"$f":"pohjatiedot!C51","v":16853},{"$f":"pohjatiedot!AO51","v":16709},16857,16866,16878,16885,16896,16906,16915,16924]
["Joensuu",{"$f":"pohjatiedot!C52","v":75514},{"$f":"pohjatiedot!AO52","v":75848},75895,76269,76610,76925,77223,77501,77769,78031]
["Jokioinen",{"$f":"pohjatiedot!C53","v":5425},{"$f":"pohjatiedot!AO53","v":5341},5436,5398,5364,5331,5301,5272,5244,5218]
["Joroinen",{"$f":"pohjatiedot!C54","v":5110},{"$f":"pohjatiedot!AO54","v":5039},5078,5035,4995,4957,4923,4885,4852,4820]
["Joutsa",{"$f":"pohjatiedot!C55","v":4688},{"$f":"pohjatiedot!AO55","v":4673},4639,4582,4533,4486,4442,4403,4366,4327]
["Juuka",{"$f":"pohjatiedot!C56","v":5034},{"$f":"pohjatiedot!AO56","v":4938},4924,4823,4728,4638,4557,4480,4403,4330]
["Juupajoki",{"$f":"pohjatiedot!C57","v":1988},{"$f":"pohjatiedot!AO57","v":1957},1993,1978,1967,1958,1950,1941,1934,1926]
["Juva",{"$f":"pohjatiedot!C58","v":6548},{"$f":"pohjatiedot!AO58","v":6421},6428,6343,6257,6175,6093,6017,5945,5875]
["Jyväskylä",{"$f":"pohjatiedot!C59","v":137368},{"$f":"pohjatiedot!AO59","v":138850},138088,139151,140154,141114,142035,142915,143769,144599]
["Jämijärvi",{"$f":"pohjatiedot!C60","v":1948},{"$f":"pohjatiedot!AO60","v":1915},1974,1961,1952,1942,1934,1929,1925,1922]
["Jämsä",{"$f":"pohjatiedot!C61","v":21542},{"$f":"pohjatiedot!AO61","v":21259},21332,21112,20901,20695,20503,20320,20152,19991]
["Järvenpää",{"$f":"pohjatiedot!C62","v":40900},{"$f":"pohjatiedot!AO62","v":41529},40957,41265,41581,41899,42225,42551,42875,43192]
["Kaarina",{"$f":"pohjatiedot!C63","v":32590},{"$f":"pohjatiedot!AO63","v":32738},32669,32920,33164,33400,33628,33855,34073,34279]
["Kaavi",{"$f":"pohjatiedot!C64","v":3194},{"$f":"pohjatiedot!AO64","v":3154},3133,3095,3062,3029,3001,2972,2946,2921]
["Kajaani",{"$f":"pohjatiedot!C65","v":37622},{"$f":"pohjatiedot!AO65","v":37521},37617,37547,37483,37419,37360,37308,37255,37203]
["Kalajoki",{"$f":"pohjatiedot!C66","v":12621},{"$f":"pohjatiedot!AO66","v":12586},12654,12671,12686,12701,12712,12721,12727,12729]
["Kangasala",{"$f":"pohjatiedot!C67","v":30607},{"$f":"pohjatiedot!AO67","v":31190},30760,30917,31080,31239,31393,31541,31680,31798]
["Kangasniemi",{"$f":"pohjatiedot!C68","v":5628},{"$f":"pohjatiedot!AO68","v":5603},5545,5483,5425,5372,5324,5277,5233,5189]
["Kankaanpää",{"$f":"pohjatiedot!C69","v":11769},{"$f":"pohjatiedot!AO69","v":11637},11737,11672,11610,11549,11492,11440,11389,11343]
["Kannonkoski",{"$f":"pohjatiedot!C70","v":1462},{"$f":"pohjatiedot!AO70","v":1424},1436,1418,1402,1386,1371,1358,1344,1334]
["Kannus",{"$f":"pohjatiedot!C71","v":5590},{"$f":"pohjatiedot!AO71","v":5578},5568,5534,5503,5473,5445,5418,5395,5372]
["Karijoki",{"$f":"pohjatiedot!C72","v":1369},{"$f":"pohjatiedot!AO72","v":1349},1351,1328,1308,1289,1271,1257,1242,1230]
["Karkkila",{"$f":"pohjatiedot!C73","v":8969},{"$f":"pohjatiedot!AO73","v":8911},8897,8873,8853,8838,8825,8819,8815,8814]
["Karstula",{"$f":"pohjatiedot!C74","v":4268},{"$f":"pohjatiedot!AO74","v":4232},4170,4114,4062,4013,3966,3919,3874,3832]
["Karvia",{"$f":"pohjatiedot!C75","v":2475},{"$f":"pohjatiedot!AO75","v":2449},2421,2387,2355,2325,2296,2269,2246,2222]
["Kaskinen",{"$f":"pohjatiedot!C76","v":1285},{"$f":"pohjatiedot!AO76","v":1296},1278,1262,1248,1237,1227,1218,1212,1206]
["Kauhajoki",{"$f":"pohjatiedot!C77","v":13875},{"$f":"pohjatiedot!AO77","v":13772},13865,13799,13741,13687,13640,13599,13561,13526]
["Kauhava",{"$f":"pohjatiedot!C78","v":16784},{"$f":"pohjatiedot!AO78","v":16599},16630,16502,16382,16272,16164,16060,15963,15863]
["Kauniainen",{"$f":"pohjatiedot!C79","v":9486},{"$f":"pohjatiedot!AO79","v":9397},9603,9730,9853,9978,10100,10216,10330,10444]
["Kaustinen",{"$f":"pohjatiedot!C80","v":4305},{"$f":"pohjatiedot!AO80","v":4298},4271,4267,4264,4263,4263,4264,4264,4263]
["Keitele",{"$f":"pohjatiedot!C81","v":2379},{"$f":"pohjatiedot!AO81","v":2346},2340,2311,2283,2257,2232,2208,2187,2166]
["Kemi",{"$f":"pohjatiedot!C82","v":21758},{"$f":"pohjatiedot!AO82","v":21602},21647,21522,21405,21296,21192,21095,21003,20916]
["Kemijärvi",{"$f":"pohjatiedot!C83","v":7766},{"$f":"pohjatiedot!AO83","v":7661},7616,7492,7376,7266,7160,7058,6963,6872]
["Keminmaa",{"$f":"pohjatiedot!C84","v":8388},{"$f":"pohjatiedot!AO84","v":8316},8416,8395,8375,8355,8339,8325,8312,8299]
["Kemiönsaari",{"$f":"pohjatiedot!C85","v":6909},{"$f":"pohjatiedot!AO85","v":6872},6772,6702,6638,6576,6520,6469,6421,6376]
["Kempele",{"$f":"pohjatiedot!C86","v":17066},{"$f":"pohjatiedot!AO86","v":17297},17361,17575,17777,17971,18151,18318,18469,18606]
["Kerava",{"$f":"pohjatiedot!C87","v":35293},{"$f":"pohjatiedot!AO87","v":35511},35832,36107,36384,36660,36937,37211,37484,37751]
["Keuruu",{"$f":"pohjatiedot!C88","v":10117},{"$f":"pohjatiedot!AO88","v":9992},9939,9834,9741,9656,9578,9501,9430,9363]
["Kihniö",{"$f":"pohjatiedot!C89","v":2038},{"$f":"pohjatiedot!AO89","v":1994},2009,1977,1946,1919,1891,1865,1839,1816]
["Kinnula",{"$f":"pohjatiedot!C90","v":1745},{"$f":"pohjatiedot!AO90","v":1699},1747,1737,1727,1719,1712,1706,1699,1692]
["Kirkkonummi",{"$f":"pohjatiedot!C91","v":38649},{"$f":"pohjatiedot!AO91","v":39033},38798,39097,39400,39703,40002,40291,40573,40841]
["Kitee",{"$f":"pohjatiedot!C92","v":10832},{"$f":"pohjatiedot!AO92","v":10719},10603,10433,10279,10129,9987,9854,9725,9602]
["Kittilä",{"$f":"pohjatiedot!C93","v":6416},{"$f":"pohjatiedot!AO93","v":6383},6592,6655,6716,6777,6836,6893,6946,6992]
["Kiuruvesi",{"$f":"pohjatiedot!C94","v":8600},{"$f":"pohjatiedot!AO94","v":8444},8543,8449,8361,8277,8197,8123,8051,7984]
["Kivijärvi",{"$f":"pohjatiedot!C95","v":1200},{"$f":"pohjatiedot!AO95","v":1161},1185,1163,1143,1125,1109,1095,1082,1070]
["Kokemäki",{"$f":"pohjatiedot!C96","v":7591},{"$f":"pohjatiedot!AO96","v":7498},7541,7472,7410,7355,7301,7251,7206,7162]
["Kokkola",{"$f":"pohjatiedot!C97","v":47570},{"$f":"pohjatiedot!AO97","v":47723},47729,47957,48186,48409,48625,48836,49038,49235]
["KOKO MAA (Manner-Suomi)",{"$f":"pohjatiedot!C98","v":5458325},{"$f":"pohjatiedot!AO98","v":5474083},5482281,5503261,5524063,5544619,5564874,5584791,5604290,5623257]
["Kolari",{"$f":"pohjatiedot!C99","v":3848},{"$f":"pohjatiedot!AO99","v":3827},3825,3827,3831,3840,3849,3858,3866,3873]
["Konnevesi",{"$f":"pohjatiedot!C100","v":2757},{"$f":"pohjatiedot!AO100","v":2753},2773,2745,2719,2695,2672,2652,2631,2610]
["Kontiolahti",{"$f":"pohjatiedot!C101","v":14827},{"$f":"pohjatiedot!AO101","v":14806},15108,15306,15493,15669,15838,15996,16147,16290]
["Korsnäs",{"$f":"pohjatiedot!C102","v":2201},{"$f":"pohjatiedot!AO102","v":2171},2202,2197,2194,2192,2191,2193,2197,2199]
["Koski",{"$f":"pohjatiedot!C103","v":2399},{"$f":"pohjatiedot!AO103","v":2416},2424,2419,2413,2407,2400,2395,2388,2385]
["Kotka",{"$f":"pohjatiedot!C104","v":54319},{"$f":"pohjatiedot!AO104","v":54187},54374,54321,54262,54200,54141,54085,54028,53971]
["Kouvola",{"$f":"pohjatiedot!C105","v":85855},{"$f":"pohjatiedot!AO105","v":85306},85697,85356,85030,84722,84419,84130,83852,83577]
["Kristiinankaupunki",{"$f":"pohjatiedot!C106","v":6793},{"$f":"pohjatiedot!AO106","v":6727},6648,6566,6492,6421,6358,6299,6245,6197]
["Kruunupyy",{"$f":"pohjatiedot!C107","v":6682},{"$f":"pohjatiedot!AO107","v":6620},6627,6614,6605,6596,6588,6583,6579,6576]
["Kuhmo",{"$f":"pohjatiedot!C108","v":8806},{"$f":"pohjatiedot!AO108","v":8647},8659,8526,8397,8271,8149,8031,7919,7809]
["Kuhmoinen",{"$f":"pohjatiedot!C109","v":2334},{"$f":"pohjatiedot!AO109","v":2286},2285,2248,2210,2175,2139,2106,2077,2049]
["Kuopio",{"$f":"pohjatiedot!C110","v":112117},{"$f":"pohjatiedot!AO110","v":117740},113230,114128,114980,115790,116572,117323,118050,118754]
["Kuortane",{"$f":"pohjatiedot!C111","v":3715},{"$f":"pohjatiedot!AO111","v":3690},3612,3562,3512,3463,3418,3373,3330,3289]
["Kurikka",{"$f":"pohjatiedot!C112","v":21734},{"$f":"pohjatiedot!AO112","v":21501},21707,21547,21398,21261,21129,21004,20883,20766]
["Kustavi",{"$f":"pohjatiedot!C113","v":895},{"$f":"pohjatiedot!AO113","v":908},892,894,893,893,893,896,898,898]
["Kuusamo",{"$f":"pohjatiedot!C114","v":15688},{"$f":"pohjatiedot!AO114","v":15533},15434,15264,15107,14967,14838,14717,14600,14489]
["Kyyjärvi",{"$f":"pohjatiedot!C115","v":1379},{"$f":"pohjatiedot!AO115","v":1375},1343,1317,1293,1272,1248,1226,1205,1186]
["Kärkölä",{"$f":"pohjatiedot!C116","v":4604},{"$f":"pohjatiedot!AO116","v":4540},4533,4495,4462,4433,4409,4385,4363,4345]
["Kärsämäki",{"$f":"pohjatiedot!C117","v":2658},{"$f":"pohjatiedot!AO117","v":2655},2594,2548,2506,2462,2422,2383,2344,2308]
["Lahti",{"$f":"pohjatiedot!C118","v":118743},{"$f":"pohjatiedot!AO118","v":119452},119587,120041,120476,120897,121300,121683,122060,122425]
["Laihia",{"$f":"pohjatiedot!C119","v":8090},{"$f":"pohjatiedot!AO119","v":8139},8157,8205,8252,8298,8341,8379,8416,8451]
["Laitila",{"$f":"pohjatiedot!C120","v":8520},{"$f":"pohjatiedot!AO120","v":8520},8576,8597,8615,8633,8650,8668,8687,8706]
["Lapinjärvi",{"$f":"pohjatiedot!C121","v":2774},{"$f":"pohjatiedot!AO121","v":2739},2722,2699,2680,2664,2649,2635,2626,2616]
["Lapinlahti",{"$f":"pohjatiedot!C122","v":9982},{"$f":"pohjatiedot!AO122","v":9882},9939,9869,9803,9739,9677,9621,9567,9515]
["Lappajärvi",{"$f":"pohjatiedot!C123","v":3215},{"$f":"pohjatiedot!AO123","v":3176},3149,3102,3057,3016,2977,2940,2906,2872]
["Lappeenranta",{"$f":"pohjatiedot!C124","v":72875},{"$f":"pohjatiedot!AO124","v":72872},73103,73255,73397,73535,73666,73791,73917,74042]
["Lapua",{"$f":"pohjatiedot!C125","v":14609},{"$f":"pohjatiedot!AO125","v":14575},14848,14919,14989,15054,15119,15183,15245,15300]
["Laukaa",{"$f":"pohjatiedot!C126","v":18865},{"$f":"pohjatiedot!AO126","v":18970},18946,19066,19183,19297,19406,19508,19600,19682]
["Lemi",{"$f":"pohjatiedot!C127","v":3073},{"$f":"pohjatiedot!AO127","v":3076},3133,3138,3143,3146,3149,3151,3151,3150]
["Lempäälä",{"$f":"pohjatiedot!C128","v":22536},{"$f":"pohjatiedot!AO128","v":22745},22991,23358,23715,24061,24395,24714,25023,25313]
["Leppävirta",{"$f":"pohjatiedot!C129","v":9953},{"$f":"pohjatiedot!AO129","v":9865},9735,9609,9489,9377,9269,9166,9070,8981]
["Lestijärvi",{"$f":"pohjatiedot!C130","v":798},{"$f":"pohjatiedot!AO130","v":811},799,793,786,783,777,771,768,765]
["Lieksa",{"$f":"pohjatiedot!C131","v":11772},{"$f":"pohjatiedot!AO131","v":11580},11832,11706,11585,11470,11363,11261,11164,11072]
["Lieto",{"$f":"pohjatiedot!C132","v":19263},{"$f":"pohjatiedot!AO132","v":19418},19685,19918,20149,20370,20585,20796,21000,21193]
["Liminka",{"$f":"pohjatiedot!C133","v":9937},{"$f":"pohjatiedot!AO133","v":10000},10104,10267,10418,10554,10671,10776,10870,10952]
["Liperi",{"$f":"pohjatiedot!C134","v":12338},{"$f":"pohjatiedot!AO134","v":12301},12385,12414,12438,12461,12480,12499,12517,12532]
["Lohja",{"$f":"pohjatiedot!C135","v":47353},{"$f":"pohjatiedot!AO135","v":47149},47754,47839,47932,48033,48136,48245,48350,48461]
["Loimaa",{"$f":"pohjatiedot!C136","v":16467},{"$f":"pohjatiedot!AO136","v":16267},16418,16343,16272,16211,16150,16098,16050,16006]
["Loppi",{"$f":"pohjatiedot!C137","v":8175},{"$f":"pohjatiedot!AO137","v":8098},8300,8311,8317,8325,8330,8334,8338,8339]
["Loviisa",{"$f":"pohjatiedot!C138","v":15311},{"$f":"pohjatiedot!AO138","v":15208},15461,15459,15459,15465,15474,15485,15499,15515]
["Luhanka",{"$f":"pohjatiedot!C139","v":761},{"$f":"pohjatiedot!AO139","v":756},737,724,715,706,699,692,685,680]
["Lumijoki",{"$f":"pohjatiedot!C140","v":2076},{"$f":"pohjatiedot!AO140","v":2105},2107,2121,2134,2145,2157,2169,2175,2181]
["Luoto",{"$f":"pohjatiedot!C141","v":5147},{"$f":"pohjatiedot!AO141","v":5176},5257,5332,5406,5478,5549,5618,5687,5753]
["Luumäki",{"$f":"pohjatiedot!C142","v":4860},{"$f":"pohjatiedot!AO142","v":4831},4844,4795,4748,4703,4662,4620,4584,4549]
["Maalahti",{"$f":"pohjatiedot!C143","v":5545},{"$f":"pohjatiedot!AO143","v":5517},5540,5533,5526,5524,5523,5525,5527,5531]
["Marttila",{"$f":"pohjatiedot!C144","v":2028},{"$f":"pohjatiedot!AO144","v":2021},2086,2097,2106,2115,2124,2137,2147,2158]
["Masku",{"$f":"pohjatiedot!C145","v":9706},{"$f":"pohjatiedot!AO145","v":9675},9914,9981,10046,10106,10164,10221,10278,10331]
["Merijärvi",{"$f":"pohjatiedot!C146","v":1134},{"$f":"pohjatiedot!AO146","v":1131},1128,1116,1106,1096,1085,1076,1067,1061]
["Merikarvia",{"$f":"pohjatiedot!C147","v":3185},{"$f":"pohjatiedot!AO147","v":3169},3169,3136,3103,3073,3044,3015,2987,2961]
["Miehikkälä",{"$f":"pohjatiedot!C148","v":2085},{"$f":"pohjatiedot!AO148","v":2034},2065,2041,2020,1997,1976,1957,1938,1921]
["Mikkeli",{"$f":"pohjatiedot!C149","v":54665},{"$f":"pohjatiedot!AO149","v":54517},54633,54651,54665,54678,54690,54707,54722,54732]
["Muhos",{"$f":"pohjatiedot!C150","v":9063},{"$f":"pohjatiedot!AO150","v":8995},9017,9027,9037,9039,9032,9024,9012,8999]
["Multia",{"$f":"pohjatiedot!C151","v":1710},{"$f":"pohjatiedot!AO151","v":1663},1698,1667,1639,1612,1586,1561,1538,1517]
["Muonio",{"$f":"pohjatiedot!C152","v":2358},{"$f":"pohjatiedot!AO152","v":2350},2363,2358,2356,2355,2356,2355,2355,2357]
["Mustasaari",{"$f":"pohjatiedot!C153","v":19302},{"$f":"pohjatiedot!AO153","v":19380},19625,19797,19967,20129,20286,20438,20585,20720]
["Muurame",{"$f":"pohjatiedot!C154","v":9791},{"$f":"pohjatiedot!AO154","v":9941},9880,9969,10055,10139,10216,10290,10360,10427]
["Mynämäki",{"$f":"pohjatiedot!C155","v":7859},{"$f":"pohjatiedot!AO155","v":7842},7835,7798,7761,7729,7701,7678,7657,7638]
["Myrskylä",{"$f":"pohjatiedot!C156","v":1969},{"$f":"pohjatiedot!AO156","v":1986},1976,1973,1976,1978,1982,1987,1991,1994]
["Mäntsälä",{"$f":"pohjatiedot!C157","v":20685},{"$f":"pohjatiedot!AO157","v":20853},20902,21045,21187,21328,21465,21607,21748,21887]
["Mänttä-Vilppula",{"$f":"pohjatiedot!C158","v":10604},{"$f":"pohjatiedot!AO158","v":10448},10394,10250,10113,9988,9869,9758,9656,9565]
["Mäntyharju",{"$f":"pohjatiedot!C159","v":6159},{"$f":"pohjatiedot!AO159","v":6097},6173,6134,6097,6059,6023,5990,5957,5926]
["Naantali",{"$f":"pohjatiedot!C160","v":18961},{"$f":"pohjatiedot!AO160","v":19068},18875,18904,18942,18982,19027,19077,19126,19175]
["Nakkila",{"$f":"pohjatiedot!C161","v":5651},{"$f":"pohjatiedot!AO161","v":5548},5613,5592,5571,5552,5530,5511,5490,5468]
["Nivala",{"$f":"pohjatiedot!C162","v":10876},{"$f":"pohjatiedot!AO162","v":10889},10910,10890,10874,10859,10839,10819,10797,10775]
["Nokia",{"$f":"pohjatiedot!C163","v":33162},{"$f":"pohjatiedot!AO163","v":33210},33340,33585,33824,34055,34282,34500,34710,34904]
["Nousiainen",{"$f":"pohjatiedot!C164","v":4859},{"$f":"pohjatiedot!AO164","v":4815},4859,4865,4869,4875,4881,4887,4894,4900]
["Nurmes",{"$f":"pohjatiedot!C165","v":7996},{"$f":"pohjatiedot!AO165","v":7885},7851,7753,7664,7581,7500,7422,7346,7275]
["Nurmijärvi",{"$f":"pohjatiedot!C166","v":41897},{"$f":"pohjatiedot!AO166","v":42010},42237,42573,42908,43240,43566,43883,44194,44501]
["Närpiö",{"$f":"pohjatiedot!C167","v":9387},{"$f":"pohjatiedot!AO167","v":9439},9323,9303,9288,9274,9263,9254,9246,9240]
["Orimattila",{"$f":"pohjatiedot!C168","v":16326},{"$f":"pohjatiedot!AO168","v":16279},16258,16256,16254,16257,16257,16257,16256,16256]
["Oripää",{"$f":"pohjatiedot!C169","v":1377},{"$f":"pohjatiedot!AO169","v":1363},1429,1431,1436,1437,1438,1439,1440,1441]
["Orivesi",{"$f":"pohjatiedot!C170","v":9408},{"$f":"pohjatiedot!AO170","v":9312},9536,9523,9519,9519,9525,9533,9543,9550]
["Oulainen",{"$f":"pohjatiedot!C171","v":7610},{"$f":"pohjatiedot!AO171","v":7514},7605,7550,7497,7444,7396,7348,7305,7265]
["Oulu",{"$f":"pohjatiedot!C172","v":198525},{"$f":"pohjatiedot!AO172","v":200526},201621,204148,206569,208898,211144,213314,215418,217444]
["Outokumpu",{"$f":"pohjatiedot!C173","v":7139},{"$f":"pohjatiedot!AO173","v":7091},7025,6957,6890,6827,6769,6715,6665,6616]
["Padasjoki",{"$f":"pohjatiedot!C174","v":3143},{"$f":"pohjatiedot!AO174","v":3073},3096,3049,3007,2969,2934,2902,2871,2843]
["Paimio",{"$f":"pohjatiedot!C175","v":10620},{"$f":"pohjatiedot!AO175","v":10713},10734,10788,10842,10899,10955,11009,11059,11108]
["Paltamo",{"$f":"pohjatiedot!C176","v":3488},{"$f":"pohjatiedot!AO176","v":3491},3416,3357,3303,3252,3207,3165,3127,3090]
["Parainen",{"$f":"pohjatiedot!C177","v":15457},{"$f":"pohjatiedot!AO177","v":15398},15497,15500,15502,15504,15511,15516,15523,15529]
["Parikkala",{"$f":"pohjatiedot!C178","v":5235},{"$f":"pohjatiedot!AO178","v":5126},5171,5084,4999,4926,4855,4789,4728,4670]
["Parkano",{"$f":"pohjatiedot!C179","v":6766},{"$f":"pohjatiedot!AO179","v":6692},6700,6650,6606,6561,6520,6481,6445,6407]
["Pedersören kunta",{"$f":"pohjatiedot!C180","v":11129},{"$f":"pohjatiedot!AO180","v":11067},11153,11202,11254,11305,11356,11406,11456,11503]
["Pelkosenniemi",{"$f":"pohjatiedot!C181","v":958},{"$f":"pohjatiedot!AO181","v":951},927,918,910,905,899,892,886,882]
["Pello",{"$f":"pohjatiedot!C182","v":3623},{"$f":"pohjatiedot!AO182","v":3565},3538,3476,3418,3366,3314,3265,3219,3172]
["Perho",{"$f":"pohjatiedot!C183","v":2931},{"$f":"pohjatiedot!AO183","v":2907},2847,2824,2801,2781,2760,2738,2719,2701]
["Pertunmaa",{"$f":"pohjatiedot!C184","v":1817},{"$f":"pohjatiedot!AO184","v":1796},1788,1767,1748,1730,1712,1694,1677,1662]
["Petäjävesi",{"$f":"pohjatiedot!C185","v":4008},{"$f":"pohjatiedot!AO185","v":3981},4091,4099,4107,4116,4124,4130,4138,4145]
["Pieksämäki",{"$f":"pohjatiedot!C186","v":18801},{"$f":"pohjatiedot!AO186","v":18475},18598,18385,18189,18000,17825,17659,17503,17355]
["Pielavesi",{"$f":"pohjatiedot!C187","v":4740},{"$f":"pohjatiedot!AO187","v":4697},4650,4590,4531,4477,4429,4382,4337,4291]
["Pietarsaari",{"$f":"pohjatiedot!C188","v":19436},{"$f":"pohjatiedot!AO188","v":19377},19526,19521,19520,19520,19527,19527,19528,19529]
["Pihtipudas",{"$f":"pohjatiedot!C189","v":4221},{"$f":"pohjatiedot!AO189","v":4202},4096,4022,3949,3881,3816,3754,3696,3640]
["Pirkkala",{"$f":"pohjatiedot!C190","v":18913},{"$f":"pohjatiedot!AO190","v":19163},19554,19980,20396,20797,21186,21561,21921,22263]
["Polvijärvi",{"$f":"pohjatiedot!C191","v":4556},{"$f":"pohjatiedot!AO191","v":4514},4528,4494,4456,4425,4395,4372,4348,4326]
["Pomarkku",{"$f":"pohjatiedot!C192","v":2240},{"$f":"pohjatiedot!AO192","v":2233},2214,2183,2150,2119,2091,2063,2036,2012]
["Pori",{"$f":"pohjatiedot!C193","v":85363},{"$f":"pohjatiedot!AO193","v":85059},85545,85616,85681,85746,85812,85877,85931,85987]
["Pornainen",{"$f":"pohjatiedot!C194","v":5125},{"$f":"pohjatiedot!AO194","v":5108},5161,5175,5195,5213,5235,5257,5282,5303]
["Porvoo",{"$f":"pohjatiedot!C195","v":49928},{"$f":"pohjatiedot!AO195","v":50144},50095,50305,50523,50741,50956,51171,51378,51581]
["Posio",{"$f":"pohjatiedot!C196","v":3477},{"$f":"pohjatiedot!AO196","v":3424},3497,3436,3380,3327,3278,3232,3190,3151]
["Pudasjärvi",{"$f":"pohjatiedot!C197","v":8257},{"$f":"pohjatiedot!AO197","v":8187},8152,8045,7945,7850,7761,7678,7597,7524]
["Pukkila",{"$f":"pohjatiedot!C198","v":1971},{"$f":"pohjatiedot!AO198","v":1988},2017,2018,2021,2023,2029,2033,2041,2048]
["Punkalaidun",{"$f":"pohjatiedot!C199","v":3049},{"$f":"pohjatiedot!AO199","v":3003},3031,2993,2959,2926,2897,2869,2845,2822]
["Puolanka",{"$f":"pohjatiedot!C200","v":2776},{"$f":"pohjatiedot!AO200","v":2735},2711,2659,2610,2564,2523,2487,2452,2421]
["Puumala",{"$f":"pohjatiedot!C201","v":2260},{"$f":"pohjatiedot!AO201","v":2234},2206,2164,2127,2090,2058,2027,1996,1968]
["Pyhtää",{"$f":"pohjatiedot!C202","v":5321},{"$f":"pohjatiedot!AO202","v":5340},5361,5366,5372,5380,5387,5394,5403,5409]
["Pyhäjoki",{"$f":"pohjatiedot!C203","v":3211},{"$f":"pohjatiedot!AO203","v":3188},3251,3235,3219,3204,3191,3176,3162,3149]
["Pyhäjärvi",{"$f":"pohjatiedot!C204","v":5505},{"$f":"pohjatiedot!AO204","v":5446},5375,5289,5211,5138,5068,5002,4939,4879]
["Pyhäntä",{"$f":"pohjatiedot!C205","v":1587},{"$f":"pohjatiedot!AO205","v":1579},1532,1519,1507,1498,1488,1480,1470,1460]
["Pyhäranta",{"$f":"pohjatiedot!C206","v":2136},{"$f":"pohjatiedot!AO206","v":2075},2095,2076,2056,2037,2017,1999,1982,1965]
["Pälkäne",{"$f":"pohjatiedot!C207","v":6676},{"$f":"pohjatiedot!AO207","v":6627},6595,6547,6507,6469,6431,6399,6368,6341]
["Pöytyä",{"$f":"pohjatiedot!C208","v":8562},{"$f":"pohjatiedot!AO208","v":8503},8650,8676,8703,8733,8763,8795,8825,8857]
["Raahe",{"$f":"pohjatiedot!C209","v":25165},{"$f":"pohjatiedot!AO209","v":25010},25229,25150,25068,24982,24897,24815,24735,24654]
["Raasepori",{"$f":"pohjatiedot!C210","v":28405},{"$f":"pohjatiedot!AO210","v":28077},28516,28463,28418,28384,28354,28330,28314,28302]
["Raisio",{"$f":"pohjatiedot!C211","v":24290},{"$f":"pohjatiedot!AO211","v":24283},24416,24435,24457,24485,24516,24551,24586,24626]
["Rantasalmi",{"$f":"pohjatiedot!C212","v":3733},{"$f":"pohjatiedot!AO212","v":3649},3706,3659,3613,3569,3527,3484,3445,3408]
["Ranua",{"$f":"pohjatiedot!C213","v":4020},{"$f":"pohjatiedot!AO213","v":4023},3984,3931,3884,3837,3794,3752,3711,3674]
["Rauma",{"$f":"pohjatiedot!C214","v":39809},{"$f":"pohjatiedot!AO214","v":39614},39989,40008,40028,40048,40069,40095,40123,40151]
["Rautalampi",{"$f":"pohjatiedot!C215","v":3303},{"$f":"pohjatiedot!AO215","v":3288},3300,3271,3241,3212,3186,3162,3141,3119]
["Rautavaara",{"$f":"pohjatiedot!C216","v":1737},{"$f":"pohjatiedot!AO216","v":1723},1712,1685,1661,1635,1610,1587,1565,1544]
["Rautjärvi",{"$f":"pohjatiedot!C217","v":3537},{"$f":"pohjatiedot!AO217","v":3473},3480,3408,3340,3278,3222,3170,3121,3075]
["Reisjärvi",{"$f":"pohjatiedot!C218","v":2894},{"$f":"pohjatiedot!AO218","v":2854},2845,2819,2791,2767,2741,2720,2697,2675]
["Riihimäki",{"$f":"pohjatiedot!C219","v":29269},{"$f":"pohjatiedot!AO219","v":29160},29576,29694,29817,29941,30060,30179,30295,30408]
["Ristijärvi",{"$f":"pohjatiedot!C220","v":1351},{"$f":"pohjatiedot!AO220","v":1345},1366,1347,1329,1313,1300,1286,1273,1262]
["Rovaniemi",{"$f":"pohjatiedot!C221","v":61838},{"$f":"pohjatiedot!AO221","v":62231},62142,62436,62715,62986,63249,63504,63752,63996]
["Ruokolahti",{"$f":"pohjatiedot!C222","v":5312},{"$f":"pohjatiedot!AO222","v":5245},5244,5174,5108,5045,4982,4923,4865,4810]
["Ruovesi",{"$f":"pohjatiedot!C223","v":4623},{"$f":"pohjatiedot!AO223","v":4565},4514,4437,4366,4302,4245,4191,4137,4093]
["Rusko",{"$f":"pohjatiedot!C224","v":6110},{"$f":"pohjatiedot!AO224","v":6137},6123,6159,6193,6228,6264,6303,6343,6384]
["Rääkkylä",{"$f":"pohjatiedot!C225","v":2349},{"$f":"pohjatiedot!AO225","v":2268},2362,2332,2304,2278,2255,2232,2210,2190]
["Saarijärvi",{"$f":"pohjatiedot!C226","v":9915},{"$f":"pohjatiedot!AO226","v":9690},9820,9697,9584,9475,9372,9273,9178,9084]
["Salla",{"$f":"pohjatiedot!C227","v":3727},{"$f":"pohjatiedot!AO227","v":3653},3596,3515,3441,3375,3313,3253,3199,3146]
["Salo",{"$f":"pohjatiedot!C228","v":53890},{"$f":"pohjatiedot!AO228","v":53546},53802,53616,53435,53259,53097,52936,52788,52641]
["Sastamala",{"$f":"pohjatiedot!C229","v":25220},{"$f":"pohjatiedot!AO229","v":25062},25165,25076,24993,24916,24847,24783,24727,24675]
["Sauvo",{"$f":"pohjatiedot!C230","v":3019},{"$f":"pohjatiedot!AO230","v":3047},2980,2975,2972,2971,2971,2972,2973,2974]
["Savitaipale",{"$f":"pohjatiedot!C231","v":3613},{"$f":"pohjatiedot!AO231","v":3534},3550,3500,3451,3405,3361,3321,3281,3245]
["Savonlinna",{"$f":"pohjatiedot!C232","v":35523},{"$f":"pohjatiedot!AO232","v":35242},35392,35141,34900,34675,34460,34253,34050,33861]
["Savukoski",{"$f":"pohjatiedot!C233","v":1061},{"$f":"pohjatiedot!AO233","v":1044},1074,1062,1050,1040,1028,1019,1010,999]
["Seinäjoki",{"$f":"pohjatiedot!C234","v":61530},{"$f":"pohjatiedot!AO234","v":62052},62330,63020,63686,64333,64956,65562,66149,66717]
["Sievi",{"$f":"pohjatiedot!C235","v":5124},{"$f":"pohjatiedot!AO235","v":5069},5085,5049,5013,4978,4946,4917,4888,4860]
["Siikainen",{"$f":"pohjatiedot!C236","v":1527},{"$f":"pohjatiedot!AO236","v":1494},1561,1546,1533,1518,1506,1496,1483,1473]
["Siikajoki",{"$f":"pohjatiedot!C237","v":5466},{"$f":"pohjatiedot!AO237","v":5366},5424,5384,5351,5321,5291,5265,5237,5213]
["Siikalatva",{"$f":"pohjatiedot!C238","v":5677},{"$f":"pohjatiedot!AO238","v":5583},5624,5539,5454,5371,5298,5229,5163,5099]
["Siilinjärvi",{"$f":"pohjatiedot!C239","v":21794},{"$f":"pohjatiedot!AO239","v":21768},21946,22075,22196,22312,22418,22518,22613,22697]
["Simo",{"$f":"pohjatiedot!C240","v":3238},{"$f":"pohjatiedot!AO240","v":3170},3223,3191,3160,3127,3096,3063,3032,3001]
["Sipoo",{"$f":"pohjatiedot!C241","v":19399},{"$f":"pohjatiedot!AO241","v":19922},19321,19469,19626,19785,19945,20107,20270,20426]
["Siuntio",{"$f":"pohjatiedot!C242","v":6182},{"$f":"pohjatiedot!AO242","v":6178},6248,6289,6331,6373,6417,6459,6501,6539]
["Sodankylä",{"$f":"pohjatiedot!C243","v":8782},{"$f":"pohjatiedot!AO243","v":8653},8817,8815,8812,8811,8811,8812,8814,8818]
["Soini",{"$f":"pohjatiedot!C244","v":2224},{"$f":"pohjatiedot!AO244","v":2186},2210,2182,2153,2128,2103,2081,2061,2044]
["Somero",{"$f":"pohjatiedot!C245","v":9093},{"$f":"pohjatiedot!AO245","v":9027},9059,9015,8974,8933,8896,8861,8825,8791]
["Sonkajärvi",{"$f":"pohjatiedot!C246","v":4278},{"$f":"pohjatiedot!AO246","v":4199},4191,4125,4064,4005,3948,3895,3845,3796]
["Sotkamo",{"$f":"pohjatiedot!C247","v":10523},{"$f":"pohjatiedot!AO247","v":10471},10509,10484,10465,10450,10436,10426,10415,10401]
["Sulkava",{"$f":"pohjatiedot!C248","v":2724},{"$f":"pohjatiedot!AO248","v":2661},2713,2678,2643,2610,2578,2545,2516,2486]
["Suomussalmi",{"$f":"pohjatiedot!C249","v":8336},{"$f":"pohjatiedot!AO249","v":8187},8118,7957,7809,7669,7538,7412,7292,7181]
["Suonenjoki",{"$f":"pohjatiedot!C250","v":7390},{"$f":"pohjatiedot!AO250","v":7312},7347,7319,7292,7267,7244,7224,7203,7182]
["Sysmä",{"$f":"pohjatiedot!C251","v":4040},{"$f":"pohjatiedot!AO251","v":3953},3976,3921,3868,3820,3777,3737,3698,3662]
["Säkylä",{"$f":"pohjatiedot!C252","v":7070},{"$f":"pohjatiedot!AO252","v":6988},7014,6945,6882,6821,6768,6717,6671,6629]
["Taipalsaari",{"$f":"pohjatiedot!C253","v":4815},{"$f":"pohjatiedot!AO253","v":4832},4778,4773,4765,4756,4747,4737,4725,4712]
["Taivalkoski",{"$f":"pohjatiedot!C254","v":4199},{"$f":"pohjatiedot!AO254","v":4133},4115,4061,4009,3960,3914,3870,3828,3788]
["Taivassalo",{"$f":"pohjatiedot!C255","v":1633},{"$f":"pohjatiedot!AO255","v":1622},1621,1615,1609,1605,1600,1597,1593,1590]
["Tammela",{"$f":"pohjatiedot!C256","v":6280},{"$f":"pohjatiedot!AO256","v":6241},6285,6236,6192,6152,6117,6085,6054,6028]
["Tampere",{"$f":"pohjatiedot!C257","v":225118},{"$f":"pohjatiedot!AO257","v":228274},227468,229578,231588,233516,235375,237165,238919,240641]
["Tervo",{"$f":"pohjatiedot!C258","v":1608},{"$f":"pohjatiedot!AO258","v":1611},1579,1558,1539,1520,1503,1487,1472,1459]
["Tervola",{"$f":"pohjatiedot!C259","v":3195},{"$f":"pohjatiedot!AO259","v":3099},3162,3127,3093,3061,3032,3009,2985,2963]
["Teuva",{"$f":"pohjatiedot!C260","v":5482},{"$f":"pohjatiedot!AO260","v":5363},5361,5279,5202,5132,5064,5000,4939,4879]
["Tohmajärvi",{"$f":"pohjatiedot!C261","v":4738},{"$f":"pohjatiedot!AO261","v":4653},4662,4605,4549,4497,4446,4400,4360,4323]
["Toholampi",{"$f":"pohjatiedot!C262","v":3311},{"$f":"pohjatiedot!AO262","v":3232},3306,3285,3267,3248,3229,3210,3192,3175]
["Toivakka",{"$f":"pohjatiedot!C263","v":2431},{"$f":"pohjatiedot!AO263","v":2432},2501,2517,2533,2548,2561,2574,2584,2590]
["Tornio",{"$f":"pohjatiedot!C264","v":22199},{"$f":"pohjatiedot!AO264","v":22117},22230,22203,22177,22150,22127,22105,22083,22061]
["Turku",{"$f":"pohjatiedot!C265","v":185908},{"$f":"pohjatiedot!AO265","v":187604},186588,187882,189099,190255,191356,192417,193448,194468]
["Tuusniemi",{"$f":"pohjatiedot!C266","v":2719},{"$f":"pohjatiedot!AO266","v":2643},2698,2680,2663,2650,2634,2620,2608,2595]
["Tuusula",{"$f":"pohjatiedot!C267","v":38459},{"$f":"pohjatiedot!AO267","v":38588},38650,38902,39170,39454,39737,40016,40295,40571]
["Tyrnävä",{"$f":"pohjatiedot!C268","v":6793},{"$f":"pohjatiedot!AO268","v":6750},6894,6964,7025,7075,7120,7160,7199,7231]
["Ulvila",{"$f":"pohjatiedot!C269","v":13352},{"$f":"pohjatiedot!AO269","v":13312},13167,13096,13028,12961,12894,12826,12760,12695]
["Urjala",{"$f":"pohjatiedot!C270","v":4928},{"$f":"pohjatiedot!AO270","v":4858},4804,4726,4657,4592,4536,4484,4438,4394]
["Utajärvi",{"$f":"pohjatiedot!C271","v":2861},{"$f":"pohjatiedot!AO271","v":2824},2851,2828,2807,2788,2767,2747,2726,2706]
["Utsjoki",{"$f":"pohjatiedot!C272","v":1250},{"$f":"pohjatiedot!AO272","v":1241},1238,1236,1233,1230,1227,1225,1223,1219]
["Uurainen",{"$f":"pohjatiedot!C273","v":3666},{"$f":"pohjatiedot!AO273","v":3717},3703,3747,3786,3827,3862,3895,3922,3949]
["Uusikaarlepyy",{"$f":"pohjatiedot!C274","v":7564},{"$f":"pohjatiedot!AO274","v":7516},7547,7561,7575,7593,7610,7626,7642,7658]
["Uusikaupunki",{"$f":"pohjatiedot!C275","v":15510},{"$f":"pohjatiedot!AO275","v":15404},15420,15359,15300,15248,15199,15156,15117,15075]
["Vaala",{"$f":"pohjatiedot!C276","v":3074},{"$f":"pohjatiedot!AO276","v":3040},3020,2967,2919,2874,2832,2794,2759,2726]
["Vaasa",{"$f":"pohjatiedot!C277","v":67619},{"$f":"pohjatiedot!AO277","v":67620},68180,68756,69301,69826,70336,70824,71292,71746]
["Valkeakoski",{"$f":"pohjatiedot!C278","v":21332},{"$f":"pohjatiedot!AO278","v":21346},21298,21371,21442,21510,21580,21650,21718,21783]
["Valtimo",{"$f":"pohjatiedot!C279","v":2324},{"$f":"pohjatiedot!AO279","v":2245},2314,2291,2266,2244,2222,2204,2188,2172]
["Vantaa",{"$f":"pohjatiedot!C280","v":214605},{"$f":"pohjatiedot!AO280","v":219341},215586,218011,220395,222723,224987,227189,229319,231364]
["Varkaus",{"$f":"pohjatiedot!C281","v":21638},{"$f":"pohjatiedot!AO281","v":21468},21364,21141,20930,20730,20541,20367,20199,20041]
["Vehmaa",{"$f":"pohjatiedot!C282","v":2276},{"$f":"pohjatiedot!AO282","v":2277},2311,2301,2291,2283,2277,2272,2269,2265]
["Vesanto",{"$f":"pohjatiedot!C283","v":2191},{"$f":"pohjatiedot!AO283","v":2148},2175,2144,2119,2092,2069,2047,2026,2006]
["Vesilahti",{"$f":"pohjatiedot!C284","v":4489},{"$f":"pohjatiedot!AO284","v":4462},4552,4577,4598,4619,4639,4656,4672,4689]
["Veteli",{"$f":"pohjatiedot!C285","v":3302},{"$f":"pohjatiedot!AO285","v":3259},3275,3246,3222,3197,3176,3154,3134,3116]
["Vieremä",{"$f":"pohjatiedot!C286","v":3757},{"$f":"pohjatiedot!AO286","v":3721},3756,3727,3704,3680,3659,3640,3622,3605]
["Vihti",{"$f":"pohjatiedot!C287","v":28919},{"$f":"pohjatiedot!AO287","v":28967},29338,29514,29686,29857,30030,30204,30374,30544]
["Viitasaari",{"$f":"pohjatiedot!C288","v":6666},{"$f":"pohjatiedot!AO288","v":6607},6593,6508,6428,6355,6282,6214,6149,6088]
["Vimpeli",{"$f":"pohjatiedot!C289","v":3073},{"$f":"pohjatiedot!AO289","v":3025},3021,2981,2945,2910,2878,2847,2819,2790]
["Virolahti",{"$f":"pohjatiedot!C290","v":3347},{"$f":"pohjatiedot!AO290","v":3267},3352,3334,3317,3303,3287,3274,3259,3242]
["Virrat",{"$f":"pohjatiedot!C291","v":7002},{"$f":"pohjatiedot!AO291","v":6917},6948,6855,6765,6681,6601,6526,6453,6386]
["Vöyri ",{"$f":"pohjatiedot!C292","v":6714},{"$f":"pohjatiedot!AO292","v":6684},6693,6699,6707,6716,6727,6740,6751,6762]
["Ylitornio",{"$f":"pohjatiedot!C293","v":4291},{"$f":"pohjatiedot!AO293","v":4200},4163,4082,4006,3938,3871,3810,3753,3700]
["Ylivieska",{"$f":"pohjatiedot!C294","v":15039},{"$f":"pohjatiedot!AO294","v":15199},15387,15581,15766,15945,16114,16276,16430,16576]
["Ylöjärvi",{"$f":"pohjatiedot!C295","v":32738},{"$f":"pohjatiedot!AO295","v":32799},33065,33447,33813,34168,34509,34829,35132,35417]
["Ypäjä",{"$f":"pohjatiedot!C296","v":2411},{"$f":"pohjatiedot!AO296","v":2382},2420,2403,2388,2375,2363,2352,2342,2332]
["Ähtäri",{"$f":"pohjatiedot!C297","v":6068},{"$f":"pohjatiedot!AO297","v":5985},6018,5946,5879,5815,5756,5700,5645,5594]
["Äänekoski",{"$f":"pohjatiedot!C298","v":19646},{"$f":"pohjatiedot!AO298","v":19374},19782,19717,19652,19579,19512,19447,19381,19318]